BEGIN:VCALENDAR
VERSION:2.0
PRODID:-//Noah Webster - ECPv6.15.20//NONSGML v1.0//EN
CALSCALE:GREGORIAN
METHOD:PUBLISH
X-WR-CALNAME:Noah Webster
X-ORIGINAL-URL:https://www.noahwebster.org
X-WR-CALDESC:Events for Noah Webster
REFRESH-INTERVAL;VALUE=DURATION:PT1H
X-Robots-Tag:noindex
X-PUBLISHED-TTL:PT1H
BEGIN:VTIMEZONE
TZID:America/Phoenix
BEGIN:STANDARD
TZOFFSETFROM:-0700
TZOFFSETTO:-0700
TZNAME:MST
DTSTART:20220101T000000
END:STANDARD
END:VTIMEZONE
BEGIN:VEVENT
DTSTART;TZID=America/Phoenix:20230627T170000
DTEND;TZID=America/Phoenix:20230627T183000
DTSTAMP:20260422T181245
CREATED:20230524T184449Z
LAST-MODIFIED:20230524T184449Z
UID:9289-1687885200-1687890600@www.noahwebster.org
SUMMARY:MESA Enrollment Completion Night
DESCRIPTION:
URL:https://www.noahwebster.org/event/mesa-enrollment-completion-night/
LOCATION:Mesa Campus\, 7301 E. Baseline Road\, Mesa\, AZ\, 85209\, United States
CATEGORIES:General
END:VEVENT
BEGIN:VEVENT
DTSTART;TZID=America/Phoenix:20230628T163000
DTEND;TZID=America/Phoenix:20230628T163000
DTSTAMP:20260422T181245
CREATED:20230626T183557Z
LAST-MODIFIED:20230626T183557Z
UID:9411-1687969800-1687969800@www.noahwebster.org
SUMMARY:NWS-Mesa Board Meeting
DESCRIPTION:Please click HERE to view the Board Meeting Notification and Agenda.  This meeting will be held virtually.
URL:https://www.noahwebster.org/event/nws-mesa-board-meeting-60/
CATEGORIES:General
END:VEVENT
BEGIN:VEVENT
DTSTART;TZID=America/Phoenix:20230628T163000
DTEND;TZID=America/Phoenix:20230628T163000
DTSTAMP:20260422T181245
CREATED:20230626T183658Z
LAST-MODIFIED:20230626T183658Z
UID:9412-1687969800-1687969800@www.noahwebster.org
SUMMARY:NWS-Pima Board Meeting
DESCRIPTION:Please click HERE to view the Board Meeting Notification and Agenda.  This meeting will be held virtually.
URL:https://www.noahwebster.org/event/nws-pima-board-meeting-67/
CATEGORIES:General
END:VEVENT
BEGIN:VEVENT
DTSTART;TZID=America/Phoenix:20230629T170000
DTEND;TZID=America/Phoenix:20230629T183000
DTSTAMP:20260422T181245
CREATED:20230524T184557Z
LAST-MODIFIED:20230524T184557Z
UID:9290-1688058000-1688063400@www.noahwebster.org
SUMMARY:PIMA Enrollment Completion Night
DESCRIPTION:
URL:https://www.noahwebster.org/event/pima-enrollment-completion-night/
LOCATION:Pima Campus\, 5399 N. Pima Road\, Scottsdale\, AZ\, 85250\, United States
CATEGORIES:General
END:VEVENT
END:VCALENDAR