BEGIN:VCALENDAR
VERSION:2.0
PRODID:-//Noah Webster - ECPv6.15.20//NONSGML v1.0//EN
CALSCALE:GREGORIAN
METHOD:PUBLISH
X-ORIGINAL-URL:https://www.noahwebster.org
X-WR-CALDESC:Events for Noah Webster
REFRESH-INTERVAL;VALUE=DURATION:PT1H
X-Robots-Tag:noindex
X-PUBLISHED-TTL:PT1H
BEGIN:VTIMEZONE
TZID:America/Phoenix
BEGIN:STANDARD
TZOFFSETFROM:-0700
TZOFFSETTO:-0700
TZNAME:MST
DTSTART:20240101T000000
END:STANDARD
END:VTIMEZONE
BEGIN:VEVENT
DTSTART;VALUE=DATE:20251105
DTEND;VALUE=DATE:20251106
DTSTAMP:20260423T203115
CREATED:20250624T195905Z
LAST-MODIFIED:20250925T184442Z
UID:10888-1762300800-1762387199@www.noahwebster.org
SUMMARY:PIMA Professional Development (Early Dismissal)
DESCRIPTION:
URL:https://www.noahwebster.org/event/pima-professional-development-early-dismissal-33/
LOCATION:Pima Campus\, 5399 N. Pima Road\, Scottsdale\, AZ\, 85250\, United States
CATEGORIES:Early Dismissal
END:VEVENT
BEGIN:VEVENT
DTSTART;TZID=America/Phoenix:20251106T173000
DTEND;TZID=America/Phoenix:20251106T183000
DTSTAMP:20260423T203115
CREATED:20250911T231103Z
LAST-MODIFIED:20250925T184735Z
UID:11119-1762450200-1762453800@www.noahwebster.org
SUMMARY:MESA 3rd & 4th Gr Musical
DESCRIPTION:
URL:https://www.noahwebster.org/event/mesa-3rd-4th-gr-musical/
LOCATION:Mesa Campus\, 7301 E. Baseline Road\, Mesa\, AZ\, 85209\, United States
CATEGORIES:Music
END:VEVENT
BEGIN:VEVENT
DTSTART;TZID=America/Phoenix:20251107T083000
DTEND;TZID=America/Phoenix:20251107T090000
DTSTAMP:20260423T203115
CREATED:20250916T201642Z
LAST-MODIFIED:20250925T184802Z
UID:11126-1762504200-1762506000@www.noahwebster.org
SUMMARY:MESA Pep Assembly (PK-3rd Grade)
DESCRIPTION:
URL:https://www.noahwebster.org/event/mesa-pep-assembly-pk-3rd-grade-4/
LOCATION:Mesa Campus\, 7301 E. Baseline Road\, Mesa\, AZ\, 85209\, United States
CATEGORIES:General
END:VEVENT
BEGIN:VEVENT
DTSTART;TZID=America/Phoenix:20251107T133000
DTEND;TZID=America/Phoenix:20251107T141500
DTSTAMP:20260423T203115
CREATED:20250916T201722Z
LAST-MODIFIED:20250925T184805Z
UID:11127-1762522200-1762524900@www.noahwebster.org
SUMMARY:PIMA Pep Assembly (PK-3rd Grade)
DESCRIPTION:
URL:https://www.noahwebster.org/event/pima-pep-assembly-pk-3rd-grade-3/
LOCATION:Pima Campus\, 5399 N. Pima Road\, Scottsdale\, AZ\, 85250\, United States
CATEGORIES:General
END:VEVENT
BEGIN:VEVENT
DTSTART;VALUE=DATE:20251111
DTEND;VALUE=DATE:20251112
DTSTAMP:20260423T203115
CREATED:20250624T200026Z
LAST-MODIFIED:20250925T184629Z
UID:10890-1762819200-1762905599@www.noahwebster.org
SUMMARY:Veteran's Day (No School)
DESCRIPTION:
URL:https://www.noahwebster.org/event/veterans-day-no-school-5/
LOCATION:AZ
CATEGORIES:Holiday
END:VEVENT
BEGIN:VEVENT
DTSTART;TZID=America/Phoenix:20251112T091500
DTEND;TZID=America/Phoenix:20251112T133000
DTSTAMP:20260423T203115
CREATED:20251105T173613Z
LAST-MODIFIED:20251105T173613Z
UID:11335-1762938900-1762954200@www.noahwebster.org
SUMMARY:PIMA 1st/2nd Gr Field Trip
DESCRIPTION:Herberger Theater
URL:https://www.noahwebster.org/event/pima-1st-2nd-gr-field-trip/
LOCATION:Herberger Theater\, 222 East Monroe Street\, Phoenix\, AZ\, 85004\, United States
CATEGORIES:Field Trip
END:VEVENT
BEGIN:VEVENT
DTSTART;TZID=America/Phoenix:20251114T083000
DTEND;TZID=America/Phoenix:20251114T090000
DTSTAMP:20260423T203115
CREATED:20250916T202013Z
LAST-MODIFIED:20250918T205028Z
UID:11128-1763109000-1763110800@www.noahwebster.org
SUMMARY:MESA Pep Assembly (4th-8th Grade)
DESCRIPTION:
URL:https://www.noahwebster.org/event/mesa-pep-assembly-4th-8th-grade-4/
LOCATION:Mesa Campus\, 7301 E. Baseline Road\, Mesa\, AZ\, 85209\, United States
CATEGORIES:General
END:VEVENT
BEGIN:VEVENT
DTSTART;TZID=America/Phoenix:20251114T133000
DTEND;TZID=America/Phoenix:20251114T141500
DTSTAMP:20260423T203115
CREATED:20250916T202052Z
LAST-MODIFIED:20250918T205239Z
UID:11129-1763127000-1763129700@www.noahwebster.org
SUMMARY:PIMA Pep Assembly (4th-8th Grade)
DESCRIPTION:
URL:https://www.noahwebster.org/event/pima-pep-assembly-4th-8th-grade-5/
LOCATION:Pima Campus\, 5399 N. Pima Road\, Scottsdale\, AZ\, 85250\, United States
CATEGORIES:General
END:VEVENT
BEGIN:VEVENT
DTSTART;TZID=America/Phoenix:20251118T083500
DTEND;TZID=America/Phoenix:20251118T130000
DTSTAMP:20260423T203115
CREATED:20251105T173844Z
LAST-MODIFIED:20251105T173844Z
UID:11337-1763454900-1763470800@www.noahwebster.org
SUMMARY:MESA 1st Gr Field Trip
DESCRIPTION:Herberger Theater
URL:https://www.noahwebster.org/event/mesa-1st-gr-field-trip-12/
LOCATION:Herberger Theater\, 222 East Monroe Street\, Phoenix\, AZ\, 85004\, United States
CATEGORIES:Field Trip
END:VEVENT
BEGIN:VEVENT
DTSTART;VALUE=DATE:20251119
DTEND;VALUE=DATE:20251120
DTSTAMP:20260423T203115
CREATED:20250624T195835Z
LAST-MODIFIED:20250925T184502Z
UID:10887-1763510400-1763596799@www.noahwebster.org
SUMMARY:MESA Professional Development (Early Dismissal)
DESCRIPTION:
URL:https://www.noahwebster.org/event/mesa-professional-development-early-dismissal-35/
LOCATION:Mesa Campus\, 7301 E. Baseline Road\, Mesa\, AZ\, 85209\, United States
CATEGORIES:Early Dismissal
END:VEVENT
BEGIN:VEVENT
DTSTART;VALUE=DATE:20251119
DTEND;VALUE=DATE:20251120
DTSTAMP:20260423T203115
CREATED:20250624T195933Z
LAST-MODIFIED:20250925T184509Z
UID:10889-1763510400-1763596799@www.noahwebster.org
SUMMARY:PIMA Professional Development (Early Dismissal)
DESCRIPTION:
URL:https://www.noahwebster.org/event/pima-professional-development-early-dismissal-34/
LOCATION:Pima Campus\, 5399 N. Pima Road\, Scottsdale\, AZ\, 85250\, United States
CATEGORIES:Early Dismissal
END:VEVENT
BEGIN:VEVENT
DTSTART;TZID=America/Phoenix:20251121T123000
DTEND;TZID=America/Phoenix:20251121T140000
DTSTAMP:20260423T203115
CREATED:20250916T202835Z
LAST-MODIFIED:20251113T165345Z
UID:11131-1763728200-1763733600@www.noahwebster.org
SUMMARY:PIMA Turkey Trot
DESCRIPTION:Turkey Trot Schedule\n5th – 8th Grade: 12:30 pm – 12: 50 pm\n2nd – 4th Grade: 1:00 pm – 1:20 pm\nKG & 1st Grade: 1:30 pm – 1:50 pm\nPre-Kindergarten:  2:00 pm – 2:20 pm
URL:https://www.noahwebster.org/event/pima-turkey-trot-2/
LOCATION:Pima Campus\, 5399 N. Pima Road\, Scottsdale\, AZ\, 85250\, United States
CATEGORIES:School Activity
END:VEVENT
BEGIN:VEVENT
DTSTART;TZID=America/Phoenix:20251121T123000
DTEND;TZID=America/Phoenix:20251121T143000
DTSTAMP:20260423T203115
CREATED:20250916T202723Z
LAST-MODIFIED:20251113T164843Z
UID:11130-1763728200-1763735400@www.noahwebster.org
SUMMARY:MESA Turkey Trot
DESCRIPTION:Turkey Trot Schedule\nKG & 1st Grade: 12:00 pm – 12: 20 pm\n6th – 8th Grade: 12:30 pm – 12: 50 pm\n2nd & 3rd Grade: 1:00 pm – 1:20 pm\n4th & 5th Grade: 1:30 pm – 1:50 pm\nPre-Kindergarten: 2:00 pm – 2:20 pm \n 
URL:https://www.noahwebster.org/event/mesa-turkey-trot-2/
LOCATION:Mesa Campus\, 7301 E. Baseline Road\, Mesa\, AZ\, 85209\, United States
CATEGORIES:School Activity
END:VEVENT
BEGIN:VEVENT
DTSTART;TZID=America/Phoenix:20251121T170000
DTEND;TZID=America/Phoenix:20251121T170000
DTSTAMP:20260423T203115
CREATED:20250925T185510Z
LAST-MODIFIED:20250925T185756Z
UID:11246-1763744400-1763744400@www.noahwebster.org
SUMMARY:MESA After Care Closes at 5:00 pm
DESCRIPTION:Please plan accordingly to avoid late pick up fees.
URL:https://www.noahwebster.org/event/mesa-after-care-closes-at-500-pm-2/
LOCATION:Mesa Campus\, 7301 E. Baseline Road\, Mesa\, AZ\, 85209\, United States
CATEGORIES:General
END:VEVENT
BEGIN:VEVENT
DTSTART;TZID=America/Phoenix:20251121T170000
DTEND;TZID=America/Phoenix:20251121T170000
DTSTAMP:20260423T203115
CREATED:20250925T185555Z
LAST-MODIFIED:20250925T185555Z
UID:11247-1763744400-1763744400@www.noahwebster.org
SUMMARY:PIMA After Care Closes at 5:00 pm
DESCRIPTION:Please plan accordingly to avoid late pick up fees.
URL:https://www.noahwebster.org/event/pima-after-care-closes-at-500-pm-2/
LOCATION:Pima Campus\, 5399 N. Pima Road\, Scottsdale\, AZ\, 85250\, United States
CATEGORIES:General
END:VEVENT
BEGIN:VEVENT
DTSTART;VALUE=DATE:20251124
DTEND;VALUE=DATE:20251129
DTSTAMP:20260423T203115
CREATED:20250624T201055Z
LAST-MODIFIED:20250925T184632Z
UID:10891-1763942400-1764374399@www.noahwebster.org
SUMMARY:Thanksgiving Break (No School)
DESCRIPTION:
URL:https://www.noahwebster.org/event/thanksgiving-break-no-school-4/
LOCATION:AZ
CATEGORIES:Holiday
END:VEVENT
BEGIN:VEVENT
DTSTART;VALUE=DATE:20251202
DTEND;VALUE=DATE:20251206
DTSTAMP:20260423T203115
CREATED:20250916T201314Z
LAST-MODIFIED:20250925T184916Z
UID:11123-1764633600-1764979199@www.noahwebster.org
SUMMARY:MESA Holiday Gift Shop
DESCRIPTION:
URL:https://www.noahwebster.org/event/mesa-holiday-gift-shop-10/
LOCATION:Mesa Campus\, 7301 E. Baseline Road\, Mesa\, AZ\, 85209\, United States
CATEGORIES:School Activity
END:VEVENT
BEGIN:VEVENT
DTSTART;TZID=America/Phoenix:20251202T103000
DTEND;TZID=America/Phoenix:20251202T130000
DTSTAMP:20260423T203115
CREATED:20250918T203450Z
LAST-MODIFIED:20250918T203450Z
UID:11194-1764671400-1764680400@www.noahwebster.org
SUMMARY:PIMA 6th-8th Gr Field Trip
DESCRIPTION:Mavrix Bowlero
URL:https://www.noahwebster.org/event/pima-6th-8th-gr-field-trip-2/
LOCATION:Mavrix Bowlero
CATEGORIES:Field Trip
END:VEVENT
BEGIN:VEVENT
DTSTART;TZID=America/Phoenix:20251202T180000
DTEND;TZID=America/Phoenix:20251202T190000
DTSTAMP:20260423T203115
CREATED:20250916T201356Z
LAST-MODIFIED:20251027T212444Z
UID:11124-1764698400-1764702000@www.noahwebster.org
SUMMARY:MESA KG Musical
DESCRIPTION:
URL:https://www.noahwebster.org/event/mesa-kg-musical/
LOCATION:Mesa Campus\, 7301 E. Baseline Road\, Mesa\, AZ\, 85209\, United States
CATEGORIES:Music
END:VEVENT
BEGIN:VEVENT
DTSTART;VALUE=DATE:20251203
DTEND;VALUE=DATE:20251204
DTSTAMP:20260423T203115
CREATED:20250624T201148Z
LAST-MODIFIED:20250925T184526Z
UID:10892-1764720000-1764806399@www.noahwebster.org
SUMMARY:MESA Professional Development (Early Dismissal)
DESCRIPTION:
URL:https://www.noahwebster.org/event/mesa-professional-development-early-dismissal-36/
LOCATION:Mesa Campus\, 7301 E. Baseline Road\, Mesa\, AZ\, 85209\, United States
CATEGORIES:Early Dismissal
END:VEVENT
BEGIN:VEVENT
DTSTART;VALUE=DATE:20251203
DTEND;VALUE=DATE:20251204
DTSTAMP:20260423T203115
CREATED:20250624T202611Z
LAST-MODIFIED:20250925T184558Z
UID:10896-1764720000-1764806399@www.noahwebster.org
SUMMARY:PIMA Professional Development (Early Dismissal)
DESCRIPTION:
URL:https://www.noahwebster.org/event/pima-professional-development-early-dismissal-36/
LOCATION:Pima Campus\, 5399 N. Pima Road\, Scottsdale\, AZ\, 85250\, United States
CATEGORIES:Early Dismissal
END:VEVENT
BEGIN:VEVENT
DTSTART;TZID=America/Phoenix:20251204T180000
DTEND;TZID=America/Phoenix:20251204T190000
DTSTAMP:20260423T203115
CREATED:20250916T201444Z
LAST-MODIFIED:20251027T212523Z
UID:11125-1764871200-1764874800@www.noahwebster.org
SUMMARY:MESA Band Performance
DESCRIPTION:
URL:https://www.noahwebster.org/event/mesa-band-performance-3/
LOCATION:Mesa Campus\, 7301 E. Baseline Road\, Mesa\, AZ\, 85209\, United States
CATEGORIES:After School Program
END:VEVENT
BEGIN:VEVENT
DTSTART;TZID=America/Phoenix:20251205T090000
DTEND;TZID=America/Phoenix:20251205T133000
DTSTAMP:20260423T203115
CREATED:20251105T173733Z
LAST-MODIFIED:20251105T173733Z
UID:11336-1764925200-1764941400@www.noahwebster.org
SUMMARY:MESA 5th Gr Field Trip
DESCRIPTION:Phoenix Herpetological Society
URL:https://www.noahwebster.org/event/mesa-5th-gr-field-trip-11/
LOCATION:Phoenix Herpetological Sanctuary
CATEGORIES:Field Trip
END:VEVENT
BEGIN:VEVENT
DTSTART;TZID=America/Phoenix:20251205T133000
DTEND;TZID=America/Phoenix:20251205T141500
DTSTAMP:20260423T203115
CREATED:20250916T203054Z
LAST-MODIFIED:20250916T203054Z
UID:11133-1764941400-1764944100@www.noahwebster.org
SUMMARY:PIMA Pep Assembly (PK-3rd Grade)
DESCRIPTION:
URL:https://www.noahwebster.org/event/pima-pep-assembly-pk-3rd-grade-4/
LOCATION:Pima Campus\, 5399 N. Pima Road\, Scottsdale\, AZ\, 85250\, United States
CATEGORIES:General
END:VEVENT
BEGIN:VEVENT
DTSTART;VALUE=DATE:20251209
DTEND;VALUE=DATE:20251213
DTSTAMP:20260423T203115
CREATED:20250916T203314Z
LAST-MODIFIED:20250925T184919Z
UID:11134-1765238400-1765583999@www.noahwebster.org
SUMMARY:PIMA Holiday Gift Shop
DESCRIPTION:
URL:https://www.noahwebster.org/event/pima-holiday-gift-shop-10/
LOCATION:Pima Campus\, 5399 N. Pima Road\, Scottsdale\, AZ\, 85250\, United States
CATEGORIES:School Activity
END:VEVENT
BEGIN:VEVENT
DTSTART;TZID=America/Phoenix:20251209T091500
DTEND;TZID=America/Phoenix:20251209T124500
DTSTAMP:20260423T203115
CREATED:20250918T203619Z
LAST-MODIFIED:20251105T174231Z
UID:11196-1765271700-1765284300@www.noahwebster.org
SUMMARY:PIMA 6th-8th Gr Field Trip
DESCRIPTION:SCC Campus
URL:https://www.noahwebster.org/event/pima-6th-8th-gr-field-trip-3/
LOCATION:Scottsdale Community College
CATEGORIES:Field Trip
END:VEVENT
BEGIN:VEVENT
DTSTART;TZID=America/Phoenix:20251209T180000
DTEND;TZID=America/Phoenix:20251209T190000
DTSTAMP:20260423T203115
CREATED:20250916T203347Z
LAST-MODIFIED:20251027T212554Z
UID:11135-1765303200-1765306800@www.noahwebster.org
SUMMARY:PIMA KG Musical
DESCRIPTION:
URL:https://www.noahwebster.org/event/pima-kg-musical/
LOCATION:Pima Campus\, 5399 N. Pima Road\, Scottsdale\, AZ\, 85250\, United States
CATEGORIES:Music
END:VEVENT
BEGIN:VEVENT
DTSTART;TZID=America/Phoenix:20251211T084500
DTEND;TZID=America/Phoenix:20251211T140000
DTSTAMP:20260423T203115
CREATED:20250903T210744Z
LAST-MODIFIED:20250903T210744Z
UID:11110-1765442700-1765461600@www.noahwebster.org
SUMMARY:MESA 4th Gr Field Trip
DESCRIPTION:Wildlife World Zoo
URL:https://www.noahwebster.org/event/mesa-4th-gr-field-trip-14/
LOCATION:Wildlife World Zoo
CATEGORIES:Field Trip
END:VEVENT
BEGIN:VEVENT
DTSTART;TZID=America/Phoenix:20251211T180000
DTEND;TZID=America/Phoenix:20251211T190000
DTSTAMP:20260423T203115
CREATED:20250916T203451Z
LAST-MODIFIED:20251027T212619Z
UID:11136-1765476000-1765479600@www.noahwebster.org
SUMMARY:PIMA Cheer & Dance Performance
DESCRIPTION:
URL:https://www.noahwebster.org/event/pima-cheer-dance-performance/
LOCATION:Pima Campus\, 5399 N. Pima Road\, Scottsdale\, AZ\, 85250\, United States
CATEGORIES:After School Program
END:VEVENT
BEGIN:VEVENT
DTSTART;TZID=America/Phoenix:20251212T083000
DTEND;TZID=America/Phoenix:20251212T090000
DTSTAMP:20260423T203115
CREATED:20250916T203007Z
LAST-MODIFIED:20250916T203007Z
UID:11132-1765528200-1765530000@www.noahwebster.org
SUMMARY:MESA Pep Assembly (PK-3rd Grade)
DESCRIPTION:
URL:https://www.noahwebster.org/event/mesa-pep-assembly-pk-3rd-grade-5/
LOCATION:Mesa Campus\, 7301 E. Baseline Road\, Mesa\, AZ\, 85209\, United States
CATEGORIES:General
END:VEVENT
END:VCALENDAR