BEGIN:VCALENDAR
VERSION:2.0
PRODID:-//Noah Webster - ECPv6.15.20//NONSGML v1.0//EN
CALSCALE:GREGORIAN
METHOD:PUBLISH
X-WR-CALNAME:Noah Webster
X-ORIGINAL-URL:https://www.noahwebster.org
X-WR-CALDESC:Events for Noah Webster
REFRESH-INTERVAL;VALUE=DURATION:PT1H
X-Robots-Tag:noindex
X-PUBLISHED-TTL:PT1H
BEGIN:VTIMEZONE
TZID:America/Phoenix
BEGIN:STANDARD
TZOFFSETFROM:-0700
TZOFFSETTO:-0700
TZNAME:MST
DTSTART:20210101T000000
END:STANDARD
END:VTIMEZONE
BEGIN:VEVENT
DTSTART;TZID=America/Phoenix:20221012T100000
DTEND;TZID=America/Phoenix:20221012T100000
DTSTAMP:20260423T184717
CREATED:20220907T040658Z
LAST-MODIFIED:20220907T040658Z
UID:8809-1665568800-1665568800@www.noahwebster.org
SUMMARY:MESA Welcome Wednesday
DESCRIPTION:We invite prospective families to tour the school and see what we have to offer! \nTours will be given by one of our Department Directors and each tour can consist of up to three (3) families at a time. \nTo view the available days and to reserve your tour\, please click HERE.
URL:https://www.noahwebster.org/event/mesa-welcome-wednesday-155/
LOCATION:Mesa Campus\, 7301 E. Baseline Road\, Mesa\, AZ\, 85209\, United States
CATEGORIES:New Family Onsite Tours
END:VEVENT
BEGIN:VEVENT
DTSTART;VALUE=DATE:20221012
DTEND;VALUE=DATE:20221013
DTSTAMP:20260423T184717
CREATED:20220819T034621Z
LAST-MODIFIED:20220819T034621Z
UID:8661-1665532800-1665619199@www.noahwebster.org
SUMMARY:PIMA Professional Development Day (Early Dismissal)
DESCRIPTION:
URL:https://www.noahwebster.org/event/pima-professional-development-day-early-dismissal-71/
LOCATION:Pima Campus\, 5399 N. Pima Road\, Scottsdale\, AZ\, 85250\, United States
CATEGORIES:Early Dismissal
END:VEVENT
BEGIN:VEVENT
DTSTART;VALUE=DATE:20221012
DTEND;VALUE=DATE:20221013
DTSTAMP:20260423T184717
CREATED:20220819T034527Z
LAST-MODIFIED:20220819T034527Z
UID:8660-1665532800-1665619199@www.noahwebster.org
SUMMARY:MESA Professional Development Day (Early Dismissal)
DESCRIPTION:
URL:https://www.noahwebster.org/event/mesa-professional-development-day-early-dismissal-62/
LOCATION:Mesa Campus\, 7301 E. Baseline Road\, Mesa\, AZ\, 85209\, United States
CATEGORIES:Early Dismissal
END:VEVENT
BEGIN:VEVENT
DTSTART;TZID=America/Phoenix:20221011T090000
DTEND;TZID=America/Phoenix:20221011T120000
DTSTAMP:20260423T184717
CREATED:20220923T224803Z
LAST-MODIFIED:20220923T224803Z
UID:8869-1665478800-1665489600@www.noahwebster.org
SUMMARY:PIMA 4th Gr. Field Trip
DESCRIPTION:Liberty Wildlife
URL:https://www.noahwebster.org/event/pima-4th-gr-field-trip-2/
LOCATION:Liberty Wildlife\, 2600 E. Elwood St.\, Phoenix\, AZ\, 85040\, United States
CATEGORIES:Field Trip
END:VEVENT
BEGIN:VEVENT
DTSTART;TZID=America/Phoenix:20221011T070000
DTEND;TZID=America/Phoenix:20221011T080000
DTSTAMP:20260423T184717
CREATED:20220819T055950Z
LAST-MODIFIED:20220819T063653Z
UID:8702-1665471600-1665475200@www.noahwebster.org
SUMMARY:MESA Breakfast with Grandparents
DESCRIPTION:This event requires pre-ordered tickets.
URL:https://www.noahwebster.org/event/mesa-breakfast-with-grandparents/
LOCATION:Mesa Campus\, 7301 E. Baseline Road\, Mesa\, AZ\, 85209\, United States
CATEGORIES:School Activity
END:VEVENT
BEGIN:VEVENT
DTSTART;VALUE=DATE:20221010
DTEND;VALUE=DATE:20221015
DTSTAMP:20260423T184717
CREATED:20220819T055811Z
LAST-MODIFIED:20220819T055811Z
UID:8701-1665360000-1665791999@www.noahwebster.org
SUMMARY:MESA Scholastic Book Fair
DESCRIPTION:
URL:https://www.noahwebster.org/event/mesa-scholastic-book-fair-11/
LOCATION:Mesa Campus\, 7301 E. Baseline Road\, Mesa\, AZ\, 85209\, United States
CATEGORIES:School Activity
END:VEVENT
BEGIN:VEVENT
DTSTART;VALUE=DATE:20221006
DTEND;VALUE=DATE:20221008
DTSTAMP:20260423T184717
CREATED:20220819T034435Z
LAST-MODIFIED:20220819T034435Z
UID:8659-1665014400-1665187199@www.noahwebster.org
SUMMARY:Fall Break (No School)
DESCRIPTION:
URL:https://www.noahwebster.org/event/fall-break-no-school-2/
LOCATION:AZ
CATEGORIES:Holiday
END:VEVENT
BEGIN:VEVENT
DTSTART;VALUE=DATE:20220928
DTEND;VALUE=DATE:20220929
DTSTAMP:20260423T184717
CREATED:20220819T034323Z
LAST-MODIFIED:20220819T034323Z
UID:8658-1664323200-1664409599@www.noahwebster.org
SUMMARY:PIMA Professional Development Day (Early Dismissal)
DESCRIPTION:
URL:https://www.noahwebster.org/event/pima-professional-development-day-early-dismissal-70/
LOCATION:Pima Campus\, 5399 N. Pima Road\, Scottsdale\, AZ\, 85250\, United States
CATEGORIES:Early Dismissal
END:VEVENT
BEGIN:VEVENT
DTSTART;VALUE=DATE:20220928
DTEND;VALUE=DATE:20220929
DTSTAMP:20260423T184717
CREATED:20220819T034133Z
LAST-MODIFIED:20220819T034133Z
UID:8656-1664323200-1664409599@www.noahwebster.org
SUMMARY:MESA Professional Development Day (Early Dismissal)
DESCRIPTION:
URL:https://www.noahwebster.org/event/mesa-professional-development-day-early-dismissal-61/
LOCATION:Mesa Campus\, 7301 E. Baseline Road\, Mesa\, AZ\, 85209\, United States
CATEGORIES:Early Dismissal
END:VEVENT
BEGIN:VEVENT
DTSTART;TZID=America/Phoenix:20220927T084500
DTEND;TZID=America/Phoenix:20220927T111500
DTSTAMP:20260423T184717
CREATED:20220923T223706Z
LAST-MODIFIED:20220923T223706Z
UID:8862-1664268300-1664277300@www.noahwebster.org
SUMMARY:PIMA 2nd Gr. Field Trip
DESCRIPTION:Butterfly Wonderland
URL:https://www.noahwebster.org/event/pima-2nd-gr-field-trip-3/
LOCATION:Butterfly Wonderland\, 9500 East Vía de Ventura\, Scottsdale\, AZ\, 85256\, United States
CATEGORIES:Field Trip
END:VEVENT
BEGIN:VEVENT
DTSTART;TZID=America/Phoenix:20220927T083000
DTEND;TZID=America/Phoenix:20220927T103000
DTSTAMP:20260423T184717
CREATED:20220830T213942Z
LAST-MODIFIED:20220830T214046Z
UID:8757-1664267400-1664274600@www.noahwebster.org
SUMMARY:PIMA Absentee Fall Picture Day
DESCRIPTION:Fall Picture Makeup Day for students who were absent on September 21\, 2022.
URL:https://www.noahwebster.org/event/pima-absentee-fall-picture-day/
LOCATION:Pima Campus\, 5399 N. Pima Road\, Scottsdale\, AZ\, 85250\, United States
CATEGORIES:General
END:VEVENT
BEGIN:VEVENT
DTSTART;VALUE=DATE:20220923
DTEND;VALUE=DATE:20220924
DTSTAMP:20260423T184717
CREATED:20220923T050633Z
LAST-MODIFIED:20220923T050633Z
UID:8839-1663891200-1663977599@www.noahwebster.org
SUMMARY:Sandra Day O'Connor Day
DESCRIPTION:
URL:https://www.noahwebster.org/event/sandra-day-oconnor-day/
LOCATION:AZ
CATEGORIES:General
END:VEVENT
BEGIN:VEVENT
DTSTART;VALUE=DATE:20220921
DTEND;VALUE=DATE:20220922
DTSTAMP:20260423T184717
CREATED:20220816T220802Z
LAST-MODIFIED:20220816T220802Z
UID:8639-1663718400-1663804799@www.noahwebster.org
SUMMARY:PIMA Fall Pictures
DESCRIPTION:
URL:https://www.noahwebster.org/event/pima-fall-pictures-5/
LOCATION:Pima Campus\, 5399 N. Pima Road\, Scottsdale\, AZ\, 85250\, United States
CATEGORIES:General
END:VEVENT
BEGIN:VEVENT
DTSTART;TZID=America/Phoenix:20220916T083000
DTEND;TZID=America/Phoenix:20220916T103000
DTSTAMP:20260423T184717
CREATED:20220830T213350Z
LAST-MODIFIED:20220830T214016Z
UID:8755-1663317000-1663324200@www.noahwebster.org
SUMMARY:MESA Absentee Fall Picture Day
DESCRIPTION:Fall Picture Makeup Day for students who were absent on August 30\, 2022.
URL:https://www.noahwebster.org/event/mesa-absentee-fall-picture-day/
LOCATION:Mesa Campus\, 7301 E. Baseline Road\, Mesa\, AZ\, 85209\, United States
CATEGORIES:General
END:VEVENT
BEGIN:VEVENT
DTSTART;VALUE=DATE:20220914
DTEND;VALUE=DATE:20220915
DTSTAMP:20260423T184717
CREATED:20220819T034240Z
LAST-MODIFIED:20220819T034240Z
UID:8657-1663113600-1663199999@www.noahwebster.org
SUMMARY:PIMA Professional Development Day (Early Dismissal)
DESCRIPTION:
URL:https://www.noahwebster.org/event/pima-professional-development-day-early-dismissal-69/
LOCATION:Pima Campus\, 5399 N. Pima Road\, Scottsdale\, AZ\, 85250\, United States
CATEGORIES:Early Dismissal
END:VEVENT
BEGIN:VEVENT
DTSTART;VALUE=DATE:20220914
DTEND;VALUE=DATE:20220915
DTSTAMP:20260423T184717
CREATED:20220819T034029Z
LAST-MODIFIED:20220819T034029Z
UID:8655-1663113600-1663199999@www.noahwebster.org
SUMMARY:MESA Professional Development Day (Early Dismissal)
DESCRIPTION:
URL:https://www.noahwebster.org/event/mesa-professional-development-day-early-dismissal-60/
LOCATION:Mesa Campus\, 7301 E. Baseline Road\, Mesa\, AZ\, 85209\, United States
CATEGORIES:Early Dismissal
END:VEVENT
BEGIN:VEVENT
DTSTART;VALUE=DATE:20220912
DTEND;VALUE=DATE:20220913
DTSTAMP:20260423T184717
CREATED:20220816T221654Z
LAST-MODIFIED:20220816T221654Z
UID:8644-1662940800-1663027199@www.noahwebster.org
SUMMARY:PIMA After School Programs Session 2
DESCRIPTION:Session 2 of After School Programs begins. Sign up forms are available in the front office and online.
URL:https://www.noahwebster.org/event/pima-after-school-programs-session-2/
LOCATION:Pima Campus\, 5399 N. Pima Road\, Scottsdale\, AZ\, 85250\, United States
CATEGORIES:After School Program
END:VEVENT
BEGIN:VEVENT
DTSTART;VALUE=DATE:20220912
DTEND;VALUE=DATE:20220913
DTSTAMP:20260423T184717
CREATED:20220816T221545Z
LAST-MODIFIED:20220816T221603Z
UID:8643-1662940800-1663027199@www.noahwebster.org
SUMMARY:MESA After School Programs Session 2
DESCRIPTION:Session 2 of After School Programs begins. Sign up forms are available in the front office and online.
URL:https://www.noahwebster.org/event/mesa-after-school-programs-session-2/
LOCATION:Mesa Campus\, 7301 E. Baseline Road\, Mesa\, AZ\, 85209\, United States
CATEGORIES:After School Program
END:VEVENT
BEGIN:VEVENT
DTSTART;VALUE=DATE:20220909
DTEND;VALUE=DATE:20220910
DTSTAMP:20260423T184717
CREATED:20220830T213155Z
LAST-MODIFIED:20220830T213155Z
UID:8754-1662681600-1662767999@www.noahwebster.org
SUMMARY:MESA Big Smiles Mobile Dentist
DESCRIPTION:
URL:https://www.noahwebster.org/event/mesa-big-smiles-mobile-dentist/
LOCATION:Mesa Campus\, 7301 E. Baseline Road\, Mesa\, AZ\, 85209\, United States
CATEGORIES:General
END:VEVENT
BEGIN:VEVENT
DTSTART;TZID=America/Phoenix:20220908T183000
DTEND;TZID=America/Phoenix:20220908T193000
DTSTAMP:20260423T184717
CREATED:20220816T230357Z
LAST-MODIFIED:20220816T230357Z
UID:8651-1662661800-1662665400@www.noahwebster.org
SUMMARY:PIMA Curriculum Night (3rd-6th Grades)
DESCRIPTION:
URL:https://www.noahwebster.org/event/pima-curriculum-night-3rd-6th-grades/
LOCATION:Pima Campus\, 5399 N. Pima Road\, Scottsdale\, AZ\, 85250\, United States
CATEGORIES:General
END:VEVENT
BEGIN:VEVENT
DTSTART;TZID=America/Phoenix:20220908T183000
DTEND;TZID=America/Phoenix:20220908T193000
DTSTAMP:20260423T184717
CREATED:20220816T230321Z
LAST-MODIFIED:20220816T230321Z
UID:8650-1662661800-1662665400@www.noahwebster.org
SUMMARY:MESA Curriculum Night (3rd-6th Grades)
DESCRIPTION:
URL:https://www.noahwebster.org/event/mesa-curriculum-night-3rd-6th-grades/
LOCATION:Mesa Campus\, 7301 E. Baseline Road\, Mesa\, AZ\, 85209\, United States
CATEGORIES:General
END:VEVENT
BEGIN:VEVENT
DTSTART;TZID=America/Phoenix:20220908T183000
DTEND;TZID=America/Phoenix:20220908T183000
DTSTAMP:20260423T184717
CREATED:20220816T230228Z
LAST-MODIFIED:20220816T230228Z
UID:8649-1662661800-1662661800@www.noahwebster.org
SUMMARY:PIMA Title I Presentation
DESCRIPTION:
URL:https://www.noahwebster.org/event/pima-title-i-presentation/
LOCATION:Pima Campus\, 5399 N. Pima Road\, Scottsdale\, AZ\, 85250\, United States
CATEGORIES:General
END:VEVENT
BEGIN:VEVENT
DTSTART;TZID=America/Phoenix:20220907T100000
DTEND;TZID=America/Phoenix:20220907T100000
DTSTAMP:20260423T184717
CREATED:20220907T040827Z
LAST-MODIFIED:20220907T040827Z
UID:8810-1662544800-1662544800@www.noahwebster.org
SUMMARY:PIMA Welcome Wednesday
DESCRIPTION:We invite prospective families to tour the school and see what we have to offer! \nTours will be given by one of our Department Directors and each tour can consist of up to three (3) families at a time. \nTo view the available days and to reserve your tour\, please click HERE.
URL:https://www.noahwebster.org/event/pima-welcome-wednesday-157/
LOCATION:Pima Campus\, 5399 N. Pima Road\, Scottsdale\, AZ\, 85250\, United States
CATEGORIES:New Family Onsite Tours
END:VEVENT
BEGIN:VEVENT
DTSTART;TZID=America/Phoenix:20220907T100000
DTEND;TZID=America/Phoenix:20220907T100000
DTSTAMP:20260423T184717
CREATED:20220902T040314Z
LAST-MODIFIED:20220907T040400Z
UID:8806-1662544800-1662544800@www.noahwebster.org
SUMMARY:MESA Welcome Wednesday
DESCRIPTION:We invite prospective families to tour the school and see what we have to offer! \nTours will be given by one of our Department Directors and each tour can consist of up to three (3) families at a time. \nTo view the available days and to reserve your tour\, please click HERE.
URL:https://www.noahwebster.org/event/mesa-welcome-wednesday-153/
LOCATION:Mesa Campus\, 7301 E. Baseline Road\, Mesa\, AZ\, 85209\, United States
CATEGORIES:New Family Onsite Tours
END:VEVENT
BEGIN:VEVENT
DTSTART;VALUE=DATE:20220905
DTEND;VALUE=DATE:20220906
DTSTAMP:20260423T184717
CREATED:20220819T033930Z
LAST-MODIFIED:20220819T033930Z
UID:8654-1662336000-1662422399@www.noahwebster.org
SUMMARY:Labor Day (No School)
DESCRIPTION:
URL:https://www.noahwebster.org/event/labor-day-no-school-2/
LOCATION:AZ
CATEGORIES:Holiday
END:VEVENT
BEGIN:VEVENT
DTSTART;TZID=America/Phoenix:20220901T183000
DTEND;TZID=America/Phoenix:20220901T193000
DTSTAMP:20260423T184717
CREATED:20220816T230101Z
LAST-MODIFIED:20220816T230101Z
UID:8647-1662057000-1662060600@www.noahwebster.org
SUMMARY:PIMA Curriculum Night (PK-2nd Grades)
DESCRIPTION:
URL:https://www.noahwebster.org/event/pima-curriculum-night-pk-2nd-grades/
LOCATION:Pima Campus\, 5399 N. Pima Road\, Scottsdale\, AZ\, 85250\, United States
CATEGORIES:General
END:VEVENT
BEGIN:VEVENT
DTSTART;TZID=America/Phoenix:20220901T183000
DTEND;TZID=America/Phoenix:20220901T193000
DTSTAMP:20260423T184717
CREATED:20220816T230010Z
LAST-MODIFIED:20220816T230010Z
UID:8646-1662057000-1662060600@www.noahwebster.org
SUMMARY:MESA Curriculum Night (PK-2nd Grades)
DESCRIPTION:
URL:https://www.noahwebster.org/event/mesa-curriculum-night-pk-2nd-grades/
LOCATION:Mesa Campus\, 7301 E. Baseline Road\, Mesa\, AZ\, 85209\, United States
CATEGORIES:General
END:VEVENT
BEGIN:VEVENT
DTSTART;TZID=America/Phoenix:20220901T183000
DTEND;TZID=America/Phoenix:20220901T183000
DTSTAMP:20260423T184717
CREATED:20220816T230142Z
LAST-MODIFIED:20220816T230142Z
UID:8648-1662057000-1662057000@www.noahwebster.org
SUMMARY:MESA Title I Presentation
DESCRIPTION:
URL:https://www.noahwebster.org/event/mesa-title-i-presentation/
LOCATION:Mesa Campus\, 7301 E. Baseline Road\, Mesa\, AZ\, 85209\, United States
CATEGORIES:General
END:VEVENT
BEGIN:VEVENT
DTSTART;VALUE=DATE:20220831
DTEND;VALUE=DATE:20220901
DTSTAMP:20260423T184717
CREATED:20220816T220257Z
LAST-MODIFIED:20220816T220257Z
UID:8634-1661904000-1661990399@www.noahwebster.org
SUMMARY:PIMA Professional Development Day (Early Dismissal)
DESCRIPTION:
URL:https://www.noahwebster.org/event/pima-professional-development-day-early-dismissal-68/
LOCATION:Pima Campus\, 5399 N. Pima Road\, Scottsdale\, AZ\, 85250\, United States
CATEGORIES:Early Dismissal
END:VEVENT
BEGIN:VEVENT
DTSTART;VALUE=DATE:20220831
DTEND;VALUE=DATE:20220901
DTSTAMP:20260423T184717
CREATED:20220816T220139Z
LAST-MODIFIED:20220816T220139Z
UID:8632-1661904000-1661990399@www.noahwebster.org
SUMMARY:MESA Professional Development Day (Early Dismissal)
DESCRIPTION:
URL:https://www.noahwebster.org/event/mesa-professional-development-day-early-dismissal-59/
LOCATION:Mesa Campus\, 7301 E. Baseline Road\, Mesa\, AZ\, 85209\, United States
CATEGORIES:Early Dismissal
END:VEVENT
END:VCALENDAR