BEGIN:VCALENDAR
VERSION:2.0
PRODID:-//Noah Webster - ECPv6.15.20//NONSGML v1.0//EN
CALSCALE:GREGORIAN
METHOD:PUBLISH
X-ORIGINAL-URL:https://www.noahwebster.org
X-WR-CALDESC:Events for Noah Webster
REFRESH-INTERVAL;VALUE=DURATION:PT1H
X-Robots-Tag:noindex
X-PUBLISHED-TTL:PT1H
BEGIN:VTIMEZONE
TZID:America/Phoenix
BEGIN:STANDARD
TZOFFSETFROM:-0700
TZOFFSETTO:-0700
TZNAME:MST
DTSTART:20190101T000000
END:STANDARD
END:VTIMEZONE
BEGIN:VEVENT
DTSTART;TZID=America/Phoenix:20200320T130000
DTEND;TZID=America/Phoenix:20200320T130000
DTSTAMP:20260420T221310
CREATED:20200318T180524Z
LAST-MODIFIED:20200318T191825Z
UID:6840-1584709200-1584709200@www.noahwebster.org
SUMMARY:NWS-Mesa Emergency Board Meeting
DESCRIPTION:Please click HERE to view the Board Meeting Notification and Agenda.
URL:https://www.noahwebster.org/event/nws-mesa-emergency-board-meeting-2/
LOCATION:Noah Webster Schools Corporate Offices\, 5399 N. Pima Road\, Scottsdale\, AZ\, 85250\, United States
CATEGORIES:General
END:VEVENT
BEGIN:VEVENT
DTSTART;TZID=America/Phoenix:20200320T130000
DTEND;TZID=America/Phoenix:20200320T170000
DTSTAMP:20260420T221310
CREATED:20200318T180629Z
LAST-MODIFIED:20200318T191902Z
UID:6841-1584709200-1584723600@www.noahwebster.org
SUMMARY:NWS-Pima Emergency Board Meeting
DESCRIPTION:Please click HERE to view the Board Meeting Notification and Agenda.
URL:https://www.noahwebster.org/event/nws-pima-emergency-board-meeting-2/
LOCATION:Noah Webster Schools Corporate Offices\, 5399 N. Pima Road\, Scottsdale\, AZ\, 85250\, United States
CATEGORIES:General
END:VEVENT
BEGIN:VEVENT
DTSTART;TZID=America/Phoenix:20200401T100000
DTEND;TZID=America/Phoenix:20200401T100000
DTSTAMP:20260420T221310
CREATED:20200326T053758Z
LAST-MODIFIED:20200603T162422Z
UID:6875-1585735200-1585735200@www.noahwebster.org
SUMMARY:MESA Virtual Tour with the Principal
DESCRIPTION:Noah Webster Schools would like to invite you to interact with the Principal and receive Admission information via online with Zoom. \nPlease click the link below to join Mrs. Friedermann at Noah Webster Schools-Mesa: \nhttps://us04web.zoom.us/j/496666123?pwd=M3JZVzd0dS9FQythelM4Y0pLcUtEZz09
URL:https://www.noahwebster.org/event/mesa-virtual-tour-with-the-principal/
LOCATION:Mesa Campus\, 7301 E. Baseline Road\, Mesa\, AZ\, 85209\, United States
CATEGORIES:New Family Virtual Tours
END:VEVENT
BEGIN:VEVENT
DTSTART;TZID=America/Phoenix:20200401T100000
DTEND;TZID=America/Phoenix:20200401T100000
DTSTAMP:20260420T221310
CREATED:20200326T054242Z
LAST-MODIFIED:20200603T162411Z
UID:6879-1585735200-1585735200@www.noahwebster.org
SUMMARY:PIMA Virtual Tour with the Principal
DESCRIPTION:Noah Webster Schools would like to invite you to interact with the Principal and receive Admission information via online with Zoom. \nPlease click the link below to join Mr. Rodenbaugh at Noah Webster Schools-Pima: \nhttps://us04web.zoom.us/j/805957014
URL:https://www.noahwebster.org/event/pima-virtual-tour-with-the-principal/
LOCATION:Pima Campus\, 5399 N. Pima Road\, Scottsdale\, AZ\, 85250\, United States
CATEGORIES:New Family Virtual Tours
END:VEVENT
BEGIN:VEVENT
DTSTART;TZID=America/Phoenix:20200408T100000
DTEND;TZID=America/Phoenix:20200408T100000
DTSTAMP:20260420T221310
CREATED:20200326T053950Z
LAST-MODIFIED:20200603T162405Z
UID:6876-1586340000-1586340000@www.noahwebster.org
SUMMARY:MESA Virtual Tour with the Principal
DESCRIPTION:Noah Webster Schools would like to invite you to interact with the Principal and receive Admission information via online with Zoom. \nPlease click the link below to join Mrs. Friedermann at Noah Webster Schools-Mesa: \nhttps://us04web.zoom.us/j/909050545?pwd=ell0R2ZMaitmejRCamIyYkc3Rlppdz09
URL:https://www.noahwebster.org/event/mesa-virtual-tour-with-the-principal-2/
LOCATION:Mesa Campus\, 7301 E. Baseline Road\, Mesa\, AZ\, 85209\, United States
CATEGORIES:New Family Virtual Tours
END:VEVENT
BEGIN:VEVENT
DTSTART;TZID=America/Phoenix:20200408T100000
DTEND;TZID=America/Phoenix:20200408T100000
DTSTAMP:20260420T221310
CREATED:20200326T054401Z
LAST-MODIFIED:20200603T162356Z
UID:6880-1586340000-1586340000@www.noahwebster.org
SUMMARY:PIMA Virtual Tour with the Principal
DESCRIPTION:Noah Webster Schools would like to invite you to interact with the Principal and receive Admission information via online with Zoom. \nPlease click the link below to join Mr. Rodenbaugh at Noah Webster Schools-Pima: \nhttps://us04web.zoom.us/j/805957014
URL:https://www.noahwebster.org/event/pima-virtual-tour-with-the-principal-2/
LOCATION:Pima Campus\, 5399 N. Pima Road\, Scottsdale\, AZ\, 85250\, United States
CATEGORIES:New Family Virtual Tours
END:VEVENT
BEGIN:VEVENT
DTSTART;TZID=America/Phoenix:20200415T100000
DTEND;TZID=America/Phoenix:20200415T100000
DTSTAMP:20260420T221310
CREATED:20200407T210303Z
LAST-MODIFIED:20200603T162345Z
UID:6891-1586944800-1586944800@www.noahwebster.org
SUMMARY:MESA Virtual Tour with the Principal
DESCRIPTION:Noah Webster Schools would like to invite you to interact with the Principal and receive Admission information via online with Zoom. \nPlease click the link below to join Mrs. Friedermann at Noah Webster Schools-Mesa: \nhttps://us04web.zoom.us/j/909050545?pwd=ell0R2ZMaitmejRCamIyYkc3Rlppdz09
URL:https://www.noahwebster.org/event/mesa-virtual-tour-with-the-principal-3/
LOCATION:Mesa Campus\, 7301 E. Baseline Road\, Mesa\, AZ\, 85209\, United States
CATEGORIES:New Family Virtual Tours
END:VEVENT
BEGIN:VEVENT
DTSTART;TZID=America/Phoenix:20200415T100000
DTEND;TZID=America/Phoenix:20200415T100000
DTSTAMP:20260420T221310
CREATED:20200407T210543Z
LAST-MODIFIED:20200603T162338Z
UID:6894-1586944800-1586944800@www.noahwebster.org
SUMMARY:PIMA Virtual Tour with the Principal
DESCRIPTION:Noah Webster Schools would like to invite you to interact with the Principal and receive Admission information via online with Zoom. \nPlease click the link below to join Mr. Rodenbaugh at Noah Webster Schools-Pima: \nhttps://us04web.zoom.us/j/805957014
URL:https://www.noahwebster.org/event/pima-virtual-tour-with-the-principal-3/
LOCATION:Pima Campus\, 5399 N. Pima Road\, Scottsdale\, AZ\, 85250\, United States
CATEGORIES:New Family Virtual Tours
END:VEVENT
BEGIN:VEVENT
DTSTART;TZID=America/Phoenix:20200421T073000
DTEND;TZID=America/Phoenix:20200421T073000
DTSTAMP:20260420T221310
CREATED:20200421T000407Z
LAST-MODIFIED:20200421T000407Z
UID:6928-1587454200-1587454200@www.noahwebster.org
SUMMARY:NWS-Mesa Emergency Board Meeting
DESCRIPTION:Please click HERE to view the Board Meeting Notification and Agenda.
URL:https://www.noahwebster.org/event/nws-mesa-emergency-board-meeting-3/
LOCATION:Noah Webster Schools Corporate Offices\, 5399 N. Pima Road\, Scottsdale\, AZ\, 85250\, United States
CATEGORIES:General
END:VEVENT
BEGIN:VEVENT
DTSTART;TZID=America/Phoenix:20200421T073000
DTEND;TZID=America/Phoenix:20200421T073000
DTSTAMP:20260420T221310
CREATED:20200421T000512Z
LAST-MODIFIED:20200421T000512Z
UID:6929-1587454200-1587454200@www.noahwebster.org
SUMMARY:NWS-Pima Emergency Board Meeting
DESCRIPTION:Please click HERE to view the Board Meeting Notification and Agenda.
URL:https://www.noahwebster.org/event/nws-pima-emergency-board-meeting-3/
LOCATION:Noah Webster Schools Corporate Offices\, 5399 N. Pima Road\, Scottsdale\, AZ\, 85250\, United States
CATEGORIES:General
END:VEVENT
BEGIN:VEVENT
DTSTART;TZID=America/Phoenix:20200422T100000
DTEND;TZID=America/Phoenix:20200422T100000
DTSTAMP:20260420T221310
CREATED:20200407T210348Z
LAST-MODIFIED:20200603T162326Z
UID:6892-1587549600-1587549600@www.noahwebster.org
SUMMARY:MESA Virtual Tour with the Principal
DESCRIPTION:Noah Webster Schools would like to invite you to interact with the Principal and receive Admission information via online with Zoom. \nPlease click the link below to join Mrs. Friedermann at Noah Webster Schools-Mesa: \nhttps://us04web.zoom.us/j/909050545?pwd=ell0R2ZMaitmejRCamIyYkc3Rlppdz09
URL:https://www.noahwebster.org/event/mesa-virtual-tour-with-the-principal-4/
LOCATION:Mesa Campus\, 7301 E. Baseline Road\, Mesa\, AZ\, 85209\, United States
CATEGORIES:New Family Virtual Tours
END:VEVENT
BEGIN:VEVENT
DTSTART;TZID=America/Phoenix:20200422T100000
DTEND;TZID=America/Phoenix:20200422T100000
DTSTAMP:20260420T221310
CREATED:20200407T210641Z
LAST-MODIFIED:20200603T162315Z
UID:6895-1587549600-1587549600@www.noahwebster.org
SUMMARY:PIMA Virtual Tour with the Principal
DESCRIPTION:Noah Webster Schools would like to invite you to interact with the Principal and receive Admission information via online with Zoom. \nPlease click the link below to join Mr. Rodenbaugh at Noah Webster Schools-Pima: \nhttps://us04web.zoom.us/j/805957014
URL:https://www.noahwebster.org/event/pima-virtual-tour-with-the-principal-4/
LOCATION:Pima Campus\, 5399 N. Pima Road\, Scottsdale\, AZ\, 85250\, United States
CATEGORIES:New Family Virtual Tours
END:VEVENT
BEGIN:VEVENT
DTSTART;TZID=America/Phoenix:20200423T090000
DTEND;TZID=America/Phoenix:20200423T093000
DTSTAMP:20260420T221310
CREATED:20200408T051924Z
LAST-MODIFIED:20200408T051924Z
UID:6907-1587632400-1587634200@www.noahwebster.org
SUMMARY:MESA Virtual Coffee with the Principal
DESCRIPTION:Noah Webster Schools would like to invite current Noah Webster parents to visit with the Principal and ask questions via online with Zoom. \nPlease click the link below to join Mrs. Friedermann at Noah Webster Schools-Mesa: \nhttps://us04web.zoom.us/j/553707495?pwd=eHN5Njd5NDNCNkF6a25heUVsMFpXdz09 \nMeeting ID: 553 707 495\nPassword: 025348 \n 
URL:https://www.noahwebster.org/event/mesa-virtual-coffee-with-the-principal/
LOCATION:Mesa Campus\, 7301 E. Baseline Road\, Mesa\, AZ\, 85209\, United States
CATEGORIES:School Activity
END:VEVENT
BEGIN:VEVENT
DTSTART;TZID=America/Phoenix:20200423T090000
DTEND;TZID=America/Phoenix:20200423T093000
DTSTAMP:20260420T221310
CREATED:20200408T052312Z
LAST-MODIFIED:20200408T170212Z
UID:6909-1587632400-1587634200@www.noahwebster.org
SUMMARY:PIMA Virtual Coffee with the Principal
DESCRIPTION:Noah Webster Schools would like to invite current Noah Webster parents to visit with the Principal and ask questions via online with Zoom. \nPlease click the link below to join Mr. Rodenbaugh at Noah Webster Schools-Pima: \nhttps://us04web.zoom.us/j/446876357?pwd=RUxyaWlRVFpBSjJCeUZ1TWM0by9YZz09 \nMeeting ID: 446 876 357\nPassword: 019350
URL:https://www.noahwebster.org/event/pima-virtual-coffee-with-the-principal/
LOCATION:Pima Campus\, 5399 N. Pima Road\, Scottsdale\, AZ\, 85250\, United States
CATEGORIES:School Activity
END:VEVENT
BEGIN:VEVENT
DTSTART;TZID=America/Phoenix:20200429T100000
DTEND;TZID=America/Phoenix:20200429T100000
DTSTAMP:20260420T221310
CREATED:20200407T210434Z
LAST-MODIFIED:20200603T162302Z
UID:6893-1588154400-1588154400@www.noahwebster.org
SUMMARY:MESA Virtual Tour with the Principal
DESCRIPTION:Noah Webster Schools would like to invite you to interact with the Principal and receive Admission information via online with Zoom. \nPlease click the link below to join Mrs. Friedermann at Noah Webster Schools-Mesa: \nhttps://us04web.zoom.us/j/909050545?pwd=ell0R2ZMaitmejRCamIyYkc3Rlppdz09
URL:https://www.noahwebster.org/event/mesa-virtual-tour-with-the-principal-5/
LOCATION:Mesa Campus\, 7301 E. Baseline Road\, Mesa\, AZ\, 85209\, United States
CATEGORIES:New Family Virtual Tours
END:VEVENT
BEGIN:VEVENT
DTSTART;TZID=America/Phoenix:20200429T100000
DTEND;TZID=America/Phoenix:20200429T100000
DTSTAMP:20260420T221310
CREATED:20200407T210730Z
LAST-MODIFIED:20200603T162253Z
UID:6896-1588154400-1588154400@www.noahwebster.org
SUMMARY:PIMA Virtual Tour with the Principal
DESCRIPTION:Noah Webster Schools would like to invite you to interact with the Principal and receive Admission information via online with Zoom. \nPlease click the link below to join Mr. Rodenbaugh at Noah Webster Schools-Pima: \nhttps://us04web.zoom.us/j/805957014
URL:https://www.noahwebster.org/event/pima-virtual-tour-with-the-principal-5/
LOCATION:Pima Campus\, 5399 N. Pima Road\, Scottsdale\, AZ\, 85250\, United States
CATEGORIES:New Family Virtual Tours
END:VEVENT
BEGIN:VEVENT
DTSTART;TZID=America/Phoenix:20200430T183000
DTEND;TZID=America/Phoenix:20200430T183000
DTSTAMP:20260420T221310
CREATED:20200427T181750Z
LAST-MODIFIED:20200427T182001Z
UID:6932-1588271400-1588271400@www.noahwebster.org
SUMMARY:MESA 2020-2021 Virtual 6th Grade Orientation
DESCRIPTION:Please click on the Zoom link below to access the 2020-2021 6th Grade Orientation: \nhttps://us04web.zoom.us/j/75364049096?pwd=cCtWSjh4em5XNmxJazU4NU9ROUZNZz09 \nMeeting ID: 753 6404 9096\nPassword: 6thgrade
URL:https://www.noahwebster.org/event/mesa-2020-2021-virtual-6th-grade-orientation/
LOCATION:Mesa Campus\, 7301 E. Baseline Road\, Mesa\, AZ\, 85209\, United States
CATEGORIES:School Activity
END:VEVENT
BEGIN:VEVENT
DTSTART;TZID=America/Phoenix:20200430T183000
DTEND;TZID=America/Phoenix:20200430T183000
DTSTAMP:20260420T221310
CREATED:20200427T181934Z
LAST-MODIFIED:20200427T181934Z
UID:6933-1588271400-1588271400@www.noahwebster.org
SUMMARY:PIMA 2020-2021 Virtual 5th & 6th Grade Orientation
DESCRIPTION:Please click on the Zoom link below to access the 2020-2021 5th & 6th Grade Orientation: \nhttps://us04web.zoom.us/j/78782027952pwd=dlJPN0U3eXplSTFUUXloczF4eE9OUT09 \nMeeting ID: 787 8202 7952\nPassword: 027020
URL:https://www.noahwebster.org/event/pima-2020-2021-virtual-5th-6th-grade-orientation/
LOCATION:Pima Campus\, 5399 N. Pima Road\, Scottsdale\, AZ\, 85250\, United States
CATEGORIES:School Activity
END:VEVENT
BEGIN:VEVENT
DTSTART;TZID=America/Phoenix:20200506T100000
DTEND;TZID=America/Phoenix:20200506T100000
DTSTAMP:20260420T221310
CREATED:20200408T043929Z
LAST-MODIFIED:20200603T162240Z
UID:6900-1588759200-1588759200@www.noahwebster.org
SUMMARY:MESA Virtual Tour with the Principal
DESCRIPTION:Noah Webster Schools would like to invite you to interact with the Principal and receive Admission information via online with Zoom. \nPlease click the link below to join Mrs. Friedermann at Noah Webster Schools-Mesa: \nhttps://us04web.zoom.us/j/909050545?pwd=ell0R2ZMaitmejRCamIyYkc3Rlppdz09 \n 
URL:https://www.noahwebster.org/event/mesa-virtual-tour-with-the-principal-6/
LOCATION:Mesa Campus\, 7301 E. Baseline Road\, Mesa\, AZ\, 85209\, United States
CATEGORIES:New Family Virtual Tours
END:VEVENT
BEGIN:VEVENT
DTSTART;TZID=America/Phoenix:20200506T100000
DTEND;TZID=America/Phoenix:20200506T100000
DTSTAMP:20260420T221310
CREATED:20200408T044349Z
LAST-MODIFIED:20200603T162231Z
UID:6903-1588759200-1588759200@www.noahwebster.org
SUMMARY:PIMA Virtual Tour with the Principal
DESCRIPTION:Noah Webster Schools would like to invite you to interact with the Principal and receive Admission information via online with Zoom. \nPlease click the link below to join Mr. Rodenbaugh at Noah Webster Schools-Pima: \nhttps://us04web.zoom.us/j/805957014
URL:https://www.noahwebster.org/event/pima-virtual-tour-with-the-principal-6/
LOCATION:Pima Campus\, 5399 N. Pima Road\, Scottsdale\, AZ\, 85250\, United States
CATEGORIES:New Family Virtual Tours
END:VEVENT
BEGIN:VEVENT
DTSTART;TZID=America/Phoenix:20200512T183000
DTEND;TZID=America/Phoenix:20200512T183000
DTSTAMP:20260420T221310
CREATED:20200427T181240Z
LAST-MODIFIED:20200427T181518Z
UID:6930-1589308200-1589308200@www.noahwebster.org
SUMMARY:MESA Virtual Evening Coffee with the Principal
DESCRIPTION:Please click on the Zoom link below to join Ms. Friedermann for Coffee with the Principal: \nhttps://us04web.zoom.us/j/75579848449?pwd=aXdLYytFYjhDOHg5Vy9DaURueUx5UT09 \nMeeting ID: 755 7984 8449\nPassword: Coffee
URL:https://www.noahwebster.org/event/virtual-evening-coffee-with-the-principal/
LOCATION:Mesa Campus\, 7301 E. Baseline Road\, Mesa\, AZ\, 85209\, United States
CATEGORIES:School Activity
END:VEVENT
BEGIN:VEVENT
DTSTART;TZID=America/Phoenix:20200512T183000
DTEND;TZID=America/Phoenix:20200512T183000
DTSTAMP:20260420T221310
CREATED:20200427T181407Z
LAST-MODIFIED:20200603T162203Z
UID:6931-1589308200-1589308200@www.noahwebster.org
SUMMARY:PIMA Virtual Evening Coffee with the Principal
DESCRIPTION:Please click on the Zoom link below to join Mr. Rodenbaugh for Coffee with the Principal: \nhttps://us04web.zoom.us/j/71677456280?pwd=RzB2T3BJanhZWnIyN1B1ejd0Y0ZJZz09 \nMeeting ID: 716 7745 6280\nPassword: 025664
URL:https://www.noahwebster.org/event/pima-virtual-evening-coffee-with-the-principal/
LOCATION:Pima Campus\, 5399 N. Pima Road\, Scottsdale\, AZ\, 85250\, United States
CATEGORIES:School Activity
END:VEVENT
BEGIN:VEVENT
DTSTART;TZID=America/Phoenix:20200513T100000
DTEND;TZID=America/Phoenix:20200513T100000
DTSTAMP:20260420T221310
CREATED:20200408T044023Z
LAST-MODIFIED:20200603T162145Z
UID:6901-1589364000-1589364000@www.noahwebster.org
SUMMARY:MESA Virtual Tour with the Principal
DESCRIPTION:Noah Webster Schools would like to invite you to interact with the Principal and receive Admission information via online with Zoom. \nPlease click the link below to join Mrs. Friedermann at Noah Webster Schools-Mesa: \nhttps://us04web.zoom.us/j/909050545?pwd=ell0R2ZMaitmejRCamIyYkc3Rlppdz09
URL:https://www.noahwebster.org/event/mesa-virtual-tour-with-the-principal-7/
LOCATION:Mesa Campus\, 7301 E. Baseline Road\, Mesa\, AZ\, 85209\, United States
CATEGORIES:New Family Virtual Tours
END:VEVENT
BEGIN:VEVENT
DTSTART;TZID=America/Phoenix:20200513T100000
DTEND;TZID=America/Phoenix:20200513T100000
DTSTAMP:20260420T221310
CREATED:20200408T044623Z
LAST-MODIFIED:20200603T162136Z
UID:6904-1589364000-1589364000@www.noahwebster.org
SUMMARY:PIMA Virtual Tour with the Principal
DESCRIPTION:Noah Webster Schools would like to invite you to interact with the Principal and receive Admission information via online with Zoom. \nPlease click the link below to join Mr. Rodenbaugh at Noah Webster Schools-Pima: \nhttps://us04web.zoom.us/j/805957014
URL:https://www.noahwebster.org/event/pima-virtual-tour-with-the-principal-7/
LOCATION:Pima Campus\, 5399 N. Pima Road\, Scottsdale\, AZ\, 85250\, United States
CATEGORIES:New Family Virtual Tours
END:VEVENT
BEGIN:VEVENT
DTSTART;TZID=America/Phoenix:20200520T100000
DTEND;TZID=America/Phoenix:20200520T100000
DTSTAMP:20260420T221310
CREATED:20200408T044141Z
LAST-MODIFIED:20200603T162128Z
UID:6902-1589968800-1589968800@www.noahwebster.org
SUMMARY:MESA Virtual Tour with the Principal
DESCRIPTION:Noah Webster Schools would like to invite you to interact with the Principal and receive Admission information via online with Zoom. \nPlease click the link below to join Mrs. Friedermann at Noah Webster Schools-Mesa: \nhttps://us04web.zoom.us/j/909050545?pwd=ell0R2ZMaitmejRCamIyYkc3Rlppdz09
URL:https://www.noahwebster.org/event/mesa-virtual-tour-with-the-principal-8/
LOCATION:Mesa Campus\, 7301 E. Baseline Road\, Mesa\, AZ\, 85209\, United States
CATEGORIES:New Family Virtual Tours
END:VEVENT
BEGIN:VEVENT
DTSTART;TZID=America/Phoenix:20200520T100000
DTEND;TZID=America/Phoenix:20200520T100000
DTSTAMP:20260420T221310
CREATED:20200408T044746Z
LAST-MODIFIED:20200603T162113Z
UID:6905-1589968800-1589968800@www.noahwebster.org
SUMMARY:PIMA Virtual Tour with the Principal
DESCRIPTION:Noah Webster Schools would like to invite you to interact with the Principal and receive Admission information via online with Zoom. \nPlease click the link below to join Mr. Rodenbaugh at Noah Webster Schools-Pima: \nhttps://us04web.zoom.us/j/805957014
URL:https://www.noahwebster.org/event/pima-virtual-tour-with-the-principal-8/
LOCATION:Pima Campus\, 5399 N. Pima Road\, Scottsdale\, AZ\, 85250\, United States
CATEGORIES:New Family Virtual Tours
END:VEVENT
BEGIN:VEVENT
DTSTART;TZID=America/Phoenix:20200527T100000
DTEND;TZID=America/Phoenix:20200527T103000
DTSTAMP:20260420T221310
CREATED:20200526T175547Z
LAST-MODIFIED:20200603T162102Z
UID:6939-1590573600-1590575400@www.noahwebster.org
SUMMARY:MESA Virtual Tour with the Principal
DESCRIPTION:Noah Webster Schools would like to invite you to interact with the Principal and receive Admission information via online with Zoom. \nPlease click the link below to join Mrs. Friedermann at Noah Webster Schools-Mesa: \nhttps://us04web.zoom.us/j/909050545?pwd=ell0R2ZMaitmejRCamIyYkc3Rlppdz09 \nMeeting ID: 909 050 545\nPassword: 124
URL:https://www.noahwebster.org/event/mesa-virtual-tour-with-the-principal-9/
LOCATION:AZ
CATEGORIES:New Family Virtual Tours
END:VEVENT
BEGIN:VEVENT
DTSTART;TZID=America/Phoenix:20200527T100000
DTEND;TZID=America/Phoenix:20200527T103000
DTSTAMP:20260420T221310
CREATED:20200526T181208Z
LAST-MODIFIED:20200603T162052Z
UID:6942-1590573600-1590575400@www.noahwebster.org
SUMMARY:PIMA Virtual Tour with the Principal
DESCRIPTION:Noah Webster Schools would like to invite you to interact with the Principal and receive Admission information via online with Zoom. \nPlease click the link below to join Mr. Rodenbaugh at Noah Webster Schools-Pima: \nhttps://us04web.zoom.us/j/805957014
URL:https://www.noahwebster.org/event/pima-virtual-tour-with-the-principal-9/
LOCATION:AZ
CATEGORIES:New Family Virtual Tours
END:VEVENT
BEGIN:VEVENT
DTSTART;TZID=America/Phoenix:20200602T163000
DTEND;TZID=America/Phoenix:20200602T180000
DTSTAMP:20260420T221310
CREATED:20200529T003331Z
LAST-MODIFIED:20200603T164333Z
UID:6954-1591115400-1591120800@www.noahwebster.org
SUMMARY:PIMA-Onsite New Family Night Tours
DESCRIPTION:To sign up for an onsite tour\, please click the link provided.  Please note\, each tour slot will only consist of one family at a time for the safety of our families and staff. \nhttps://www.signupgenius.com/go/60B094DADAF22AAFE3-newfamily4 \nIf you prefer to not have an onsite tour\, please feel free to join the virtual Zoom event on the same day. For virtual times and the Zoom link or if you have any questions\, please email us directly at noahwebsterschools@noahwebster.org
URL:https://www.noahwebster.org/event/new-family-night-pima-campus-onsite-tours/
LOCATION:AZ
CATEGORIES:New Family Onsite Tours
END:VEVENT
BEGIN:VEVENT
DTSTART;TZID=America/Phoenix:20200602T180000
DTEND;TZID=America/Phoenix:20200602T183000
DTSTAMP:20260420T221310
CREATED:20200528T212745Z
LAST-MODIFIED:20200528T212745Z
UID:6946-1591120800-1591122600@www.noahwebster.org
SUMMARY:Parent Committee Title VI Public Meeting
DESCRIPTION:NWS-Pima is inviting you to a scheduled Zoom meeting. \nTopic: Indian Education Grant Public (virtual) Meeting \nTime: Jun 2\, 2020 06:00 PM Arizona \nJoin Zoom Meeting \nhttps://us04web.zoom.us/j/73232658973?pwd=VXgzSm1YRFp6Vlh3eW5aRzVjc2pYQT09 \nMeeting ID: 732 3265 8973 \nPassword: 3dnfPT \n  \n 
URL:https://www.noahwebster.org/event/parent-committee-title-vi-public-meeting/
LOCATION:AZ
CATEGORIES:School Activity
END:VEVENT
END:VCALENDAR