BEGIN:VCALENDAR
VERSION:2.0
PRODID:-//Noah Webster - ECPv6.15.20//NONSGML v1.0//EN
CALSCALE:GREGORIAN
METHOD:PUBLISH
X-WR-CALNAME:Noah Webster
X-ORIGINAL-URL:https://www.noahwebster.org
X-WR-CALDESC:Events for Noah Webster
REFRESH-INTERVAL;VALUE=DURATION:PT1H
X-Robots-Tag:noindex
X-PUBLISHED-TTL:PT1H
BEGIN:VTIMEZONE
TZID:America/Phoenix
BEGIN:STANDARD
TZOFFSETFROM:-0700
TZOFFSETTO:-0700
TZNAME:MST
DTSTART:20210101T000000
END:STANDARD
END:VTIMEZONE
BEGIN:VEVENT
DTSTART;VALUE=DATE:20221111
DTEND;VALUE=DATE:20221112
DTSTAMP:20260423T172549
CREATED:20220819T035804Z
LAST-MODIFIED:20220819T035804Z
UID:8668-1668124800-1668211199@www.noahwebster.org
SUMMARY:Veteran's Day (No School)
DESCRIPTION:
URL:https://www.noahwebster.org/event/veterans-day-no-school-2/
LOCATION:AZ
CATEGORIES:Holiday
END:VEVENT
BEGIN:VEVENT
DTSTART;VALUE=DATE:20221109
DTEND;VALUE=DATE:20221110
DTSTAMP:20260423T172549
CREATED:20220819T035638Z
LAST-MODIFIED:20220819T035638Z
UID:8667-1667952000-1668038399@www.noahwebster.org
SUMMARY:PIMA Professional Development Day (Early Dismissal)
DESCRIPTION:
URL:https://www.noahwebster.org/event/pima-professional-development-day-early-dismissal-72/
LOCATION:Pima Campus\, 5399 N. Pima Road\, Scottsdale\, AZ\, 85250\, United States
CATEGORIES:Early Dismissal
END:VEVENT
BEGIN:VEVENT
DTSTART;VALUE=DATE:20221109
DTEND;VALUE=DATE:20221110
DTSTAMP:20260423T172549
CREATED:20220819T035533Z
LAST-MODIFIED:20220819T035533Z
UID:8666-1667952000-1668038399@www.noahwebster.org
SUMMARY:MESA Professional Development Day (Early Dismissal)
DESCRIPTION:
URL:https://www.noahwebster.org/event/mesa-professional-development-day-early-dismissal-63/
LOCATION:Mesa Campus\, 7301 E. Baseline Road\, Mesa\, AZ\, 85209\, United States
CATEGORIES:Early Dismissal
END:VEVENT
BEGIN:VEVENT
DTSTART;TZID=America/Phoenix:20221108T183000
DTEND;TZID=America/Phoenix:20221108T193000
DTSTAMP:20260423T172549
CREATED:20220830T214859Z
LAST-MODIFIED:20220830T214859Z
UID:8761-1667932200-1667935800@www.noahwebster.org
SUMMARY:PIMA 6th Grade Overnight Field Trip Info Night
DESCRIPTION:
URL:https://www.noahwebster.org/event/pima-6th-grade-overnight-field-trip-info-night/
LOCATION:Pima Campus\, 5399 N. Pima Road\, Scottsdale\, AZ\, 85250\, United States
CATEGORIES:Field Trip
END:VEVENT
BEGIN:VEVENT
DTSTART;TZID=America/Phoenix:20221108T183000
DTEND;TZID=America/Phoenix:20221108T193000
DTSTAMP:20260423T172549
CREATED:20220830T214746Z
LAST-MODIFIED:20220830T214746Z
UID:8760-1667932200-1667935800@www.noahwebster.org
SUMMARY:MESA 6th Grade Overnight Field Trip Info Night
DESCRIPTION:
URL:https://www.noahwebster.org/event/mesa-6th-grade-overnight-field-trip-info-night/
LOCATION:Mesa Campus\, 7301 E. Baseline Road\, Mesa\, AZ\, 85209\, United States
CATEGORIES:Field Trip
END:VEVENT
BEGIN:VEVENT
DTSTART;VALUE=DATE:20221107
DTEND;VALUE=DATE:20221111
DTSTAMP:20260423T172549
CREATED:20220830T214341Z
LAST-MODIFIED:20220830T214341Z
UID:8759-1667779200-1668124799@www.noahwebster.org
SUMMARY:PIMA Spirit Week
DESCRIPTION:
URL:https://www.noahwebster.org/event/pima-spirit-week-19/
LOCATION:Pima Campus\, 5399 N. Pima Road\, Scottsdale\, AZ\, 85250\, United States
CATEGORIES:School Activity
END:VEVENT
BEGIN:VEVENT
DTSTART;VALUE=DATE:20221107
DTEND;VALUE=DATE:20221111
DTSTAMP:20260423T172549
CREATED:20220830T214259Z
LAST-MODIFIED:20220830T214259Z
UID:8758-1667779200-1668124799@www.noahwebster.org
SUMMARY:MESA Spirit Week
DESCRIPTION:
URL:https://www.noahwebster.org/event/mesa-spirit-week-17/
LOCATION:Mesa Campus\, 7301 E. Baseline Road\, Mesa\, AZ\, 85209\, United States
CATEGORIES:School Activity
END:VEVENT
BEGIN:VEVENT
DTSTART;TZID=America/Phoenix:20221102T084500
DTEND;TZID=America/Phoenix:20221102T133000
DTSTAMP:20260423T172549
CREATED:20221005T200325Z
LAST-MODIFIED:20221005T200325Z
UID:8876-1667378700-1667395800@www.noahwebster.org
SUMMARY:MESA 4th Gr. Field Trip
DESCRIPTION:Goldfield Ghost Town
URL:https://www.noahwebster.org/event/mesa-4th-gr-field-trip-2/
LOCATION:Goldfield Ghost Town
CATEGORIES:Field Trip
END:VEVENT
BEGIN:VEVENT
DTSTART;TZID=America/Phoenix:20221027T091500
DTEND;TZID=America/Phoenix:20221027T140000
DTSTAMP:20260423T172549
CREATED:20220923T224429Z
LAST-MODIFIED:20220923T224429Z
UID:8866-1666862100-1666879200@www.noahwebster.org
SUMMARY:PIMA 1st Gr. Field Trip
DESCRIPTION:Schnepf Farms
URL:https://www.noahwebster.org/event/pima-1st-gr-field-trip-4/
LOCATION:Schnepf Farms\, 24810 S. Rittenhouse Rd.\, Queen Creek\, AZ\, 85142\, United States
CATEGORIES:Field Trip
END:VEVENT
BEGIN:VEVENT
DTSTART;TZID=America/Phoenix:20221025T183000
DTEND;TZID=America/Phoenix:20221025T193000
DTSTAMP:20260423T172549
CREATED:20220819T063925Z
LAST-MODIFIED:20220819T063925Z
UID:8716-1666722600-1666726200@www.noahwebster.org
SUMMARY:MESA 4th Grade Showcase Night
DESCRIPTION:
URL:https://www.noahwebster.org/event/mesa-4th-grade-showcase-night-3/
LOCATION:Mesa Campus\, 7301 E. Baseline Road\, Mesa\, AZ\, 85209\, United States
CATEGORIES:School Activity
END:VEVENT
BEGIN:VEVENT
DTSTART;TZID=America/Phoenix:20221025T103000
DTEND;TZID=America/Phoenix:20221025T143000
DTSTAMP:20260423T172549
CREATED:20220923T224038Z
LAST-MODIFIED:20220923T224842Z
UID:8863-1666693800-1666708200@www.noahwebster.org
SUMMARY:PIMA 5th & 6th Gr. Field Trip
DESCRIPTION:Childsplay Theater Co.
URL:https://www.noahwebster.org/event/pima-5th-6th-gr-field-trip/
LOCATION:Childsplay Theater\, 900 S. Mitchell Dr.\, Tempe\, AZ\, 85281\, United States
CATEGORIES:Field Trip
END:VEVENT
BEGIN:VEVENT
DTSTART;VALUE=DATE:20221024
DTEND;VALUE=DATE:20221025
DTSTAMP:20260423T172549
CREATED:20220819T061337Z
LAST-MODIFIED:20220819T061337Z
UID:8709-1666569600-1666655999@www.noahwebster.org
SUMMARY:PIMA After School Programs Session 3
DESCRIPTION:Session 3 of After School Programs begins. Sign up forms are available in the front office and online.
URL:https://www.noahwebster.org/event/pima-after-school-programs-session-3/
LOCATION:Pima Campus\, 5399 N. Pima Road\, Scottsdale\, AZ\, 85250\, United States
CATEGORIES:After School Program
END:VEVENT
BEGIN:VEVENT
DTSTART;VALUE=DATE:20221024
DTEND;VALUE=DATE:20221025
DTSTAMP:20260423T172549
CREATED:20220819T061225Z
LAST-MODIFIED:20220819T061225Z
UID:8708-1666569600-1666655999@www.noahwebster.org
SUMMARY:MESA After School Programs Session 3
DESCRIPTION:Session 3 of After School Programs begins. Sign up forms are available in the front office and online.
URL:https://www.noahwebster.org/event/mesa-after-school-programs-session-3/
LOCATION:Mesa Campus\, 7301 E. Baseline Road\, Mesa\, AZ\, 85209\, United States
CATEGORIES:After School Program
END:VEVENT
BEGIN:VEVENT
DTSTART;VALUE=DATE:20221021
DTEND;VALUE=DATE:20221022
DTSTAMP:20260423T172549
CREATED:20220819T035430Z
LAST-MODIFIED:20220819T035430Z
UID:8665-1666310400-1666396799@www.noahwebster.org
SUMMARY:PIMA Parent Teacher Conferences (2 of 2)
DESCRIPTION:Early Dismissal Day
URL:https://www.noahwebster.org/event/pima-parent-teacher-conferences-2-of-2/
LOCATION:Pima Campus\, 5399 N. Pima Road\, Scottsdale\, AZ\, 85250\, United States
CATEGORIES:Early Dismissal
END:VEVENT
BEGIN:VEVENT
DTSTART;VALUE=DATE:20221021
DTEND;VALUE=DATE:20221022
DTSTAMP:20260423T172549
CREATED:20220819T034916Z
LAST-MODIFIED:20220819T034916Z
UID:8663-1666310400-1666396799@www.noahwebster.org
SUMMARY:MESA Parent Teacher Conferences (2 of 2)
DESCRIPTION:Early Dismissal Day
URL:https://www.noahwebster.org/event/mesa-parent-teacher-conferences-2-of-2/
LOCATION:Mesa Campus\, 7301 E. Baseline Road\, Mesa\, AZ\, 85209\, United States
CATEGORIES:Early Dismissal
END:VEVENT
BEGIN:VEVENT
DTSTART;VALUE=DATE:20221020
DTEND;VALUE=DATE:20221021
DTSTAMP:20260423T172549
CREATED:20220819T035037Z
LAST-MODIFIED:20220819T035037Z
UID:8664-1666224000-1666310399@www.noahwebster.org
SUMMARY:PIMA Parent Teacher Conferences (1 of 2)
DESCRIPTION:Early Dismissal Day
URL:https://www.noahwebster.org/event/pima-parent-teacher-conferences-1-of-2/
LOCATION:Pima Campus\, 5399 N. Pima Road\, Scottsdale\, AZ\, 85250\, United States
CATEGORIES:Early Dismissal
END:VEVENT
BEGIN:VEVENT
DTSTART;VALUE=DATE:20221020
DTEND;VALUE=DATE:20221021
DTSTAMP:20260423T172549
CREATED:20220819T034813Z
LAST-MODIFIED:20220819T034813Z
UID:8662-1666224000-1666310399@www.noahwebster.org
SUMMARY:MESA Parent Teacher Conferences (1 of 2)
DESCRIPTION:Early Dismissal Day
URL:https://www.noahwebster.org/event/mesa-parent-teacher-conferences-1-of-2/
LOCATION:Mesa Campus\, 7301 E. Baseline Road\, Mesa\, AZ\, 85209\, United States
CATEGORIES:Early Dismissal
END:VEVENT
BEGIN:VEVENT
DTSTART;TZID=America/Phoenix:20221019T183000
DTEND;TZID=America/Phoenix:20221019T193000
DTSTAMP:20260423T172549
CREATED:20220819T060829Z
LAST-MODIFIED:20220819T063441Z
UID:8706-1666204200-1666207800@www.noahwebster.org
SUMMARY:PIMA Reading Under the Stars
DESCRIPTION:
URL:https://www.noahwebster.org/event/pima-reading-under-the-stars-2/
LOCATION:Pima Campus\, 5399 N. Pima Road\, Scottsdale\, AZ\, 85250\, United States
CATEGORIES:School Activity
END:VEVENT
BEGIN:VEVENT
DTSTART;TZID=America/Phoenix:20221018T070000
DTEND;TZID=America/Phoenix:20221018T080000
DTSTAMP:20260423T172549
CREATED:20220819T060729Z
LAST-MODIFIED:20220819T063816Z
UID:8705-1666076400-1666080000@www.noahwebster.org
SUMMARY:PIMA Breakfast with Grandparents
DESCRIPTION:This event required pre-ordered tickets.
URL:https://www.noahwebster.org/event/pima-breakfast-with-grandparents/
LOCATION:Pima Campus\, 5399 N. Pima Road\, Scottsdale\, AZ\, 85250\, United States
CATEGORIES:School Activity
END:VEVENT
BEGIN:VEVENT
DTSTART;VALUE=DATE:20221017
DTEND;VALUE=DATE:20221022
DTSTAMP:20260423T172549
CREATED:20220819T060610Z
LAST-MODIFIED:20220819T060610Z
UID:8704-1665964800-1666396799@www.noahwebster.org
SUMMARY:PIMA Scholastic Book Fair
DESCRIPTION:
URL:https://www.noahwebster.org/event/pima-scholastic-book-fair-11/
LOCATION:Pima Campus\, 5399 N. Pima Road\, Scottsdale\, AZ\, 85250\, United States
CATEGORIES:School Activity
END:VEVENT
BEGIN:VEVENT
DTSTART;TZID=America/Phoenix:20221013T163000
DTEND;TZID=America/Phoenix:20221013T163000
DTSTAMP:20260423T172549
CREATED:20221012T171159Z
LAST-MODIFIED:20221012T171159Z
UID:8884-1665678600-1665678600@www.noahwebster.org
SUMMARY:NWS-Pima Board Meeting
DESCRIPTION:Please click HERE to view the Board Meeting Notification and Agenda.  This meeting will be held virtually.
URL:https://www.noahwebster.org/event/nws-pima-board-meeting-61/
LOCATION:AZ
CATEGORIES:General
END:VEVENT
BEGIN:VEVENT
DTSTART;TZID=America/Phoenix:20221013T163000
DTEND;TZID=America/Phoenix:20221013T163000
DTSTAMP:20260423T172549
CREATED:20221012T171007Z
LAST-MODIFIED:20221012T171246Z
UID:8883-1665678600-1665678600@www.noahwebster.org
SUMMARY:NWS-Mesa Board Meeting
DESCRIPTION:Please click HERE to view the Board Meeting Notification and Agenda.  This meeting will be held virtually.
URL:https://www.noahwebster.org/event/nws-mesa-board-meeting-54/
LOCATION:AZ
CATEGORIES:General
END:VEVENT
BEGIN:VEVENT
DTSTART;TZID=America/Phoenix:20221012T183000
DTEND;TZID=America/Phoenix:20221012T193000
DTSTAMP:20260423T172549
CREATED:20220819T060452Z
LAST-MODIFIED:20220819T060452Z
UID:8703-1665599400-1665603000@www.noahwebster.org
SUMMARY:MESA Reading Under the Stars
DESCRIPTION:
URL:https://www.noahwebster.org/event/mesa-reading-under-the-stars-2/
LOCATION:Mesa Campus\, 7301 E. Baseline Road\, Mesa\, AZ\, 85209\, United States
CATEGORIES:School Activity
END:VEVENT
BEGIN:VEVENT
DTSTART;TZID=America/Phoenix:20221012T100000
DTEND;TZID=America/Phoenix:20221012T100000
DTSTAMP:20260423T172549
CREATED:20220907T041015Z
LAST-MODIFIED:20220907T041015Z
UID:8812-1665568800-1665568800@www.noahwebster.org
SUMMARY:PIMA Welcome Wednesday
DESCRIPTION:We invite prospective families to tour the school and see what we have to offer! \nTours will be given by one of our Department Directors and each tour can consist of up to three (3) families at a time. \nTo view the available days and to reserve your tour\, please click HERE.
URL:https://www.noahwebster.org/event/pima-welcome-wednesday-159/
LOCATION:Pima Campus\, 5399 N. Pima Road\, Scottsdale\, AZ\, 85250\, United States
CATEGORIES:New Family Onsite Tours
END:VEVENT
BEGIN:VEVENT
DTSTART;TZID=America/Phoenix:20221012T100000
DTEND;TZID=America/Phoenix:20221012T100000
DTSTAMP:20260423T172549
CREATED:20220907T040658Z
LAST-MODIFIED:20220907T040658Z
UID:8809-1665568800-1665568800@www.noahwebster.org
SUMMARY:MESA Welcome Wednesday
DESCRIPTION:We invite prospective families to tour the school and see what we have to offer! \nTours will be given by one of our Department Directors and each tour can consist of up to three (3) families at a time. \nTo view the available days and to reserve your tour\, please click HERE.
URL:https://www.noahwebster.org/event/mesa-welcome-wednesday-155/
LOCATION:Mesa Campus\, 7301 E. Baseline Road\, Mesa\, AZ\, 85209\, United States
CATEGORIES:New Family Onsite Tours
END:VEVENT
BEGIN:VEVENT
DTSTART;VALUE=DATE:20221012
DTEND;VALUE=DATE:20221013
DTSTAMP:20260423T172549
CREATED:20220819T034621Z
LAST-MODIFIED:20220819T034621Z
UID:8661-1665532800-1665619199@www.noahwebster.org
SUMMARY:PIMA Professional Development Day (Early Dismissal)
DESCRIPTION:
URL:https://www.noahwebster.org/event/pima-professional-development-day-early-dismissal-71/
LOCATION:Pima Campus\, 5399 N. Pima Road\, Scottsdale\, AZ\, 85250\, United States
CATEGORIES:Early Dismissal
END:VEVENT
BEGIN:VEVENT
DTSTART;VALUE=DATE:20221012
DTEND;VALUE=DATE:20221013
DTSTAMP:20260423T172549
CREATED:20220819T034527Z
LAST-MODIFIED:20220819T034527Z
UID:8660-1665532800-1665619199@www.noahwebster.org
SUMMARY:MESA Professional Development Day (Early Dismissal)
DESCRIPTION:
URL:https://www.noahwebster.org/event/mesa-professional-development-day-early-dismissal-62/
LOCATION:Mesa Campus\, 7301 E. Baseline Road\, Mesa\, AZ\, 85209\, United States
CATEGORIES:Early Dismissal
END:VEVENT
BEGIN:VEVENT
DTSTART;TZID=America/Phoenix:20221011T090000
DTEND;TZID=America/Phoenix:20221011T120000
DTSTAMP:20260423T172549
CREATED:20220923T224803Z
LAST-MODIFIED:20220923T224803Z
UID:8869-1665478800-1665489600@www.noahwebster.org
SUMMARY:PIMA 4th Gr. Field Trip
DESCRIPTION:Liberty Wildlife
URL:https://www.noahwebster.org/event/pima-4th-gr-field-trip-2/
LOCATION:Liberty Wildlife\, 2600 E. Elwood St.\, Phoenix\, AZ\, 85040\, United States
CATEGORIES:Field Trip
END:VEVENT
BEGIN:VEVENT
DTSTART;TZID=America/Phoenix:20221011T070000
DTEND;TZID=America/Phoenix:20221011T080000
DTSTAMP:20260423T172549
CREATED:20220819T055950Z
LAST-MODIFIED:20220819T063653Z
UID:8702-1665471600-1665475200@www.noahwebster.org
SUMMARY:MESA Breakfast with Grandparents
DESCRIPTION:This event requires pre-ordered tickets.
URL:https://www.noahwebster.org/event/mesa-breakfast-with-grandparents/
LOCATION:Mesa Campus\, 7301 E. Baseline Road\, Mesa\, AZ\, 85209\, United States
CATEGORIES:School Activity
END:VEVENT
BEGIN:VEVENT
DTSTART;VALUE=DATE:20221010
DTEND;VALUE=DATE:20221015
DTSTAMP:20260423T172549
CREATED:20220819T055811Z
LAST-MODIFIED:20220819T055811Z
UID:8701-1665360000-1665791999@www.noahwebster.org
SUMMARY:MESA Scholastic Book Fair
DESCRIPTION:
URL:https://www.noahwebster.org/event/mesa-scholastic-book-fair-11/
LOCATION:Mesa Campus\, 7301 E. Baseline Road\, Mesa\, AZ\, 85209\, United States
CATEGORIES:School Activity
END:VEVENT
END:VCALENDAR