BEGIN:VCALENDAR
VERSION:2.0
PRODID:-//Noah Webster - ECPv6.15.20//NONSGML v1.0//EN
CALSCALE:GREGORIAN
METHOD:PUBLISH
X-WR-CALNAME:Noah Webster
X-ORIGINAL-URL:https://www.noahwebster.org
X-WR-CALDESC:Events for Noah Webster
REFRESH-INTERVAL;VALUE=DURATION:PT1H
X-Robots-Tag:noindex
X-PUBLISHED-TTL:PT1H
BEGIN:VTIMEZONE
TZID:UTC
BEGIN:STANDARD
TZOFFSETFROM:+0000
TZOFFSETTO:+0000
TZNAME:UTC
DTSTART:20180101T000000
END:STANDARD
END:VTIMEZONE
BEGIN:VEVENT
DTSTART;TZID=UTC:20190517T131500
DTEND;TZID=UTC:20190517T141500
DTSTAMP:20260420T204648
CREATED:20180901T021053Z
LAST-MODIFIED:20180901T021053Z
UID:5430-1558098900-1558102500@www.noahwebster.org
SUMMARY:PIMA Kindergarten Graduation (2 of 2)
DESCRIPTION:Class Attending: Berndt
URL:https://www.noahwebster.org/event/pima-kindergarten-graduation-2-of-2/
LOCATION:Pima Campus\, 5399 N. Pima Road\, Scottsdale\, AZ\, 85250\, United States
CATEGORIES:School Activity
END:VEVENT
BEGIN:VEVENT
DTSTART;TZID=UTC:20190517T090000
DTEND;TZID=UTC:20190517T123000
DTSTAMP:20260420T204648
CREATED:20190425T014748Z
LAST-MODIFIED:20190425T014748Z
UID:6030-1558083600-1558096200@www.noahwebster.org
SUMMARY:MESA Kindergarten Field Trip
DESCRIPTION:Harkins Theater
URL:https://www.noahwebster.org/event/mesa-kindergarten-field-trip-5/
LOCATION:Harkins Theater
CATEGORIES:Field Trip
END:VEVENT
BEGIN:VEVENT
DTSTART;TZID=UTC:20190517T084500
DTEND;TZID=UTC:20190517T094500
DTSTAMP:20260420T204648
CREATED:20180901T020711Z
LAST-MODIFIED:20180901T020711Z
UID:5428-1558082700-1558086300@www.noahwebster.org
SUMMARY:PIMA Kindergarten Graduation (1 of 2)
DESCRIPTION:Classes Attending: Ford & Randel
URL:https://www.noahwebster.org/event/pima-kindergarten-graduation-1-of-2/
LOCATION:Pima Campus\, 5399 N. Pima Road\, Scottsdale\, AZ\, 85250\, United States
CATEGORIES:School Activity
END:VEVENT
BEGIN:VEVENT
DTSTART;TZID=UTC:20190516T183000
DTEND;TZID=UTC:20190516T193000
DTSTAMP:20260420T204648
CREATED:20180901T020449Z
LAST-MODIFIED:20180901T020449Z
UID:5426-1558031400-1558035000@www.noahwebster.org
SUMMARY:MESA 6th Grade Graduation
DESCRIPTION:
URL:https://www.noahwebster.org/event/mesa-6th-grade-graduation-4/
LOCATION:Skyline High School\, 845 S Crismon Rd\, Mesa\, AZ\, 85208\, United States
CATEGORIES:School Activity
END:VEVENT
BEGIN:VEVENT
DTSTART;TZID=UTC:20190516T084500
DTEND;TZID=UTC:20190516T133000
DTSTAMP:20260420T204648
CREATED:20190425T014339Z
LAST-MODIFIED:20190425T014339Z
UID:6026-1557996300-1558013400@www.noahwebster.org
SUMMARY:PIMA 3rd Grade Field Trip
DESCRIPTION:AZ Science Center
URL:https://www.noahwebster.org/event/pima-3rd-grade-field-trip-4/
LOCATION:Arizona Science Center
CATEGORIES:Field Trip
END:VEVENT
BEGIN:VEVENT
DTSTART;TZID=UTC:20190516T084500
DTEND;TZID=UTC:20190516T094500
DTSTAMP:20260420T204648
CREATED:20180901T020323Z
LAST-MODIFIED:20180901T020323Z
UID:5424-1557996300-1557999900@www.noahwebster.org
SUMMARY:MESA Kindergarten Graduation (2 of 2)
DESCRIPTION:Classes Attending: Kandalec & Reed
URL:https://www.noahwebster.org/event/mesa-kindergarten-graduation-2-of-2-2/
LOCATION:Mesa Campus\, 7301 E. Baseline Road\, Mesa\, AZ\, 85209\, United States
CATEGORIES:School Activity
END:VEVENT
BEGIN:VEVENT
DTSTART;TZID=UTC:20190515T100000
DTEND;TZID=UTC:20190515T100000
DTSTAMP:20260420T204648
CREATED:20180831T224255Z
LAST-MODIFIED:20180831T224255Z
UID:5231-1557914400-1557914400@www.noahwebster.org
SUMMARY:PIMA Welcome Wednesday
DESCRIPTION:Come take a tour of the campus\, interact with Administrators and receive Admission information. If you can’t make it at 10:00 am\, contact us to schedule a private tour.
URL:https://www.noahwebster.org/event/pima-welcome-wednesday-156/
LOCATION:Pima Campus\, 5399 N. Pima Road\, Scottsdale\, AZ\, 85250\, United States
CATEGORIES:General
END:VEVENT
BEGIN:VEVENT
DTSTART;TZID=UTC:20190515T100000
DTEND;TZID=UTC:20190515T100000
DTSTAMP:20260420T204648
CREATED:20180831T223922Z
LAST-MODIFIED:20180831T223922Z
UID:5225-1557914400-1557914400@www.noahwebster.org
SUMMARY:MESA Welcome Wednesday
DESCRIPTION:Come take a tour of the campus\, interact with Administrators and receive Admission information. If you can’t make it at 10:00 am\, contact us to schedule a private tour.
URL:https://www.noahwebster.org/event/mesa-welcome-wednesday-152/
LOCATION:Mesa Campus\, 7301 E. Baseline Road\, Mesa\, AZ\, 85209\, United States
CATEGORIES:General
END:VEVENT
BEGIN:VEVENT
DTSTART;TZID=UTC:20190514T183000
DTEND;TZID=UTC:20190514T193000
DTSTAMP:20260420T204648
CREATED:20180901T020057Z
LAST-MODIFIED:20180901T020057Z
UID:5420-1557858600-1557862200@www.noahwebster.org
SUMMARY:MESA Pre-Kindergarten Graduation
DESCRIPTION:
URL:https://www.noahwebster.org/event/mesa-pre-kindergarten-graduation-4/
LOCATION:Mesa Campus\, 7301 E. Baseline Road\, Mesa\, AZ\, 85209\, United States
CATEGORIES:School Activity
END:VEVENT
BEGIN:VEVENT
DTSTART;TZID=UTC:20190514T163000
DTEND;TZID=UTC:20190514T163000
DTSTAMP:20260420T204648
CREATED:20190511T062812Z
LAST-MODIFIED:20190511T062812Z
UID:6049-1557851400-1557851400@www.noahwebster.org
SUMMARY:NWS-Pima Board Meeting
DESCRIPTION:Please click HERE to view the Board Meeting Notification.
URL:https://www.noahwebster.org/event/nws-pima-board-meeting-40/
LOCATION:Noah Webster Schools Corporate Offices\, 5399 N. Pima Road\, Scottsdale\, AZ\, 85250\, United States
CATEGORIES:General
END:VEVENT
BEGIN:VEVENT
DTSTART;TZID=UTC:20190514T163000
DTEND;TZID=UTC:20190514T163000
DTSTAMP:20260420T204648
CREATED:20190511T062635Z
LAST-MODIFIED:20190511T062635Z
UID:6047-1557851400-1557851400@www.noahwebster.org
SUMMARY:NWS-Mesa Board Meeting
DESCRIPTION:Please click HERE to view the Board Meeting Notification.
URL:https://www.noahwebster.org/event/nws-mesa-board-meeting-33/
LOCATION:Noah Webster Schools Corporate Offices\, 5399 N. Pima Road\, Scottsdale\, AZ\, 85250\, United States
CATEGORIES:General
END:VEVENT
BEGIN:VEVENT
DTSTART;TZID=UTC:20190514T092000
DTEND;TZID=UTC:20190514T134500
DTSTAMP:20260420T204648
CREATED:20190320T012747Z
LAST-MODIFIED:20190320T012747Z
UID:5896-1557825600-1557841500@www.noahwebster.org
SUMMARY:MESA 1st Grade Field Trip
DESCRIPTION:IDEA Museum
URL:https://www.noahwebster.org/event/mesa-1st-grade-field-trip-8/
LOCATION:IDEA Museum
CATEGORIES:Field Trip
END:VEVENT
BEGIN:VEVENT
DTSTART;TZID=UTC:20190514T084500
DTEND;TZID=UTC:20190514T094500
DTSTAMP:20260420T204648
CREATED:20180901T020226Z
LAST-MODIFIED:20180901T020226Z
UID:5422-1557823500-1557827100@www.noahwebster.org
SUMMARY:MESA Kindergarten Graduation (1 of 2)
DESCRIPTION:Classes Attending: Boyce\, Stepp & Wade
URL:https://www.noahwebster.org/event/mesa-kindergarten-graduation-1-of-2-2/
LOCATION:Mesa Campus\, 7301 E. Baseline Road\, Mesa\, AZ\, 85209\, United States
CATEGORIES:School Activity
END:VEVENT
BEGIN:VEVENT
DTSTART;TZID=UTC:20190513T091500
DTEND;TZID=UTC:20190513T140000
DTSTAMP:20260420T204648
CREATED:20190329T042546Z
LAST-MODIFIED:20190329T042546Z
UID:5925-1557738900-1557756000@www.noahwebster.org
SUMMARY:MESA 6th Grade Field Trip
DESCRIPTION:Sunsplash
URL:https://www.noahwebster.org/event/mesa-6th-grade-field-trip-10/
LOCATION:Sunsplash\, 155 W Hampton Ave\, Mesa\, AZ\, 85210\, United States
CATEGORIES:Field Trip
END:VEVENT
BEGIN:VEVENT
DTSTART;TZID=UTC:20190513T091500
DTEND;TZID=UTC:20190513T140000
DTSTAMP:20260420T204648
CREATED:20190329T042413Z
LAST-MODIFIED:20190329T042413Z
UID:5923-1557738900-1557756000@www.noahwebster.org
SUMMARY:PIMA 6th Grade Field Trip
DESCRIPTION:Sunsplash
URL:https://www.noahwebster.org/event/pima-6th-grade-field-trip-9/
LOCATION:Sunsplash\, 155 W Hampton Ave\, Mesa\, AZ\, 85210\, United States
CATEGORIES:Field Trip
END:VEVENT
BEGIN:VEVENT
DTSTART;VALUE=DATE:20190513
DTEND;VALUE=DATE:20190514
DTSTAMP:20260420T204648
CREATED:20180901T020010Z
LAST-MODIFIED:20180901T020010Z
UID:5418-1557705600-1557791999@www.noahwebster.org
SUMMARY:PIMA Wacky Wildcat Week Begins
DESCRIPTION:
URL:https://www.noahwebster.org/event/pima-wacky-wildcat-week-begins/
LOCATION:Pima Campus\, 5399 N. Pima Road\, Scottsdale\, AZ\, 85250\, United States
CATEGORIES:After School Program
END:VEVENT
BEGIN:VEVENT
DTSTART;VALUE=DATE:20190513
DTEND;VALUE=DATE:20190514
DTSTAMP:20260420T204648
CREATED:20180901T015823Z
LAST-MODIFIED:20180901T015823Z
UID:5416-1557705600-1557791999@www.noahwebster.org
SUMMARY:MESA Wacky Wildcat Week Begins
DESCRIPTION:
URL:https://www.noahwebster.org/event/mesa-wacky-wildcat-week-begins/
LOCATION:Mesa Campus\, 7301 E. Baseline Road\, Mesa\, AZ\, 85209\, United States
CATEGORIES:After School Program
END:VEVENT
BEGIN:VEVENT
DTSTART;TZID=UTC:20190510T183000
DTEND;TZID=UTC:20190510T193000
DTSTAMP:20260420T204648
CREATED:20180901T011832Z
LAST-MODIFIED:20180901T011832Z
UID:5413-1557513000-1557516600@www.noahwebster.org
SUMMARY:MESA Drama Performance
DESCRIPTION:
URL:https://www.noahwebster.org/event/mesa-drama-performance-6/
LOCATION:Mesa Campus\, 7301 E. Baseline Road\, Mesa\, AZ\, 85209\, United States
CATEGORIES:After School Program
END:VEVENT
BEGIN:VEVENT
DTSTART;TZID=UTC:20190509T183000
DTEND;TZID=UTC:20190509T193000
DTSTAMP:20260420T204648
CREATED:20180901T011735Z
LAST-MODIFIED:20180901T011735Z
UID:5411-1557426600-1557430200@www.noahwebster.org
SUMMARY:PIMA Dance Performance
DESCRIPTION:
URL:https://www.noahwebster.org/event/pima-dance-performance-3/
LOCATION:Pima Campus\, 5399 N. Pima Road\, Scottsdale\, AZ\, 85250\, United States
CATEGORIES:After School Program
END:VEVENT
BEGIN:VEVENT
DTSTART;TZID=UTC:20190509T183000
DTEND;TZID=UTC:20190509T193000
DTSTAMP:20260420T204648
CREATED:20180901T011527Z
LAST-MODIFIED:20180901T011527Z
UID:5409-1557426600-1557430200@www.noahwebster.org
SUMMARY:MESA Show Choir Performance
DESCRIPTION:
URL:https://www.noahwebster.org/event/mesa-show-choir-performance-12/
LOCATION:Mesa Campus\, 7301 E. Baseline Road\, Mesa\, AZ\, 85209\, United States
CATEGORIES:After School Program
END:VEVENT
BEGIN:VEVENT
DTSTART;TZID=UTC:20190509T090000
DTEND;TZID=UTC:20190509T123000
DTSTAMP:20260420T204648
CREATED:20190425T014505Z
LAST-MODIFIED:20190425T014505Z
UID:6028-1557392400-1557405000@www.noahwebster.org
SUMMARY:PIMA 1st Grade Field Trip
DESCRIPTION:Desert Botanical Garden
URL:https://www.noahwebster.org/event/pima-1st-grade-field-trip-8/
LOCATION:Desert Botanical Garden\, 1201 North Galvin Parkway\, Phoenix\, AZ\, 85008\, United States
CATEGORIES:Field Trip
END:VEVENT
BEGIN:VEVENT
DTSTART;TZID=UTC:20190509T070000
DTEND;TZID=UTC:20190509T080000
DTSTAMP:20260420T204648
CREATED:20180901T011223Z
LAST-MODIFIED:20180901T011223Z
UID:5403-1557385200-1557388800@www.noahwebster.org
SUMMARY:PIMA Breakfast with Mom (2 of 2)
DESCRIPTION:The event is divided by last name: M-Z\nRemember to order your tickets in advance.
URL:https://www.noahwebster.org/event/pima-breakfast-with-mom-2-of-2/
LOCATION:Pima Campus\, 5399 N. Pima Road\, Scottsdale\, AZ\, 85250\, United States
CATEGORIES:School Activity
END:VEVENT
BEGIN:VEVENT
DTSTART;TZID=UTC:20190508T183000
DTEND;TZID=UTC:20190508T193000
DTSTAMP:20260420T204648
CREATED:20180901T011442Z
LAST-MODIFIED:20180901T011442Z
UID:5407-1557340200-1557343800@www.noahwebster.org
SUMMARY:PIMA Choir Cats & Orchestra Performance
DESCRIPTION:
URL:https://www.noahwebster.org/event/pima-choir-cats-performance-11/
LOCATION:Pima Campus\, 5399 N. Pima Road\, Scottsdale\, AZ\, 85250\, United States
CATEGORIES:After School Program
END:VEVENT
BEGIN:VEVENT
DTSTART;TZID=UTC:20190508T183000
DTEND;TZID=UTC:20190508T193000
DTSTAMP:20260420T204648
CREATED:20180901T011308Z
LAST-MODIFIED:20180901T011308Z
UID:5405-1557340200-1557343800@www.noahwebster.org
SUMMARY:MESA Dance Performance
DESCRIPTION:
URL:https://www.noahwebster.org/event/mesa-dance-performance-3/
LOCATION:Mesa Campus\, 7301 E. Baseline Road\, Mesa\, AZ\, 85209\, United States
CATEGORIES:After School Program
END:VEVENT
BEGIN:VEVENT
DTSTART;TZID=UTC:20190508T163000
DTEND;TZID=UTC:20190508T163000
DTSTAMP:20260420T204648
CREATED:20190507T044314Z
LAST-MODIFIED:20190507T044314Z
UID:6042-1557333000-1557333000@www.noahwebster.org
SUMMARY:NWS-Pima Board Meeting
DESCRIPTION:Please click HERE to view the Board Meeting Notification.
URL:https://www.noahwebster.org/event/nws-pima-board-meeting-39/
LOCATION:Noah Webster Schools Corporate Offices\, 5399 N. Pima Road\, Scottsdale\, AZ\, 85250\, United States
CATEGORIES:General
END:VEVENT
BEGIN:VEVENT
DTSTART;TZID=UTC:20190508T163000
DTEND;TZID=UTC:20190508T163000
DTSTAMP:20260420T204648
CREATED:20190507T044156Z
LAST-MODIFIED:20190507T044156Z
UID:6040-1557333000-1557333000@www.noahwebster.org
SUMMARY:NWS-Mesa Board Meeting
DESCRIPTION:Please click HERE to view the Board Meeting Notification.
URL:https://www.noahwebster.org/event/nws-mesa-board-meeting-32/
LOCATION:Noah Webster Schools Corporate Offices\, 5399 N. Pima Road\, Scottsdale\, AZ\, 85250\, United States
CATEGORIES:General
END:VEVENT
BEGIN:VEVENT
DTSTART;TZID=UTC:20190508T100000
DTEND;TZID=UTC:20190508T100000
DTSTAMP:20260420T204648
CREATED:20180831T224123Z
LAST-MODIFIED:20180831T224123Z
UID:5229-1557309600-1557309600@www.noahwebster.org
SUMMARY:PIMA Welcome Wednesday
DESCRIPTION:Come take a tour of the campus\, interact with Administrators and receive Admission information. If you can’t make it at 10:00 am\, contact us to schedule a private tour.
URL:https://www.noahwebster.org/event/pima-welcome-wednesday-155/
LOCATION:Pima Campus\, 5399 N. Pima Road\, Scottsdale\, AZ\, 85250\, United States
CATEGORIES:General
END:VEVENT
BEGIN:VEVENT
DTSTART;TZID=UTC:20190508T100000
DTEND;TZID=UTC:20190508T100000
DTSTAMP:20260420T204648
CREATED:20180831T223829Z
LAST-MODIFIED:20180831T223829Z
UID:5223-1557309600-1557309600@www.noahwebster.org
SUMMARY:MESA Welcome Wednesday
DESCRIPTION:Come take a tour of the campus\, interact with Administrators and receive Admission information. If you can’t make it at 10:00 am\, contact us to schedule a private tour.
URL:https://www.noahwebster.org/event/mesa-welcome-wednesday-151/
LOCATION:Mesa Campus\, 7301 E. Baseline Road\, Mesa\, AZ\, 85209\, United States
CATEGORIES:General
END:VEVENT
BEGIN:VEVENT
DTSTART;TZID=UTC:20190508T070000
DTEND;TZID=UTC:20190508T080000
DTSTAMP:20260420T204648
CREATED:20180901T011038Z
LAST-MODIFIED:20180901T011038Z
UID:5401-1557298800-1557302400@www.noahwebster.org
SUMMARY:PIMA Breakfast with Mom (1 of 2)
DESCRIPTION:The event is divided by last name: A-L\nRemember to order your tickets in advance.
URL:https://www.noahwebster.org/event/pima-breakfast-with-mom-1-of-2/
LOCATION:Pima Campus\, 5399 N. Pima Road\, Scottsdale\, AZ\, 85250\, United States
CATEGORIES:School Activity
END:VEVENT
BEGIN:VEVENT
DTSTART;VALUE=DATE:20190508
DTEND;VALUE=DATE:20190509
DTSTAMP:20260420T204648
CREATED:20180822T022200Z
LAST-MODIFIED:20180822T022200Z
UID:5084-1557273600-1557359999@www.noahwebster.org
SUMMARY:PIMA Professional Development (Early Dismissal)
DESCRIPTION:
URL:https://www.noahwebster.org/event/pima-professional-development-early-dismissal-14/
LOCATION:Pima Campus\, 5399 N. Pima Road\, Scottsdale\, AZ\, 85250\, United States
CATEGORIES:Early Dismissal
END:VEVENT
END:VCALENDAR