BEGIN:VCALENDAR
VERSION:2.0
PRODID:-//Noah Webster - ECPv6.15.20//NONSGML v1.0//EN
CALSCALE:GREGORIAN
METHOD:PUBLISH
X-WR-CALNAME:Noah Webster
X-ORIGINAL-URL:https://www.noahwebster.org
X-WR-CALDESC:Events for Noah Webster
REFRESH-INTERVAL;VALUE=DURATION:PT1H
X-Robots-Tag:noindex
X-PUBLISHED-TTL:PT1H
BEGIN:VTIMEZONE
TZID:America/Phoenix
BEGIN:STANDARD
TZOFFSETFROM:-0700
TZOFFSETTO:-0700
TZNAME:MST
DTSTART:20240101T000000
END:STANDARD
END:VTIMEZONE
BEGIN:VEVENT
DTSTART;TZID=America/Phoenix:20250411T083000
DTEND;TZID=America/Phoenix:20250411T090000
DTSTAMP:20260423T042319
CREATED:20240816T213235Z
LAST-MODIFIED:20240816T213235Z
UID:10290-1744360200-1744362000@www.noahwebster.org
SUMMARY:PIMA PK-3rd Gr. Pep Assembly
DESCRIPTION:
URL:https://www.noahwebster.org/event/pima-pk-3rd-gr-pep-assembly-9/
LOCATION:Pima Campus\, 5399 N. Pima Road\, Scottsdale\, AZ\, 85250\, United States
CATEGORIES:General
END:VEVENT
BEGIN:VEVENT
DTSTART;TZID=America/Phoenix:20250415T111500
DTEND;TZID=America/Phoenix:20250415T143000
DTSTAMP:20260423T042319
CREATED:20250113T172655Z
LAST-MODIFIED:20250113T172655Z
UID:10628-1744715700-1744727400@www.noahwebster.org
SUMMARY:PIMA 5th Gr. Field Trip
DESCRIPTION:Feed My Starving Children
URL:https://www.noahwebster.org/event/pima-5th-gr-field-trip-4/
LOCATION:Feed My Starving Children
CATEGORIES:Field Trip
END:VEVENT
BEGIN:VEVENT
DTSTART;TZID=America/Phoenix:20250415T183000
DTEND;TZID=America/Phoenix:20250415T193000
DTSTAMP:20260423T042319
CREATED:20240830T183612Z
LAST-MODIFIED:20250404T181946Z
UID:10416-1744741800-1744745400@www.noahwebster.org
SUMMARY:MESA Springtime Social\, Featuring our Blooming Artists
DESCRIPTION:
URL:https://www.noahwebster.org/event/mesa-bunny-hop-2/
LOCATION:Mesa Campus\, 7301 E. Baseline Road\, Mesa\, AZ\, 85209\, United States
CATEGORIES:School Activity
END:VEVENT
BEGIN:VEVENT
DTSTART;TZID=America/Phoenix:20250416T183000
DTEND;TZID=America/Phoenix:20250416T193000
DTSTAMP:20260423T042319
CREATED:20240830T183752Z
LAST-MODIFIED:20250404T182021Z
UID:10417-1744828200-1744831800@www.noahwebster.org
SUMMARY:PIMA Springtime Social\, Featuring our Blooming Artists
DESCRIPTION:
URL:https://www.noahwebster.org/event/pima-bunny-hop-2/
LOCATION:Pima Campus\, 5399 N. Pima Road\, Scottsdale\, AZ\, 85250\, United States
CATEGORIES:School Activity
END:VEVENT
BEGIN:VEVENT
DTSTART;TZID=America/Phoenix:20250417T111500
DTEND;TZID=America/Phoenix:20250417T143000
DTSTAMP:20260423T042319
CREATED:20250113T172744Z
LAST-MODIFIED:20250113T172744Z
UID:10629-1744888500-1744900200@www.noahwebster.org
SUMMARY:PIMA 6th/7th Gr. Field Trip
DESCRIPTION:
URL:https://www.noahwebster.org/event/pima-6th-7th-gr-field-trip-3/
LOCATION:Feed My Starving Children
CATEGORIES:Field Trip
END:VEVENT
BEGIN:VEVENT
DTSTART;VALUE=DATE:20250418
DTEND;VALUE=DATE:20250419
DTSTAMP:20260423T042319
CREATED:20240816T205201Z
LAST-MODIFIED:20240816T205201Z
UID:10266-1744934400-1745020799@www.noahwebster.org
SUMMARY:Spring Holiday (No School)
DESCRIPTION:
URL:https://www.noahwebster.org/event/spring-holiday-no-school-4/
CATEGORIES:Holiday
END:VEVENT
BEGIN:VEVENT
DTSTART;VALUE=DATE:20250421
DTEND;VALUE=DATE:20250422
DTSTAMP:20260423T042319
CREATED:20240816T205845Z
LAST-MODIFIED:20240816T205845Z
UID:10267-1745193600-1745279999@www.noahwebster.org
SUMMARY:Spring Holiday (No School)
DESCRIPTION:
URL:https://www.noahwebster.org/event/spring-holiday-no-school-5/
CATEGORIES:Holiday
END:VEVENT
BEGIN:VEVENT
DTSTART;TZID=America/Phoenix:20250422T163000
DTEND;TZID=America/Phoenix:20250422T163000
DTSTAMP:20260423T042319
CREATED:20250417T224050Z
LAST-MODIFIED:20250417T224050Z
UID:10794-1745339400-1745339400@www.noahwebster.org
SUMMARY:NWS-Mesa Board Meeting
DESCRIPTION:Please click HERE to view the Board Meeting Notification and Agenda.
URL:https://www.noahwebster.org/event/nws-mesa-board-meeting-79/
LOCATION:Noah Webster Schools Corporate Offices\, 5399 N. Pima Road\, Scottsdale\, AZ\, 85250\, United States
CATEGORIES:General
END:VEVENT
BEGIN:VEVENT
DTSTART;TZID=America/Phoenix:20250422T163000
DTEND;TZID=America/Phoenix:20250422T163000
DTSTAMP:20260423T042319
CREATED:20250417T224253Z
LAST-MODIFIED:20250417T224253Z
UID:10796-1745339400-1745339400@www.noahwebster.org
SUMMARY:NWS-Pima Board Meeting
DESCRIPTION:Please click HERE to view the Board Meeting Notification and Agenda.
URL:https://www.noahwebster.org/event/nws-pima-board-meeting-86/
LOCATION:Noah Webster Schools Corporate Offices\, 5399 N. Pima Road\, Scottsdale\, AZ\, 85250\, United States
CATEGORIES:General
END:VEVENT
BEGIN:VEVENT
DTSTART;TZID=America/Phoenix:20250423T173000
DTEND;TZID=America/Phoenix:20250423T224500
DTSTAMP:20260423T042319
CREATED:20250212T191401Z
LAST-MODIFIED:20250328T052016Z
UID:10697-1745429400-1745448300@www.noahwebster.org
SUMMARY:PIMA 6th/7th Twilight Field Trip
DESCRIPTION:Phoenix Zoo
URL:https://www.noahwebster.org/event/pima-6th-7th-twilight-field-trip/
LOCATION:Phoenix Zoo
CATEGORIES:Field Trip
END:VEVENT
BEGIN:VEVENT
DTSTART;TZID=America/Phoenix:20250424T171500
DTEND;TZID=America/Phoenix:20250424T230000
DTSTAMP:20260423T042319
CREATED:20250212T191303Z
LAST-MODIFIED:20250328T052055Z
UID:10696-1745514900-1745535600@www.noahwebster.org
SUMMARY:MESA 6th/7th Twilight Field Trip
DESCRIPTION:Phoenix Zoo
URL:https://www.noahwebster.org/event/mesa-6th-7th-twilight-field-trip/
LOCATION:Phoenix Zoo
CATEGORIES:Field Trip
END:VEVENT
BEGIN:VEVENT
DTSTART;TZID=America/Phoenix:20250425T083000
DTEND;TZID=America/Phoenix:20250425T090000
DTSTAMP:20260423T042319
CREATED:20240816T215244Z
LAST-MODIFIED:20240816T215244Z
UID:10310-1745569800-1745571600@www.noahwebster.org
SUMMARY:MESA 4th-7th Gr. Pep Assembly
DESCRIPTION:
URL:https://www.noahwebster.org/event/mesa-4th-7th-gr-pep-assembly-9/
LOCATION:Mesa Campus\, 7301 E. Baseline Road\, Mesa\, AZ\, 85209\, United States
CATEGORIES:General
END:VEVENT
BEGIN:VEVENT
DTSTART;TZID=America/Phoenix:20250425T083000
DTEND;TZID=America/Phoenix:20250425T090000
DTSTAMP:20260423T042319
CREATED:20240816T215457Z
LAST-MODIFIED:20240816T215457Z
UID:10311-1745569800-1745571600@www.noahwebster.org
SUMMARY:PIMA 4th-7th Gr. Pep Assembly
DESCRIPTION:
URL:https://www.noahwebster.org/event/pima-4th-7th-gr-pep-assembly-9/
LOCATION:Pima Campus\, 5399 N. Pima Road\, Scottsdale\, AZ\, 85250\, United States
CATEGORIES:General
END:VEVENT
BEGIN:VEVENT
DTSTART;VALUE=DATE:20250428
DTEND;VALUE=DATE:20250502
DTSTAMP:20260423T042319
CREATED:20240830T183848Z
LAST-MODIFIED:20250501T231210Z
UID:10418-1745798400-1746143999@www.noahwebster.org
SUMMARY:MESA Scholastic Book Fair
DESCRIPTION:
URL:https://www.noahwebster.org/event/mesa-scholastic-book-fair-16/
LOCATION:Mesa Campus\, 7301 E. Baseline Road\, Mesa\, AZ\, 85209\, United States
CATEGORIES:School Activity
END:VEVENT
BEGIN:VEVENT
DTSTART;TZID=America/Phoenix:20250430T183000
DTEND;TZID=America/Phoenix:20250430T193000
DTSTAMP:20260423T042319
CREATED:20250415T231316Z
LAST-MODIFIED:20250415T231316Z
UID:10775-1746037800-1746041400@www.noahwebster.org
SUMMARY:PIMA Title VI Indian Parent Committee Public Meeting
DESCRIPTION:This meeting will be held virtually.
URL:https://www.noahwebster.org/event/pima-title-vi-indian-parent-committee-public-meeting/
CATEGORIES:General
END:VEVENT
BEGIN:VEVENT
DTSTART;TZID=America/Phoenix:20250501T070000
DTEND;TZID=America/Phoenix:20250501T080000
DTSTAMP:20260423T042319
CREATED:20240830T183942Z
LAST-MODIFIED:20240830T183942Z
UID:10419-1746082800-1746086400@www.noahwebster.org
SUMMARY:MESA Breakfast with Mom
DESCRIPTION:
URL:https://www.noahwebster.org/event/mesa-breakfast-with-mom-3/
LOCATION:Mesa Campus\, 7301 E. Baseline Road\, Mesa\, AZ\, 85209\, United States
CATEGORIES:School Activity
END:VEVENT
BEGIN:VEVENT
DTSTART;TZID=America/Phoenix:20250501T091500
DTEND;TZID=America/Phoenix:20250501T133000
DTSTAMP:20260423T042319
CREATED:20250321T181944Z
LAST-MODIFIED:20250321T181944Z
UID:10740-1746090900-1746106200@www.noahwebster.org
SUMMARY:MESA 3rd Gr Field Trip
DESCRIPTION:Crayola Experience
URL:https://www.noahwebster.org/event/mesa-3rd-gr-field-trip-13/
LOCATION:Crayola Experience
CATEGORIES:Field Trip
END:VEVENT
BEGIN:VEVENT
DTSTART;TZID=America/Phoenix:20250501T120000
DTEND;TZID=America/Phoenix:20250501T140000
DTSTAMP:20260423T042319
CREATED:20250321T182152Z
LAST-MODIFIED:20250321T182152Z
UID:10742-1746100800-1746108000@www.noahwebster.org
SUMMARY:PIMA 6th/7th Gr. Field Trip
DESCRIPTION:Organ Stop Pizza
URL:https://www.noahwebster.org/event/pima-6th-7th-gr-field-trip-4/
LOCATION:Organ Stop Pizza
CATEGORIES:Field Trip
END:VEVENT
BEGIN:VEVENT
DTSTART;TZID=America/Phoenix:20250501T183000
DTEND;TZID=America/Phoenix:20250501T191500
DTSTAMP:20260423T042319
CREATED:20240918T213200Z
LAST-MODIFIED:20240918T213200Z
UID:10490-1746124200-1746126900@www.noahwebster.org
SUMMARY:PIMA Dance/Cheer Performance
DESCRIPTION:
URL:https://www.noahwebster.org/event/pima-dance-cheer-performance-2/
LOCATION:Pima Campus\, 5399 N. Pima Road\, Scottsdale\, AZ\, 85250\, United States
CATEGORIES:After School Program
END:VEVENT
BEGIN:VEVENT
DTSTART;TZID=America/Phoenix:20250501T183000
DTEND;TZID=America/Phoenix:20250501T193000
DTSTAMP:20260423T042319
CREATED:20240821T170935Z
LAST-MODIFIED:20250320T162451Z
UID:10339-1746124200-1746127800@www.noahwebster.org
SUMMARY:MESA 3rd & 4th Gr. Musical
DESCRIPTION:
URL:https://www.noahwebster.org/event/3rd-4th-gr-musical-dessert-night-performance/
LOCATION:Mesa Campus\, 7301 E. Baseline Road\, Mesa\, AZ\, 85209\, United States
CATEGORIES:Music
END:VEVENT
BEGIN:VEVENT
DTSTART;TZID=America/Phoenix:20250502T093000
DTEND;TZID=America/Phoenix:20250502T140000
DTSTAMP:20260423T042319
CREATED:20250321T182044Z
LAST-MODIFIED:20250321T182044Z
UID:10741-1746178200-1746194400@www.noahwebster.org
SUMMARY:MESA KG Field Trip
DESCRIPTION:Phoenix Zoo
URL:https://www.noahwebster.org/event/mesa-kg-field-trip-9/
LOCATION:Phoenix Zoo
CATEGORIES:Field Trip
END:VEVENT
BEGIN:VEVENT
DTSTART;TZID=America/Phoenix:20250502T100000
DTEND;TZID=America/Phoenix:20250502T140000
DTSTAMP:20260423T042319
CREATED:20250415T232208Z
LAST-MODIFIED:20250415T232208Z
UID:10776-1746180000-1746194400@www.noahwebster.org
SUMMARY:PIMA 1st Gr. Field Trip
DESCRIPTION:Highlands Church
URL:https://www.noahwebster.org/event/pima-1st-gr-field-trip-10/
LOCATION:Highlands Church
CATEGORIES:Field Trip
END:VEVENT
BEGIN:VEVENT
DTSTART;VALUE=DATE:20250505
DTEND;VALUE=DATE:20250510
DTSTAMP:20260423T042319
CREATED:20240830T184042Z
LAST-MODIFIED:20240830T184042Z
UID:10420-1746403200-1746835199@www.noahwebster.org
SUMMARY:PIMA Scholastic Book Fair
DESCRIPTION:
URL:https://www.noahwebster.org/event/pima-scholastic-book-fair-16/
LOCATION:Pima Campus\, 5399 N. Pima Road\, Scottsdale\, AZ\, 85250\, United States
CATEGORIES:School Activity
END:VEVENT
BEGIN:VEVENT
DTSTART;TZID=America/Phoenix:20250506T070000
DTEND;TZID=America/Phoenix:20250506T080000
DTSTAMP:20260423T042319
CREATED:20240830T184131Z
LAST-MODIFIED:20240830T191338Z
UID:10421-1746514800-1746518400@www.noahwebster.org
SUMMARY:PIMA Breakfast with Mom
DESCRIPTION:
URL:https://www.noahwebster.org/event/pima-breakfast-with-mom-3/
LOCATION:Pima Campus\, 5399 N. Pima Road\, Scottsdale\, AZ\, 85250\, United States
CATEGORIES:School Activity
END:VEVENT
BEGIN:VEVENT
DTSTART;TZID=America/Phoenix:20250506T183000
DTEND;TZID=America/Phoenix:20250506T193000
DTSTAMP:20260423T042319
CREATED:20240906T210612Z
LAST-MODIFIED:20250211T191058Z
UID:10469-1746556200-1746559800@www.noahwebster.org
SUMMARY:MESA 6th & 7th Gr. Showcase Night
DESCRIPTION:
URL:https://www.noahwebster.org/event/mesa-6th-7th-gr-showcase-night/
LOCATION:Mesa Campus\, 7301 E. Baseline Road\, Mesa\, AZ\, 85209\, United States
CATEGORIES:School Activity
END:VEVENT
BEGIN:VEVENT
DTSTART;VALUE=DATE:20250507
DTEND;VALUE=DATE:20250508
DTSTAMP:20260423T042319
CREATED:20240816T210048Z
LAST-MODIFIED:20240816T210048Z
UID:10268-1746576000-1746662399@www.noahwebster.org
SUMMARY:MESA Professional Development (Early Dismissal)
DESCRIPTION:
URL:https://www.noahwebster.org/event/mesa-professional-development-early-dismissal-27/
LOCATION:Mesa Campus\, 7301 E. Baseline Road\, Mesa\, AZ\, 85209\, United States
CATEGORIES:Early Dismissal
END:VEVENT
BEGIN:VEVENT
DTSTART;VALUE=DATE:20250507
DTEND;VALUE=DATE:20250508
DTSTAMP:20260423T042319
CREATED:20240816T210452Z
LAST-MODIFIED:20240816T210452Z
UID:10269-1746576000-1746662399@www.noahwebster.org
SUMMARY:PIMA Professional Development (Early Dismissal)
DESCRIPTION:
URL:https://www.noahwebster.org/event/pima-professional-development-early-dismissal-26/
LOCATION:Pima Campus\, 5399 N. Pima Road\, Scottsdale\, AZ\, 85250\, United States
CATEGORIES:Early Dismissal
END:VEVENT
BEGIN:VEVENT
DTSTART;TZID=America/Phoenix:20250508T183000
DTEND;TZID=America/Phoenix:20250508T193000
DTSTAMP:20260423T042319
CREATED:20240821T171510Z
LAST-MODIFIED:20250123T175931Z
UID:10342-1746729000-1746732600@www.noahwebster.org
SUMMARY:MESA Band Performance
DESCRIPTION:
URL:https://www.noahwebster.org/event/mesa-band-performance-2/
LOCATION:Mesa Campus\, 7301 E. Baseline Road\, Mesa\, AZ\, 85209\, United States
CATEGORIES:After School Program
END:VEVENT
BEGIN:VEVENT
DTSTART;TZID=America/Phoenix:20250509T083000
DTEND;TZID=America/Phoenix:20250509T090000
DTSTAMP:20260423T042319
CREATED:20240816T213311Z
LAST-MODIFIED:20240816T213311Z
UID:10291-1746779400-1746781200@www.noahwebster.org
SUMMARY:MESA PK-3rd Gr. Pep Assembly
DESCRIPTION:
URL:https://www.noahwebster.org/event/mesa-pk-3rd-gr-pep-assembly-10/
LOCATION:Mesa Campus\, 7301 E. Baseline Road\, Mesa\, AZ\, 85209\, United States
CATEGORIES:General
END:VEVENT
BEGIN:VEVENT
DTSTART;TZID=America/Phoenix:20250509T083000
DTEND;TZID=America/Phoenix:20250509T090000
DTSTAMP:20260423T042319
CREATED:20240816T213354Z
LAST-MODIFIED:20240816T213354Z
UID:10292-1746779400-1746781200@www.noahwebster.org
SUMMARY:PIMA PK-3rd Gr. Pep Assembly
DESCRIPTION:
URL:https://www.noahwebster.org/event/pima-pk-3rd-gr-pep-assembly-10/
LOCATION:Pima Campus\, 5399 N. Pima Road\, Scottsdale\, AZ\, 85250\, United States
CATEGORIES:General
END:VEVENT
END:VCALENDAR