BEGIN:VCALENDAR
VERSION:2.0
PRODID:-//Noah Webster - ECPv6.15.20//NONSGML v1.0//EN
CALSCALE:GREGORIAN
METHOD:PUBLISH
X-ORIGINAL-URL:https://www.noahwebster.org
X-WR-CALDESC:Events for Noah Webster
REFRESH-INTERVAL;VALUE=DURATION:PT1H
X-Robots-Tag:noindex
X-PUBLISHED-TTL:PT1H
BEGIN:VTIMEZONE
TZID:America/Phoenix
BEGIN:STANDARD
TZOFFSETFROM:-0700
TZOFFSETTO:-0700
TZNAME:MST
DTSTART:20210101T000000
END:STANDARD
END:VTIMEZONE
BEGIN:VEVENT
DTSTART;TZID=America/Phoenix:20221208T183000
DTEND;TZID=America/Phoenix:20221208T193000
DTSTAMP:20260421T152633
CREATED:20220830T220142Z
LAST-MODIFIED:20220830T220142Z
UID:8764-1670524200-1670527800@www.noahwebster.org
SUMMARY:MESA Spelling Bee Semi-Finals
DESCRIPTION:
URL:https://www.noahwebster.org/event/mesa-spelling-bee-semi-finals-5/
LOCATION:Mesa Campus\, 7301 E. Baseline Road\, Mesa\, AZ\, 85209\, United States
CATEGORIES:School Activity
END:VEVENT
BEGIN:VEVENT
DTSTART;TZID=America/Phoenix:20221208T183000
DTEND;TZID=America/Phoenix:20221208T193000
DTSTAMP:20260421T152633
CREATED:20220830T220227Z
LAST-MODIFIED:20220830T220227Z
UID:8765-1670524200-1670527800@www.noahwebster.org
SUMMARY:PIMA Spelling Bee Semi-Finals
DESCRIPTION:
URL:https://www.noahwebster.org/event/pima-spelling-bee-semi-finals-5/
LOCATION:Pima Campus\, 5399 N. Pima Road\, Scottsdale\, AZ\, 85250\, United States
CATEGORIES:School Activity
END:VEVENT
BEGIN:VEVENT
DTSTART;VALUE=DATE:20221212
DTEND;VALUE=DATE:20221213
DTSTAMP:20260421T152633
CREATED:20220819T061524Z
LAST-MODIFIED:20220819T061524Z
UID:8710-1670803200-1670889599@www.noahwebster.org
SUMMARY:MESA After School Programs Session 4
DESCRIPTION:Session 4 of After School Programs begins. Sign up forms are available in the front office and online.
URL:https://www.noahwebster.org/event/mesa-after-school-programs-session-4/
LOCATION:Mesa Campus\, 7301 E. Baseline Road\, Mesa\, AZ\, 85209\, United States
CATEGORIES:After School Program
END:VEVENT
BEGIN:VEVENT
DTSTART;VALUE=DATE:20221212
DTEND;VALUE=DATE:20221213
DTSTAMP:20260421T152633
CREATED:20220819T061635Z
LAST-MODIFIED:20220819T061635Z
UID:8711-1670803200-1670889599@www.noahwebster.org
SUMMARY:PIMA After School Programs Session 4
DESCRIPTION:Session 4 of After School Programs begins. Sign up forms are available in the front office and online.
URL:https://www.noahwebster.org/event/pima-after-school-programs-session-4/
LOCATION:Pima Campus\, 5399 N. Pima Road\, Scottsdale\, AZ\, 85250\, United States
CATEGORIES:After School Program
END:VEVENT
BEGIN:VEVENT
DTSTART;TZID=America/Phoenix:20221213T084500
DTEND;TZID=America/Phoenix:20221213T140000
DTSTAMP:20260421T152633
CREATED:20221104T225131Z
LAST-MODIFIED:20221104T225131Z
UID:8907-1670921100-1670940000@www.noahwebster.org
SUMMARY:MESA 6th Gr. Field Trip
DESCRIPTION:Main Event
URL:https://www.noahwebster.org/event/mesa-6th-gr-field-trip-2/
LOCATION:Main Event
CATEGORIES:Field Trip
END:VEVENT
BEGIN:VEVENT
DTSTART;TZID=America/Phoenix:20221213T091500
DTEND;TZID=America/Phoenix:20221213T140000
DTSTAMP:20260421T152633
CREATED:20221115T184952Z
LAST-MODIFIED:20221115T184952Z
UID:8933-1670922900-1670940000@www.noahwebster.org
SUMMARY:PIMA 1st Gr. Field Trip
DESCRIPTION:Phoenix Zoo
URL:https://www.noahwebster.org/event/pima-1st-gr-field-trip-5/
LOCATION:Phoenix Zoo
CATEGORIES:Field Trip
END:VEVENT
BEGIN:VEVENT
DTSTART;TZID=America/Phoenix:20221213T183000
DTEND;TZID=America/Phoenix:20221213T193000
DTSTAMP:20260421T152633
CREATED:20220830T220433Z
LAST-MODIFIED:20220830T220649Z
UID:8767-1670956200-1670959800@www.noahwebster.org
SUMMARY:MESA Spelling Bee Finals
DESCRIPTION:
URL:https://www.noahwebster.org/event/mesa-spelling-bee-finals-4/
LOCATION:Mesa Campus\, 7301 E. Baseline Road\, Mesa\, AZ\, 85209\, United States
CATEGORIES:School Activity
END:VEVENT
BEGIN:VEVENT
DTSTART;TZID=America/Phoenix:20221213T183000
DTEND;TZID=America/Phoenix:20221213T193000
DTSTAMP:20260421T152633
CREATED:20220830T220742Z
LAST-MODIFIED:20220830T220742Z
UID:8768-1670956200-1670959800@www.noahwebster.org
SUMMARY:PIMA Spelling Bee Finals
DESCRIPTION:
URL:https://www.noahwebster.org/event/pima-spelling-bee-finals-5/
LOCATION:Mesa Campus\, 7301 E. Baseline Road\, Mesa\, AZ\, 85209\, United States
CATEGORIES:School Activity
END:VEVENT
BEGIN:VEVENT
DTSTART;TZID=America/Phoenix:20221215T090000
DTEND;TZID=America/Phoenix:20221215T140000
DTSTAMP:20260421T152633
CREATED:20221115T182748Z
LAST-MODIFIED:20221115T182748Z
UID:8927-1671094800-1671112800@www.noahwebster.org
SUMMARY:MESA 1st Gr. Field Trip
DESCRIPTION:IDEA Museum
URL:https://www.noahwebster.org/event/mesa-1st-gr-field-trip-3/
LOCATION:IDEA Museum
CATEGORIES:Field Trip
END:VEVENT
BEGIN:VEVENT
DTSTART;TZID=America/Phoenix:20221215T110000
DTEND;TZID=America/Phoenix:20221215T141500
DTSTAMP:20260421T152633
CREATED:20220923T224540Z
LAST-MODIFIED:20220923T224540Z
UID:8868-1671102000-1671113700@www.noahwebster.org
SUMMARY:PIMA 5th & 6th Gr. Field Trip
DESCRIPTION:Phoenix Art Museum
URL:https://www.noahwebster.org/event/pima-5th-6th-gr-field-trip-2/
LOCATION:Phoenix Art Museum
CATEGORIES:Field Trip
END:VEVENT
BEGIN:VEVENT
DTSTART;VALUE=DATE:20221216
DTEND;VALUE=DATE:20221217
DTSTAMP:20260421T152633
CREATED:20220819T040742Z
LAST-MODIFIED:20220819T040742Z
UID:8672-1671148800-1671235199@www.noahwebster.org
SUMMARY:MESA Professional Development Day (Early Dismissal)
DESCRIPTION:
URL:https://www.noahwebster.org/event/mesa-professional-development-day-early-dismissal-65/
LOCATION:Mesa Campus\, 7301 E. Baseline Road\, Mesa\, AZ\, 85209\, United States
CATEGORIES:Early Dismissal
END:VEVENT
BEGIN:VEVENT
DTSTART;VALUE=DATE:20221216
DTEND;VALUE=DATE:20221217
DTSTAMP:20260421T152633
CREATED:20220819T040918Z
LAST-MODIFIED:20220819T040918Z
UID:8673-1671148800-1671235199@www.noahwebster.org
SUMMARY:PIMA Professional Development Day (Early Dismissal)
DESCRIPTION:
URL:https://www.noahwebster.org/event/pima-professional-development-day-early-dismissal-74/
LOCATION:Pima Campus\, 5399 N. Pima Road\, Scottsdale\, AZ\, 85250\, United States
CATEGORIES:Early Dismissal
END:VEVENT
BEGIN:VEVENT
DTSTART;VALUE=DATE:20221219
DTEND;VALUE=DATE:20230103
DTSTAMP:20260421T152633
CREATED:20220819T041058Z
LAST-MODIFIED:20220819T041058Z
UID:8674-1671408000-1672703999@www.noahwebster.org
SUMMARY:Winter Break (No School)
DESCRIPTION:
URL:https://www.noahwebster.org/event/winter-break-no-school-2/
LOCATION:AZ
CATEGORIES:Holiday
END:VEVENT
BEGIN:VEVENT
DTSTART;VALUE=DATE:20230103
DTEND;VALUE=DATE:20230104
DTSTAMP:20260421T152633
CREATED:20220830T220955Z
LAST-MODIFIED:20220830T220955Z
UID:8769-1672704000-1672790399@www.noahwebster.org
SUMMARY:MESA School Resumes
DESCRIPTION:
URL:https://www.noahwebster.org/event/mesa-school-resumes-5/
LOCATION:Mesa Campus\, 7301 E. Baseline Road\, Mesa\, AZ\, 85209\, United States
CATEGORIES:General
END:VEVENT
BEGIN:VEVENT
DTSTART;VALUE=DATE:20230103
DTEND;VALUE=DATE:20230104
DTSTAMP:20260421T152633
CREATED:20220830T221026Z
LAST-MODIFIED:20220830T221026Z
UID:8770-1672704000-1672790399@www.noahwebster.org
SUMMARY:PIMA School Resumes
DESCRIPTION:
URL:https://www.noahwebster.org/event/pima-school-resumes-6/
LOCATION:Pima Campus\, 5399 N. Pima Road\, Scottsdale\, AZ\, 85250\, United States
CATEGORIES:General
END:VEVENT
BEGIN:VEVENT
DTSTART;TZID=America/Phoenix:20230104T100000
DTEND;TZID=America/Phoenix:20230104T110000
DTSTAMP:20260421T152633
CREATED:20230104T043629Z
LAST-MODIFIED:20230104T043629Z
UID:8949-1672826400-1672830000@www.noahwebster.org
SUMMARY:MESA Welcome Wednesday
DESCRIPTION:We invite prospective families to tour the school and see what we have to offer! \nTours will be given by one of our Department Directors and each tour can consist of up to three (3) families at a time. \nTo view the available days and to reserve your tour\, please click HERE.
URL:https://www.noahwebster.org/event/mesa-welcome-wednesday-154/
LOCATION:Mesa Campus\, 7301 E. Baseline Road\, Mesa\, AZ\, 85209\, United States
CATEGORIES:New Family Onsite Tours
END:VEVENT
BEGIN:VEVENT
DTSTART;TZID=America/Phoenix:20230104T100000
DTEND;TZID=America/Phoenix:20230104T110000
DTSTAMP:20260421T152633
CREATED:20230104T045110Z
LAST-MODIFIED:20230104T045110Z
UID:8960-1672826400-1672830000@www.noahwebster.org
SUMMARY:PIMA Welcome Wednesday
DESCRIPTION:We invite prospective families to tour the school and see what we have to offer! \nTours will be given by one of our Department Directors and each tour can consist of up to three (3) families at a time. \nTo view the available days and to reserve your tour\, please click HERE.
URL:https://www.noahwebster.org/event/pima-welcome-wednesday-158/
LOCATION:Pima Campus\, 5399 N. Pima Road\, Scottsdale\, AZ\, 85250\, United States
CATEGORIES:New Family Onsite Tours
END:VEVENT
BEGIN:VEVENT
DTSTART;VALUE=DATE:20230111
DTEND;VALUE=DATE:20230112
DTSTAMP:20260421T152633
CREATED:20220819T041229Z
LAST-MODIFIED:20220819T041229Z
UID:8675-1673395200-1673481599@www.noahwebster.org
SUMMARY:MESA Professional Development Day (Early Dismissal)
DESCRIPTION:
URL:https://www.noahwebster.org/event/mesa-professional-development-day-early-dismissal-66/
LOCATION:Mesa Campus\, 7301 E. Baseline Road\, Mesa\, AZ\, 85209\, United States
CATEGORIES:Early Dismissal
END:VEVENT
BEGIN:VEVENT
DTSTART;VALUE=DATE:20230111
DTEND;VALUE=DATE:20230112
DTSTAMP:20260421T152633
CREATED:20220819T041616Z
LAST-MODIFIED:20220819T041616Z
UID:8678-1673395200-1673481599@www.noahwebster.org
SUMMARY:PIMA Professional Development Day (Early Dismissal)
DESCRIPTION:
URL:https://www.noahwebster.org/event/pima-professional-development-day-early-dismissal-75/
LOCATION:Pima Campus\, 5399 N. Pima Road\, Scottsdale\, AZ\, 85250\, United States
CATEGORIES:Early Dismissal
END:VEVENT
BEGIN:VEVENT
DTSTART;VALUE=DATE:20230116
DTEND;VALUE=DATE:20230117
DTSTAMP:20260421T152633
CREATED:20220819T041510Z
LAST-MODIFIED:20220819T041510Z
UID:8677-1673827200-1673913599@www.noahwebster.org
SUMMARY:Civil Rights Day (No School)
DESCRIPTION:
URL:https://www.noahwebster.org/event/civil-rights-day-no-school-2/
LOCATION:AZ
CATEGORIES:Holiday
END:VEVENT
BEGIN:VEVENT
DTSTART;VALUE=DATE:20230117
DTEND;VALUE=DATE:20230121
DTSTAMP:20260421T152633
CREATED:20220830T221120Z
LAST-MODIFIED:20220830T221120Z
UID:8771-1673913600-1674259199@www.noahwebster.org
SUMMARY:MESA Spirit Week
DESCRIPTION:
URL:https://www.noahwebster.org/event/mesa-spirit-week-18/
LOCATION:Mesa Campus\, 7301 E. Baseline Road\, Mesa\, AZ\, 85209\, United States
CATEGORIES:School Activity
END:VEVENT
BEGIN:VEVENT
DTSTART;VALUE=DATE:20230117
DTEND;VALUE=DATE:20230121
DTSTAMP:20260421T152633
CREATED:20220830T221201Z
LAST-MODIFIED:20220830T221201Z
UID:8772-1673913600-1674259199@www.noahwebster.org
SUMMARY:PIMA Spirit Week
DESCRIPTION:
URL:https://www.noahwebster.org/event/pima-spirit-week-20/
LOCATION:Pima Campus\, 5399 N. Pima Road\, Scottsdale\, AZ\, 85250\, United States
CATEGORIES:School Activity
END:VEVENT
BEGIN:VEVENT
DTSTART;TZID=America/Phoenix:20230117T163000
DTEND;TZID=America/Phoenix:20230117T163000
DTSTAMP:20260421T152633
CREATED:20230113T203503Z
LAST-MODIFIED:20230113T203503Z
UID:8997-1673973000-1673973000@www.noahwebster.org
SUMMARY:NWS-Mesa Board Meeting
DESCRIPTION:Please click HERE to view the Board Meeting Notification and Agenda.  This meeting will be held virtually.
URL:https://www.noahwebster.org/event/nws-mesa-board-meeting-56/
LOCATION:AZ
CATEGORIES:General
END:VEVENT
BEGIN:VEVENT
DTSTART;TZID=America/Phoenix:20230117T163000
DTEND;TZID=America/Phoenix:20230117T163000
DTSTAMP:20260421T152633
CREATED:20230113T203818Z
LAST-MODIFIED:20230113T203818Z
UID:8999-1673973000-1673973000@www.noahwebster.org
SUMMARY:NWS-Pima Board Meeting
DESCRIPTION:Please click HERE to view the Board Meeting Notification and Agenda.  This meeting will be held virtually.
URL:https://www.noahwebster.org/event/nws-pima-board-meeting-63/
LOCATION:AZ
CATEGORIES:General
END:VEVENT
BEGIN:VEVENT
DTSTART;TZID=America/Phoenix:20230118T100000
DTEND;TZID=America/Phoenix:20230118T110000
DTSTAMP:20260421T152633
CREATED:20230104T043727Z
LAST-MODIFIED:20230104T043727Z
UID:8950-1674036000-1674039600@www.noahwebster.org
SUMMARY:MESA Welcome Wednesday
DESCRIPTION:We invite prospective families to tour the school and see what we have to offer! \nTours will be given by one of our Department Directors and each tour can consist of up to three (3) families at a time. \nTo view the available days and to reserve your tour\, please click HERE.
URL:https://www.noahwebster.org/event/mesa-welcome-wednesday-156/
LOCATION:Mesa Campus\, 7301 E. Baseline Road\, Mesa\, AZ\, 85209\, United States
CATEGORIES:New Family Onsite Tours
END:VEVENT
BEGIN:VEVENT
DTSTART;TZID=America/Phoenix:20230118T100000
DTEND;TZID=America/Phoenix:20230118T110000
DTSTAMP:20260421T152633
CREATED:20230104T045209Z
LAST-MODIFIED:20230104T045209Z
UID:8961-1674036000-1674039600@www.noahwebster.org
SUMMARY:PIMA Welcome Wednesday
DESCRIPTION:We invite prospective families to tour the school and see what we have to offer! \nTours will be given by one of our Department Directors and each tour can consist of up to three (3) families at a time. \nTo view the available days and to reserve your tour\, please click HERE.
URL:https://www.noahwebster.org/event/pima-welcome-wednesday-160/
LOCATION:Pima Campus\, 5399 N. Pima Road\, Scottsdale\, AZ\, 85250\, United States
CATEGORIES:New Family Onsite Tours
END:VEVENT
BEGIN:VEVENT
DTSTART;VALUE=DATE:20230124
DTEND;VALUE=DATE:20230125
DTSTAMP:20260421T152633
CREATED:20220830T221340Z
LAST-MODIFIED:20220830T221340Z
UID:8773-1674518400-1674604799@www.noahwebster.org
SUMMARY:MESA Spring Picture Day
DESCRIPTION:Please Note: There is no Absentee Day for Spring Picture Day.
URL:https://www.noahwebster.org/event/mesa-spring-picture-day/
LOCATION:Mesa Campus\, 7301 E. Baseline Road\, Mesa\, AZ\, 85209\, United States
CATEGORIES:General
END:VEVENT
BEGIN:VEVENT
DTSTART;TZID=America/Phoenix:20230124T183000
DTEND;TZID=America/Phoenix:20230124T193000
DTSTAMP:20260421T152633
CREATED:20220819T071434Z
LAST-MODIFIED:20221021T230137Z
UID:8729-1674585000-1674588600@www.noahwebster.org
SUMMARY:PIMA 4th Grade Showcase Night
DESCRIPTION:
URL:https://www.noahwebster.org/event/pima-4th-grade-showcase-night-4/
LOCATION:Pima Campus\, 5399 N. Pima Road\, Scottsdale\, AZ\, 85250\, United States
CATEGORIES:School Activity
END:VEVENT
BEGIN:VEVENT
DTSTART;VALUE=DATE:20230125
DTEND;VALUE=DATE:20230126
DTSTAMP:20260421T152633
CREATED:20220819T041401Z
LAST-MODIFIED:20220819T041401Z
UID:8676-1674604800-1674691199@www.noahwebster.org
SUMMARY:MESA Professional Development Day (Early Dismissal)
DESCRIPTION:
URL:https://www.noahwebster.org/event/mesa-professional-development-day-early-dismissal-67/
LOCATION:Mesa Campus\, 7301 E. Baseline Road\, Mesa\, AZ\, 85209\, United States
CATEGORIES:Early Dismissal
END:VEVENT
BEGIN:VEVENT
DTSTART;VALUE=DATE:20230125
DTEND;VALUE=DATE:20230126
DTSTAMP:20260421T152633
CREATED:20220819T041757Z
LAST-MODIFIED:20220819T041757Z
UID:8679-1674604800-1674691199@www.noahwebster.org
SUMMARY:PIMA Professional Development Day (Early Dismissal)
DESCRIPTION:
URL:https://www.noahwebster.org/event/pima-professional-development-day-early-dismissal-76/
LOCATION:Pima Campus\, 5399 N. Pima Road\, Scottsdale\, AZ\, 85250\, United States
CATEGORIES:Early Dismissal
END:VEVENT
END:VCALENDAR