BEGIN:VCALENDAR
VERSION:2.0
PRODID:-//Noah Webster - ECPv6.15.20//NONSGML v1.0//EN
CALSCALE:GREGORIAN
METHOD:PUBLISH
X-WR-CALNAME:Noah Webster
X-ORIGINAL-URL:https://www.noahwebster.org
X-WR-CALDESC:Events for Noah Webster
REFRESH-INTERVAL;VALUE=DURATION:PT1H
X-Robots-Tag:noindex
X-PUBLISHED-TTL:PT1H
BEGIN:VTIMEZONE
TZID:UTC
BEGIN:STANDARD
TZOFFSETFROM:+0000
TZOFFSETTO:+0000
TZNAME:UTC
DTSTART:20160101T000000
END:STANDARD
END:VTIMEZONE
BEGIN:VEVENT
DTSTART;VALUE=DATE:20171003
DTEND;VALUE=DATE:20171004
DTSTAMP:20260424T201517
CREATED:20170824T030646Z
LAST-MODIFIED:20170824T030646Z
UID:3650-1506988800-1507075199@www.noahwebster.org
SUMMARY:PIMA Fall School Portraits
DESCRIPTION:
URL:https://www.noahwebster.org/event/pima-fall-school-portraits/
LOCATION:Pima Campus\, 5399 N. Pima Road\, Scottsdale\, AZ\, 85250\, United States
CATEGORIES:General
END:VEVENT
BEGIN:VEVENT
DTSTART;TZID=UTC:20171002T070000
DTEND;TZID=UTC:20171002T080000
DTSTAMP:20260424T201517
CREATED:20170824T030434Z
LAST-MODIFIED:20170824T030434Z
UID:3645-1506927600-1506931200@www.noahwebster.org
SUMMARY:MESA Breakfast with Grandparents
DESCRIPTION:The event is divided by last name: A-L\nRemember to order your tickets in advance.
URL:https://www.noahwebster.org/event/mesa-breakfast-grandparents/
LOCATION:AZ
CATEGORIES:School Activity
END:VEVENT
BEGIN:VEVENT
DTSTART;VALUE=DATE:20171002
DTEND;VALUE=DATE:20171007
DTSTAMP:20260424T201517
CREATED:20170824T030145Z
LAST-MODIFIED:20170824T030145Z
UID:3642-1506902400-1507334399@www.noahwebster.org
SUMMARY:MESA Scholastic Book Fair
DESCRIPTION:To view the Book Fair website\, please click HERE.
URL:https://www.noahwebster.org/event/mesa-scholastic-book-fair-4/
LOCATION:AZ
CATEGORIES:School Activity
END:VEVENT
BEGIN:VEVENT
DTSTART;TZID=UTC:20170928T183000
DTEND;TZID=UTC:20170928T193000
DTSTAMP:20260424T201517
CREATED:20170822T063245Z
LAST-MODIFIED:20170822T063245Z
UID:3633-1506623400-1506627000@www.noahwebster.org
SUMMARY:PIMA Ice Cream Social Night (2 of 2)
DESCRIPTION:Performing: Pre-Kindergarten & 1st Grade Classes
URL:https://www.noahwebster.org/event/pima-ice-cream-social-night-2-2/
LOCATION:Pima Campus\, 5399 N. Pima Road\, Scottsdale\, AZ\, 85250\, United States
CATEGORIES:School Activity
END:VEVENT
BEGIN:VEVENT
DTSTART;TZID=UTC:20170928T103000
DTEND;TZID=UTC:20170928T130000
DTSTAMP:20260424T201517
CREATED:20170913T041017Z
LAST-MODIFIED:20170913T041017Z
UID:3948-1506594600-1506603600@www.noahwebster.org
SUMMARY:MESA KG Field Trip
DESCRIPTION:Organ Stop Pizza
URL:https://www.noahwebster.org/event/kg-field-trip/
LOCATION:Organ Stop Pizza
CATEGORIES:Field Trip
END:VEVENT
BEGIN:VEVENT
DTSTART;TZID=UTC:20170927T183000
DTEND;TZID=UTC:20170927T193000
DTSTAMP:20260424T201517
CREATED:20170822T063151Z
LAST-MODIFIED:20170822T063151Z
UID:3630-1506537000-1506540600@www.noahwebster.org
SUMMARY:PIMA Ice Cream Social Night (1 of 2)
DESCRIPTION:Performing: Kindergarten Classes
URL:https://www.noahwebster.org/event/pima-ice-cream-social-night-1-2/
LOCATION:Pima Campus\, 5399 N. Pima Road\, Scottsdale\, AZ\, 85250\, United States
CATEGORIES:School Activity
END:VEVENT
BEGIN:VEVENT
DTSTART;TZID=UTC:20170927T100000
DTEND;TZID=UTC:20170927T100000
DTSTAMP:20260424T201517
CREATED:20170815T225100Z
LAST-MODIFIED:20170815T225100Z
UID:3433-1506506400-1506506400@www.noahwebster.org
SUMMARY:MESA Welcome Wednesday
DESCRIPTION:Come take a tour of the campus\, interact with Administrators and receive Admission information. If you can’t make it at 10:00 am\, contact us to schedule a private tour.
URL:https://www.noahwebster.org/event/mesa-welcome-wednesday-80/
LOCATION:AZ
CATEGORIES:General
END:VEVENT
BEGIN:VEVENT
DTSTART;TZID=UTC:20170927T100000
DTEND;TZID=UTC:20170927T100000
DTSTAMP:20260424T201517
CREATED:20170815T224903Z
LAST-MODIFIED:20170815T224903Z
UID:3429-1506506400-1506506400@www.noahwebster.org
SUMMARY:PIMA Welcome Wednesday
DESCRIPTION:Come take a tour of the campus\, interact with Administrators and receive Admission information. If you can’t make it at 10:00 am\, contact us to schedule a private tour.
URL:https://www.noahwebster.org/event/pima-welcome-wednesday-85/
LOCATION:Pima Campus\, 5399 N. Pima Road\, Scottsdale\, AZ\, 85250\, United States
CATEGORIES:General
END:VEVENT
BEGIN:VEVENT
DTSTART;TZID=UTC:20170926T183000
DTEND;TZID=UTC:20170926T193000
DTSTAMP:20260424T201517
CREATED:20170822T063057Z
LAST-MODIFIED:20170822T063057Z
UID:3628-1506450600-1506454200@www.noahwebster.org
SUMMARY:MESA Title I Parent Night
DESCRIPTION:
URL:https://www.noahwebster.org/event/mesa-title-parent-night/
LOCATION:AZ
CATEGORIES:General
END:VEVENT
BEGIN:VEVENT
DTSTART;TZID=UTC:20170926T070000
DTEND;TZID=UTC:20170926T080000
DTSTAMP:20260424T201517
CREATED:20170822T062832Z
LAST-MODIFIED:20170822T062832Z
UID:3626-1506409200-1506412800@www.noahwebster.org
SUMMARY:PIMA Breakfast with Grandparents
DESCRIPTION:The event is divided by last name: M-Z\nRemember to order your tickets in advance.
URL:https://www.noahwebster.org/event/pima-breakfast-grandparents-2/
LOCATION:Pima Campus\, 5399 N. Pima Road\, Scottsdale\, AZ\, 85250\, United States
CATEGORIES:School Activity
END:VEVENT
BEGIN:VEVENT
DTSTART;TZID=UTC:20170925T070000
DTEND;TZID=UTC:20170925T080000
DTSTAMP:20260424T201517
CREATED:20170822T062733Z
LAST-MODIFIED:20170822T062733Z
UID:3624-1506322800-1506326400@www.noahwebster.org
SUMMARY:PIMA Breakfast with Grandparents
DESCRIPTION:The event is divided by last name: A-L\nRemember to order your tickets in advance.
URL:https://www.noahwebster.org/event/pima-breakfast-grandparents/
LOCATION:Pima Campus\, 5399 N. Pima Road\, Scottsdale\, AZ\, 85250\, United States
CATEGORIES:School Activity
END:VEVENT
BEGIN:VEVENT
DTSTART;VALUE=DATE:20170925
DTEND;VALUE=DATE:20170929
DTSTAMP:20260424T201517
CREATED:20170822T062101Z
LAST-MODIFIED:20170822T062101Z
UID:3618-1506297600-1506643199@www.noahwebster.org
SUMMARY:PIMA Scholastic Book Fair
DESCRIPTION:To view the Book Fair website\, please click HERE.
URL:https://www.noahwebster.org/event/pima-scholastic-book-fair-4/
LOCATION:Pima Campus\, 5399 N. Pima Road\, Scottsdale\, AZ\, 85250\, United States
CATEGORIES:School Activity
END:VEVENT
BEGIN:VEVENT
DTSTART;VALUE=DATE:20170922
DTEND;VALUE=DATE:20170923
DTSTAMP:20260424T201517
CREATED:20170824T025459Z
LAST-MODIFIED:20170824T025459Z
UID:3640-1506038400-1506124799@www.noahwebster.org
SUMMARY:PIMA Constitution Day
DESCRIPTION:
URL:https://www.noahwebster.org/event/pima-constitution-day/
LOCATION:Pima Campus\, 5399 N. Pima Road\, Scottsdale\, AZ\, 85250\, United States
CATEGORIES:General
END:VEVENT
BEGIN:VEVENT
DTSTART;VALUE=DATE:20170922
DTEND;VALUE=DATE:20170923
DTSTAMP:20260424T201517
CREATED:20170824T025407Z
LAST-MODIFIED:20170824T025407Z
UID:3638-1506038400-1506124799@www.noahwebster.org
SUMMARY:MESA Constitution Day
DESCRIPTION:
URL:https://www.noahwebster.org/event/mesa-constitution-day/
LOCATION:AZ
CATEGORIES:General
END:VEVENT
BEGIN:VEVENT
DTSTART;TZID=UTC:20170921T183000
DTEND;TZID=UTC:20170921T193000
DTSTAMP:20260424T201517
CREATED:20170822T061917Z
LAST-MODIFIED:20170822T061917Z
UID:3616-1506018600-1506022200@www.noahwebster.org
SUMMARY:MESA 6th Grade Curriculum Night
DESCRIPTION:
URL:https://www.noahwebster.org/event/mesa-6th-grade-curriculum-night-2/
LOCATION:AZ
CATEGORIES:General
END:VEVENT
BEGIN:VEVENT
DTSTART;TZID=UTC:20170921T170000
DTEND;TZID=UTC:20170921T180000
DTSTAMP:20260424T201517
CREATED:20170822T062452Z
LAST-MODIFIED:20170822T062452Z
UID:3622-1506013200-1506016800@www.noahwebster.org
SUMMARY:PIMA Open Campus Night
DESCRIPTION:Come tour the school\, talk with administrators and receive admission information.  If you can’t make it\, schedule a private tour by calling 480-772-6149.
URL:https://www.noahwebster.org/event/pima-open-campus-night-23/
LOCATION:Pima Campus\, 5399 N. Pima Road\, Scottsdale\, AZ\, 85250\, United States
CATEGORIES:General
END:VEVENT
BEGIN:VEVENT
DTSTART;TZID=UTC:20170920T170000
DTEND;TZID=UTC:20170920T190000
DTSTAMP:20260424T201517
CREATED:20170822T062309Z
LAST-MODIFIED:20170822T062309Z
UID:3620-1505926800-1505934000@www.noahwebster.org
SUMMARY:MESA Open Campus Night
DESCRIPTION:Come tour the school\, talk with administrators and receive admission information.  If you can’t make it\, schedule a private tour by calling 480-772-6149.
URL:https://www.noahwebster.org/event/mesa-open-campus-night-24/
LOCATION:AZ
CATEGORIES:General
END:VEVENT
BEGIN:VEVENT
DTSTART;TZID=UTC:20170920T100000
DTEND;TZID=UTC:20170920T100000
DTSTAMP:20260424T201517
CREATED:20170815T225907Z
LAST-MODIFIED:20170815T225907Z
UID:3443-1505901600-1505901600@www.noahwebster.org
SUMMARY:MESA Welcome Wednesday
DESCRIPTION:Come take a tour of the campus\, interact with Administrators and receive Admission information. If you can’t make it at 10:00 am\, contact us to schedule a private tour.
URL:https://www.noahwebster.org/event/mesa-welcome-wednesday-82/
LOCATION:AZ
CATEGORIES:General
END:VEVENT
BEGIN:VEVENT
DTSTART;TZID=UTC:20170920T100000
DTEND;TZID=UTC:20170920T100000
DTSTAMP:20260424T201517
CREATED:20170815T224816Z
LAST-MODIFIED:20170815T224816Z
UID:3427-1505901600-1505901600@www.noahwebster.org
SUMMARY:PIMA Welcome Wednesday
DESCRIPTION:Come take a tour of the campus\, interact with Administrators and receive Admission information. If you can’t make it at 10:00 am\, contact us to schedule a private tour.
URL:https://www.noahwebster.org/event/pima-welcome-wednesday-84/
LOCATION:Pima Campus\, 5399 N. Pima Road\, Scottsdale\, AZ\, 85250\, United States
CATEGORIES:General
END:VEVENT
BEGIN:VEVENT
DTSTART;TZID=UTC:20170919T183000
DTEND;TZID=UTC:20170919T193000
DTSTAMP:20260424T201517
CREATED:20170822T061622Z
LAST-MODIFIED:20170822T061622Z
UID:3614-1505845800-1505849400@www.noahwebster.org
SUMMARY:PIMA Title I Parent Night
DESCRIPTION:
URL:https://www.noahwebster.org/event/pima-title-parent-night/
LOCATION:Pima Campus\, 5399 N. Pima Road\, Scottsdale\, AZ\, 85250\, United States
CATEGORIES:General
END:VEVENT
BEGIN:VEVENT
DTSTART;TZID=UTC:20170919T183000
DTEND;TZID=UTC:20170919T193000
DTSTAMP:20260424T201517
CREATED:20170822T061502Z
LAST-MODIFIED:20170822T061502Z
UID:3612-1505845800-1505849400@www.noahwebster.org
SUMMARY:MESA 5th Grade Curriulum Night
DESCRIPTION:
URL:https://www.noahwebster.org/event/mesa-5th-grade-curriulum-night/
LOCATION:AZ
CATEGORIES:General
END:VEVENT
BEGIN:VEVENT
DTSTART;TZID=UTC:20170919T090000
DTEND;TZID=UTC:20170919T140000
DTSTAMP:20260424T201517
CREATED:20170913T040912Z
LAST-MODIFIED:20170913T040912Z
UID:3945-1505811600-1505829600@www.noahwebster.org
SUMMARY:PIMA 5th Grade Field Trip
DESCRIPTION:Chase Field (Diamondback Stadium)
URL:https://www.noahwebster.org/event/pima-5th-grade-field-trip-4/
LOCATION:Chase Field
CATEGORIES:Field Trip
END:VEVENT
BEGIN:VEVENT
DTSTART;VALUE=DATE:20170919
DTEND;VALUE=DATE:20170921
DTSTAMP:20260424T201517
CREATED:20170822T061358Z
LAST-MODIFIED:20170822T061358Z
UID:3610-1505779200-1505951999@www.noahwebster.org
SUMMARY:MESA Fall School Portraits
DESCRIPTION:
URL:https://www.noahwebster.org/event/mesa-fall-school-portraits/
LOCATION:AZ
CATEGORIES:General
END:VEVENT
BEGIN:VEVENT
DTSTART;VALUE=DATE:20170918
DTEND;VALUE=DATE:20170919
DTSTAMP:20260424T201517
CREATED:20170822T061217Z
LAST-MODIFIED:20170822T061217Z
UID:3608-1505692800-1505779199@www.noahwebster.org
SUMMARY:PIMA Session 2 of ASP Begins
DESCRIPTION:Session 2 of After School Programs Begins
URL:https://www.noahwebster.org/event/pima-session-2-asp-begins/
LOCATION:Pima Campus\, 5399 N. Pima Road\, Scottsdale\, AZ\, 85250\, United States
CATEGORIES:After School Program
END:VEVENT
BEGIN:VEVENT
DTSTART;VALUE=DATE:20170918
DTEND;VALUE=DATE:20170919
DTSTAMP:20260424T201517
CREATED:20170822T061015Z
LAST-MODIFIED:20170822T061015Z
UID:3605-1505692800-1505779199@www.noahwebster.org
SUMMARY:MESA Session 2 of ASP Begins
DESCRIPTION:Session 2 of After School Programs Begins
URL:https://www.noahwebster.org/event/mesa-session-2-asp-begins/
LOCATION:AZ
CATEGORIES:After School Program
END:VEVENT
BEGIN:VEVENT
DTSTART;TZID=UTC:20170914T183000
DTEND;TZID=UTC:20170914T193000
DTSTAMP:20260424T201517
CREATED:20170822T060846Z
LAST-MODIFIED:20170822T060846Z
UID:3603-1505413800-1505417400@www.noahwebster.org
SUMMARY:PIMA 4th\, 5th\, & 6th Grade Curriculum Night
DESCRIPTION:
URL:https://www.noahwebster.org/event/pima-4th-5th-6th-grade-curriculum-night/
LOCATION:Pima Campus\, 5399 N. Pima Road\, Scottsdale\, AZ\, 85250\, United States
CATEGORIES:General
END:VEVENT
BEGIN:VEVENT
DTSTART;TZID=UTC:20170914T183000
DTEND;TZID=UTC:20170914T193000
DTSTAMP:20260424T201517
CREATED:20170822T060705Z
LAST-MODIFIED:20170822T060705Z
UID:3601-1505413800-1505417400@www.noahwebster.org
SUMMARY:MESA 4th Grade Curriculum Night
DESCRIPTION:
URL:https://www.noahwebster.org/event/mesa-4th-grade-curriculum-night-2/
LOCATION:AZ
CATEGORIES:General
END:VEVENT
BEGIN:VEVENT
DTSTART;TZID=UTC:20170913T183000
DTEND;TZID=UTC:20170913T193000
DTSTAMP:20260424T201517
CREATED:20170822T060511Z
LAST-MODIFIED:20170822T060511Z
UID:3599-1505327400-1505331000@www.noahwebster.org
SUMMARY:PIMA Choir Cats Performance
DESCRIPTION:
URL:https://www.noahwebster.org/event/pima-choir-cats-performance/
LOCATION:Pima Campus\, 5399 N. Pima Road\, Scottsdale\, AZ\, 85250\, United States
CATEGORIES:After School Program
END:VEVENT
BEGIN:VEVENT
DTSTART;TZID=UTC:20170913T183000
DTEND;TZID=UTC:20170913T193000
DTSTAMP:20260424T201517
CREATED:20170822T060406Z
LAST-MODIFIED:20170822T060406Z
UID:3597-1505327400-1505331000@www.noahwebster.org
SUMMARY:MESA Show Choir Performance
DESCRIPTION:
URL:https://www.noahwebster.org/event/mesa-show-choir-performance/
LOCATION:AZ
CATEGORIES:After School Program
END:VEVENT
BEGIN:VEVENT
DTSTART;TZID=UTC:20170913T100000
DTEND;TZID=UTC:20170913T100000
DTSTAMP:20260424T201517
CREATED:20170815T225820Z
LAST-MODIFIED:20170815T225820Z
UID:3441-1505296800-1505296800@www.noahwebster.org
SUMMARY:MESA Welcome Wednesday
DESCRIPTION:Come take a tour of the campus\, interact with Administrators and receive Admission information. If you can’t make it at 10:00 am\, contact us to schedule a private tour.
URL:https://www.noahwebster.org/event/mesa-welcome-wednesday-81/
LOCATION:AZ
CATEGORIES:General
END:VEVENT
END:VCALENDAR