BEGIN:VCALENDAR
VERSION:2.0
PRODID:-//Noah Webster - ECPv6.15.20//NONSGML v1.0//EN
CALSCALE:GREGORIAN
METHOD:PUBLISH
X-WR-CALNAME:Noah Webster
X-ORIGINAL-URL:https://www.noahwebster.org
X-WR-CALDESC:Events for Noah Webster
REFRESH-INTERVAL;VALUE=DURATION:PT1H
X-Robots-Tag:noindex
X-PUBLISHED-TTL:PT1H
BEGIN:VTIMEZONE
TZID:UTC
BEGIN:STANDARD
TZOFFSETFROM:+0000
TZOFFSETTO:+0000
TZNAME:UTC
DTSTART:20160101T000000
END:STANDARD
END:VTIMEZONE
BEGIN:VTIMEZONE
TZID:America/Phoenix
BEGIN:STANDARD
TZOFFSETFROM:-0700
TZOFFSETTO:-0700
TZNAME:MST
DTSTART:20160101T000000
END:STANDARD
END:VTIMEZONE
BEGIN:VEVENT
DTSTART;VALUE=DATE:20171213
DTEND;VALUE=DATE:20171214
DTSTAMP:20260421T195721
CREATED:20170822T024116Z
LAST-MODIFIED:20170822T024116Z
UID:3501-1513123200-1513209599@www.noahwebster.org
SUMMARY:MESA Professional Development Day (Early Dismissal)
DESCRIPTION:Please see the Early Dismissal Flyer for release times.
URL:https://www.noahwebster.org/event/mesa-professional-development-day-early-dismissal-15/
LOCATION:AZ
CATEGORIES:Early Dismissal
END:VEVENT
BEGIN:VEVENT
DTSTART;TZID=UTC:20171212T183000
DTEND;TZID=UTC:20171212T193000
DTSTAMP:20260421T195721
CREATED:20170824T043205Z
LAST-MODIFIED:20170824T043205Z
UID:3736-1513103400-1513107000@www.noahwebster.org
SUMMARY:PIMA Kindergarten Musical (2 of 2)
DESCRIPTION:Classes Performing; Ford & Jenner
URL:https://www.noahwebster.org/event/pima-kindergarten-musical-2-2/
LOCATION:Pima Campus\, 5399 N. Pima Road\, Scottsdale\, AZ\, 85250\, United States
CATEGORIES:Music
END:VEVENT
BEGIN:VEVENT
DTSTART;TZID=UTC:20171211T183000
DTEND;TZID=UTC:20171211T193000
DTSTAMP:20260421T195721
CREATED:20170824T043047Z
LAST-MODIFIED:20170824T043047Z
UID:3734-1513017000-1513020600@www.noahwebster.org
SUMMARY:PIMA Kindergarten Musical (1 of 2)
DESCRIPTION:Class Performing: Berndt
URL:https://www.noahwebster.org/event/pima-kindergarten-musical-1-2/
LOCATION:Pima Campus\, 5399 N. Pima Road\, Scottsdale\, AZ\, 85250\, United States
CATEGORIES:Music
END:VEVENT
BEGIN:VEVENT
DTSTART;VALUE=DATE:20171211
DTEND;VALUE=DATE:20171215
DTSTAMP:20260421T195721
CREATED:20170824T043001Z
LAST-MODIFIED:20170824T043001Z
UID:3732-1512950400-1513295999@www.noahwebster.org
SUMMARY:PIMA Holiday Gift Shop
DESCRIPTION:NWS-PIMA Holiday Gift Shop\nHoliday Gift Shop is right around the corner! December 11th – 14th is a great opportunity for your students to buy gifts for those they love. The preview the items\, please visit the Gift Shop Link by clicking HERE and enter the password: pimacampus. \nThe Gift Shop is open during Music Class or anytime on Thursday for student shopping. \nFamilies are welcome to shop from 6:00 pm – 7:30 pm\, Monday-Wednesday for the Kindergarten Music Programs and Choir & Orchestra Concert.
URL:https://www.noahwebster.org/event/pima-holiday-gift-shop-3/
LOCATION:Pima Campus\, 5399 N. Pima Road\, Scottsdale\, AZ\, 85250\, United States
CATEGORIES:School Activity
END:VEVENT
BEGIN:VEVENT
DTSTART;TZID=UTC:20171206T183000
DTEND;TZID=UTC:20171206T193000
DTSTAMP:20260421T195721
CREATED:20170824T042801Z
LAST-MODIFIED:20170824T042801Z
UID:3728-1512585000-1512588600@www.noahwebster.org
SUMMARY:MESA Band & Orchestra Concert
DESCRIPTION:
URL:https://www.noahwebster.org/event/mesa-band-orchestra-concert-5/
LOCATION:AZ
CATEGORIES:Music
END:VEVENT
BEGIN:VEVENT
DTSTART;TZID=UTC:20171206T100000
DTEND;TZID=UTC:20171206T100000
DTSTAMP:20260421T195721
CREATED:20170830T055151Z
LAST-MODIFIED:20170830T055151Z
UID:3795-1512554400-1512554400@www.noahwebster.org
SUMMARY:PIMA Welcome Wednesday
DESCRIPTION:Come take a tour of the campus\, interact with Administrators and receive Admission information. If you can’t make it at 10:00 am\, contact us to schedule a private tour.
URL:https://www.noahwebster.org/event/pima-welcome-wednesday-94/
LOCATION:Pima Campus\, 5399 N. Pima Road\, Scottsdale\, AZ\, 85250\, United States
CATEGORIES:General
END:VEVENT
BEGIN:VEVENT
DTSTART;TZID=UTC:20171206T100000
DTEND;TZID=UTC:20171206T100000
DTSTAMP:20260421T195721
CREATED:20170830T053211Z
LAST-MODIFIED:20170830T053211Z
UID:3770-1512554400-1512554400@www.noahwebster.org
SUMMARY:MESA Welcome Wednesday
DESCRIPTION:Come take a tour of the campus\, interact with Administrators and receive Admission information. If you can’t make it at 10:00 am\, contact us to schedule a private tour.
URL:https://www.noahwebster.org/event/mesa-welcome-wednesday-91/
LOCATION:AZ
CATEGORIES:General
END:VEVENT
BEGIN:VEVENT
DTSTART;TZID=UTC:20171205T183000
DTEND;TZID=UTC:20171205T193000
DTSTAMP:20260421T195721
CREATED:20170824T042533Z
LAST-MODIFIED:20170824T042533Z
UID:3726-1512498600-1512502200@www.noahwebster.org
SUMMARY:MESA Kindergarten Musical (2 of 2)
DESCRIPTION:Classes Performing: Scott\, Stepp & Wade
URL:https://www.noahwebster.org/event/mesa-kindergarten-musical-2-2/
LOCATION:AZ
CATEGORIES:Music
END:VEVENT
BEGIN:VEVENT
DTSTART;TZID=UTC:20171204T183000
DTEND;TZID=UTC:20171204T193000
DTSTAMP:20260421T195721
CREATED:20170824T042411Z
LAST-MODIFIED:20170824T042411Z
UID:3724-1512412200-1512415800@www.noahwebster.org
SUMMARY:MESA Kindergarten Musical (1 of 2)
DESCRIPTION:Classes Performing: Boyce\, Reed & Tice \n  \n \n 
URL:https://www.noahwebster.org/event/mesa-kindergarten-musical-1-2/
LOCATION:AZ
CATEGORIES:Music
END:VEVENT
BEGIN:VEVENT
DTSTART;VALUE=DATE:20171204
DTEND;VALUE=DATE:20171209
DTSTAMP:20260421T195721
CREATED:20170824T042317Z
LAST-MODIFIED:20170824T042317Z
UID:3722-1512345600-1512777599@www.noahwebster.org
SUMMARY:MESA Holiday Gift Shop
DESCRIPTION:NWS-MESA Holiday Gift Shop\nHoliday Gift Shop is right around the corner! December 4th – 8th is a great opportunity for your students to buy gifts for those they love. The preview the items\, please visit the Gift Shop Link by clicking HERE and enter the password: mesacampus. \nThe Gift Shops is open during Music Class or anytime on Friday for student shopping. \nFamilies are welcome to shop from 6:00 pm – 7:30 pm\, Monday-Thursday for the Kindergarten Music Programs and Band & Orchestra Concert.
URL:https://www.noahwebster.org/event/mesa-holiday-gift-shop-3/
LOCATION:AZ
CATEGORIES:School Activity
END:VEVENT
BEGIN:VEVENT
DTSTART;TZID=UTC:20171129T100000
DTEND;TZID=UTC:20171129T100000
DTSTAMP:20260421T195721
CREATED:20170830T055049Z
LAST-MODIFIED:20170830T055049Z
UID:3793-1511949600-1511949600@www.noahwebster.org
SUMMARY:PIMA Welcome Wednesday
DESCRIPTION:Come take a tour of the campus\, interact with Administrators and receive Admission information. If you can’t make it at 10:00 am\, contact us to schedule a private tour.
URL:https://www.noahwebster.org/event/pima-welcome-wednesday-93/
LOCATION:Pima Campus\, 5399 N. Pima Road\, Scottsdale\, AZ\, 85250\, United States
CATEGORIES:General
END:VEVENT
BEGIN:VEVENT
DTSTART;TZID=UTC:20171129T100000
DTEND;TZID=UTC:20171129T100000
DTSTAMP:20260421T195721
CREATED:20170830T053122Z
LAST-MODIFIED:20170830T053122Z
UID:3768-1511949600-1511949600@www.noahwebster.org
SUMMARY:MESA Welcome Wednesday
DESCRIPTION:Come take a tour of the campus\, interact with Administrators and receive Admission information. If you can’t make it at 10:00 am\, contact us to schedule a private tour.
URL:https://www.noahwebster.org/event/mesa-welcome-wednesday-90/
LOCATION:AZ
CATEGORIES:General
END:VEVENT
BEGIN:VEVENT
DTSTART;VALUE=DATE:20171120
DTEND;VALUE=DATE:20171125
DTSTAMP:20260421T195721
CREATED:20170822T023959Z
LAST-MODIFIED:20170822T023959Z
UID:3498-1511136000-1511567999@www.noahwebster.org
SUMMARY:PIMA Thanksgiving Break (No School)
DESCRIPTION:
URL:https://www.noahwebster.org/event/pima-thanksgiving-break-no-school-3/
LOCATION:Pima Campus\, 5399 N. Pima Road\, Scottsdale\, AZ\, 85250\, United States
CATEGORIES:Holiday
END:VEVENT
BEGIN:VEVENT
DTSTART;VALUE=DATE:20171120
DTEND;VALUE=DATE:20171125
DTSTAMP:20260421T195721
CREATED:20170822T023836Z
LAST-MODIFIED:20170822T023836Z
UID:3495-1511136000-1511567999@www.noahwebster.org
SUMMARY:MESA Thanksgiving Break (No School)
DESCRIPTION:
URL:https://www.noahwebster.org/event/mesa-thanksgiving-break/
LOCATION:AZ
CATEGORIES:Holiday
END:VEVENT
BEGIN:VEVENT
DTSTART;TZID=UTC:20171116T183000
DTEND;TZID=UTC:20171116T193000
DTSTAMP:20260421T195721
CREATED:20170824T041621Z
LAST-MODIFIED:20170824T041621Z
UID:3717-1510857000-1510860600@www.noahwebster.org
SUMMARY:MESA 5th Grade Musical (2 of 2)
DESCRIPTION:Classes Performing: Bokuniewicz\, McElvania & Ray
URL:https://www.noahwebster.org/event/mesa-5th-grade-musical-2-2/
LOCATION:AZ
CATEGORIES:Music
END:VEVENT
BEGIN:VEVENT
DTSTART;TZID=America/Phoenix:20171116T093000
DTEND;TZID=America/Phoenix:20171116T123000
DTSTAMP:20260421T195721
CREATED:20171017T040932Z
LAST-MODIFIED:20171017T040932Z
UID:4019-1510824600-1510835400@www.noahwebster.org
SUMMARY:PIMA 2nd Grade Field Trip (Split)
DESCRIPTION:Classes Attending: Bernbaum & Maracle
URL:https://www.noahwebster.org/event/pima-2nd-grade-field-trip-split-2/
LOCATION:Butterfly Wonderland\, 9500 East Vía de Ventura\, Scottsdale\, AZ\, 85256\, United States
CATEGORIES:Field Trip
END:VEVENT
BEGIN:VEVENT
DTSTART;TZID=UTC:20171115T183000
DTEND;TZID=UTC:20171115T193000
DTSTAMP:20260421T195721
CREATED:20170824T041722Z
LAST-MODIFIED:20170824T041722Z
UID:3719-1510770600-1510774200@www.noahwebster.org
SUMMARY:PIMA 5th Grade Musical
DESCRIPTION:
URL:https://www.noahwebster.org/event/pima-5th-grade-musical-4/
LOCATION:Pima Campus\, 5399 N. Pima Road\, Scottsdale\, AZ\, 85250\, United States
CATEGORIES:Music
END:VEVENT
BEGIN:VEVENT
DTSTART;TZID=UTC:20171115T183000
DTEND;TZID=UTC:20171115T193000
DTSTAMP:20260421T195721
CREATED:20170824T041248Z
LAST-MODIFIED:20170824T041248Z
UID:3712-1510770600-1510774200@www.noahwebster.org
SUMMARY:MESA Bully Prevention Parent Night
DESCRIPTION:
URL:https://www.noahwebster.org/event/mesa-bully-prevention-parent-night/
LOCATION:AZ
CATEGORIES:General
END:VEVENT
BEGIN:VEVENT
DTSTART;TZID=UTC:20171115T100000
DTEND;TZID=UTC:20171115T100000
DTSTAMP:20260421T195721
CREATED:20170830T054941Z
LAST-MODIFIED:20170830T054941Z
UID:3790-1510740000-1510740000@www.noahwebster.org
SUMMARY:PIMA Welcome Wednesday
DESCRIPTION:Come take a tour of the campus\, interact with Administrators and receive Admission information. If you can’t make it at 10:00 am\, contact us to schedule a private tour.
URL:https://www.noahwebster.org/event/pima-welcome-wednesday-92/
LOCATION:Pima Campus\, 5399 N. Pima Road\, Scottsdale\, AZ\, 85250\, United States
CATEGORIES:General
END:VEVENT
BEGIN:VEVENT
DTSTART;TZID=UTC:20171115T100000
DTEND;TZID=UTC:20171115T100000
DTSTAMP:20260421T195721
CREATED:20170830T052029Z
LAST-MODIFIED:20170830T052029Z
UID:3766-1510740000-1510740000@www.noahwebster.org
SUMMARY:MESA Welcome Wednesday
DESCRIPTION:Come take a tour of the campus\, interact with Administrators and receive Admission information. If you can’t make it at 10:00 am\, contact us to schedule a private tour.
URL:https://www.noahwebster.org/event/mesa-welcome-wednesday-89/
LOCATION:AZ
CATEGORIES:General
END:VEVENT
BEGIN:VEVENT
DTSTART;TZID=America/Phoenix:20171115T084500
DTEND;TZID=America/Phoenix:20171115T124500
DTSTAMP:20260421T195721
CREATED:20171017T041454Z
LAST-MODIFIED:20171017T041454Z
UID:4024-1510735500-1510749900@www.noahwebster.org
SUMMARY:MESA 2nd Grade Field Trip
DESCRIPTION:Desert Botanical Garden
URL:https://www.noahwebster.org/event/mesa-2nd-grade-field-trip-5/
LOCATION:Desert Botanical Garden\, 1201 North Galvin Parkway\, Phoenix\, AZ\, 85008\, United States
CATEGORIES:Field Trip
END:VEVENT
BEGIN:VEVENT
DTSTART;TZID=UTC:20171114T183000
DTEND;TZID=UTC:20171114T193000
DTSTAMP:20260421T195721
CREATED:20170824T041507Z
LAST-MODIFIED:20170824T041507Z
UID:3715-1510684200-1510687800@www.noahwebster.org
SUMMARY:MESA 5th Grade Musical (1 of 2)
DESCRIPTION:Classes Performing: Fyfe & Turner
URL:https://www.noahwebster.org/event/mesa-5th-grade-musical-1-2/
LOCATION:AZ
CATEGORIES:Music
END:VEVENT
BEGIN:VEVENT
DTSTART;TZID=UTC:20171114T183000
DTEND;TZID=UTC:20171114T193000
DTSTAMP:20260421T195721
CREATED:20170824T041042Z
LAST-MODIFIED:20170824T041042Z
UID:3710-1510684200-1510687800@www.noahwebster.org
SUMMARY:PIMA Bully Prevention Parent Night
DESCRIPTION:
URL:https://www.noahwebster.org/event/pima-bully-presentation-parent-night/
LOCATION:Pima Campus\, 5399 N. Pima Road\, Scottsdale\, AZ\, 85250\, United States
CATEGORIES:General
END:VEVENT
BEGIN:VEVENT
DTSTART;TZID=America/Phoenix:20171114T163000
DTEND;TZID=America/Phoenix:20171114T163000
DTSTAMP:20260421T195721
CREATED:20171110T042317Z
LAST-MODIFIED:20171110T042317Z
UID:4123-1510677000-1510677000@www.noahwebster.org
SUMMARY:NWS-Pima Board Meeting
DESCRIPTION:Please click HERE for the Board Meeting Notification.
URL:https://www.noahwebster.org/event/nws-pima-board-meeting-23/
LOCATION:Noah Webster Schools Corporate Offices\, 5399 N. Pima Road\, Scottsdale\, AZ\, 85250\, United States
CATEGORIES:General
END:VEVENT
BEGIN:VEVENT
DTSTART;TZID=America/Phoenix:20171114T163000
DTEND;TZID=America/Phoenix:20171114T163000
DTSTAMP:20260421T195721
CREATED:20171110T042148Z
LAST-MODIFIED:20171110T042148Z
UID:4122-1510677000-1510677000@www.noahwebster.org
SUMMARY:NWS-Mesa Board Meeting
DESCRIPTION:Please click HERE for the Board Meeting Notification.
URL:https://www.noahwebster.org/event/nws-mesa-board-meeting-20/
LOCATION:Noah Webster Schools Corporate Offices\, 5399 N. Pima Road\, Scottsdale\, AZ\, 85250\, United States
CATEGORIES:General
END:VEVENT
BEGIN:VEVENT
DTSTART;TZID=America/Phoenix:20171114T093000
DTEND;TZID=America/Phoenix:20171114T123000
DTSTAMP:20260421T195721
CREATED:20171012T053937Z
LAST-MODIFIED:20171012T053937Z
UID:4011-1510651800-1510662600@www.noahwebster.org
SUMMARY:PIMA 2nd Grade Field Trip (Split)
DESCRIPTION:Classes Attending: Martin & Flores
URL:https://www.noahwebster.org/event/pima-2nd-grade-field-trip-split/
LOCATION:Butterfly Wonderland\, 9500 East Vía de Ventura\, Scottsdale\, AZ\, 85256\, United States
CATEGORIES:Field Trip
END:VEVENT
BEGIN:VEVENT
DTSTART;VALUE=DATE:20171113
DTEND;VALUE=DATE:20171118
DTSTAMP:20260421T195721
CREATED:20170824T040818Z
LAST-MODIFIED:20170824T040818Z
UID:3708-1510531200-1510963199@www.noahwebster.org
SUMMARY:PIMA Spirit Week
DESCRIPTION:Please see the Spirit Week flyer for the daily themes.
URL:https://www.noahwebster.org/event/pima-spirit-week-6/
LOCATION:Pima Campus\, 5399 N. Pima Road\, Scottsdale\, AZ\, 85250\, United States
CATEGORIES:General
END:VEVENT
BEGIN:VEVENT
DTSTART;VALUE=DATE:20171113
DTEND;VALUE=DATE:20171118
DTSTAMP:20260421T195721
CREATED:20170824T040645Z
LAST-MODIFIED:20170824T040645Z
UID:3706-1510531200-1510963199@www.noahwebster.org
SUMMARY:MESA Spirit Week
DESCRIPTION:Please see the Spirit Week flyer for the daily themes.
URL:https://www.noahwebster.org/event/mesa-spirit-week-4/
LOCATION:AZ
CATEGORIES:General
END:VEVENT
BEGIN:VEVENT
DTSTART;VALUE=DATE:20171110
DTEND;VALUE=DATE:20171111
DTSTAMP:20260421T195721
CREATED:20170822T023723Z
LAST-MODIFIED:20170822T023723Z
UID:3493-1510272000-1510358399@www.noahwebster.org
SUMMARY:PIMA Veteran's Day Observed (No School)
DESCRIPTION:
URL:https://www.noahwebster.org/event/pima-veterans-day-observed-no-school/
LOCATION:Pima Campus\, 5399 N. Pima Road\, Scottsdale\, AZ\, 85250\, United States
CATEGORIES:Holiday
END:VEVENT
BEGIN:VEVENT
DTSTART;VALUE=DATE:20171110
DTEND;VALUE=DATE:20171111
DTSTAMP:20260421T195721
CREATED:20170822T023622Z
LAST-MODIFIED:20170822T023622Z
UID:3490-1510272000-1510358399@www.noahwebster.org
SUMMARY:MESA Veteran's Day Observed (No School)
DESCRIPTION:
URL:https://www.noahwebster.org/event/mesa-veterans-day-observed-no-school/
LOCATION:AZ
CATEGORIES:Holiday
END:VEVENT
END:VCALENDAR