BEGIN:VCALENDAR
VERSION:2.0
PRODID:-//Noah Webster - ECPv6.15.20//NONSGML v1.0//EN
CALSCALE:GREGORIAN
METHOD:PUBLISH
X-ORIGINAL-URL:https://www.noahwebster.org
X-WR-CALDESC:Events for Noah Webster
REFRESH-INTERVAL;VALUE=DURATION:PT1H
X-Robots-Tag:noindex
X-PUBLISHED-TTL:PT1H
BEGIN:VTIMEZONE
TZID:UTC
BEGIN:STANDARD
TZOFFSETFROM:+0000
TZOFFSETTO:+0000
TZNAME:UTC
DTSTART:20180101T000000
END:STANDARD
END:VTIMEZONE
BEGIN:VEVENT
DTSTART;TZID=UTC:20190306T170000
DTEND;TZID=UTC:20190306T190000
DTSTAMP:20260421T182747
CREATED:20180831T225529Z
LAST-MODIFIED:20180831T225529Z
UID:5243-1551891600-1551898800@www.noahwebster.org
SUMMARY:PIMA Open Campus Night
DESCRIPTION:Come tour the school\, talk with administrators and receive admission information.  If you can’t make it\, schedule a private tour by calling 480-772-6149.   \nNoah Webster Schools- Pima\n5399 N. Pima Road\nScottsdale\, AZ 85250\n480-291-6900
URL:https://www.noahwebster.org/event/pima-open-campus-night-39/
LOCATION:Pima Campus\, 5399 N. Pima Road\, Scottsdale\, AZ\, 85250\, United States
CATEGORIES:General
END:VEVENT
BEGIN:VEVENT
DTSTART;TZID=UTC:20190306T183000
DTEND;TZID=UTC:20190306T193000
DTSTAMP:20260421T182747
CREATED:20180831T233944Z
LAST-MODIFIED:20180831T233944Z
UID:5319-1551897000-1551900600@www.noahwebster.org
SUMMARY:MESA 2nd Grade Musical (1 of 2)
DESCRIPTION:Classes Performing: Bokuniewicz\, Stiltner & Thacker
URL:https://www.noahwebster.org/event/mesa-2nd-grade-musical-1-of-2-2/
LOCATION:Mesa Campus\, 7301 E. Baseline Road\, Mesa\, AZ\, 85209\, United States
CATEGORIES:Music
END:VEVENT
BEGIN:VEVENT
DTSTART;TZID=UTC:20190307T163000
DTEND;TZID=UTC:20190307T163000
DTSTAMP:20260421T182747
CREATED:20190305T061229Z
LAST-MODIFIED:20190305T061229Z
UID:5872-1551976200-1551976200@www.noahwebster.org
SUMMARY:NWS-MESA Board Meeting
DESCRIPTION:Please click HERE to view the Board Meeting Notification.
URL:https://www.noahwebster.org/event/nws-mesa-board-meeting-31/
LOCATION:Noah Webster Schools Corporate Offices\, 5399 N. Pima Road\, Scottsdale\, AZ\, 85250\, United States
CATEGORIES:General
END:VEVENT
BEGIN:VEVENT
DTSTART;TZID=UTC:20190307T163000
DTEND;TZID=UTC:20190307T163000
DTSTAMP:20260421T182747
CREATED:20190305T061418Z
LAST-MODIFIED:20190305T061418Z
UID:5874-1551976200-1551976200@www.noahwebster.org
SUMMARY:NWS-PIMA Board Meeting
DESCRIPTION:Please click HERE to view the Board Meeting Notification.
URL:https://www.noahwebster.org/event/nws-pima-board-meeting-38/
LOCATION:Noah Webster Schools Corporate Offices\, 5399 N. Pima Road\, Scottsdale\, AZ\, 85250\, United States
CATEGORIES:General
END:VEVENT
BEGIN:VEVENT
DTSTART;TZID=UTC:20190307T183000
DTEND;TZID=UTC:20190307T193000
DTSTAMP:20260421T182747
CREATED:20180831T234036Z
LAST-MODIFIED:20180831T234036Z
UID:5321-1551983400-1551987000@www.noahwebster.org
SUMMARY:MESA 2nd Grade Musical (2 of 2)
DESCRIPTION:Classes Performing: Gibson & Mitchell
URL:https://www.noahwebster.org/event/mesa-2nd-grade-musical-2-of-2-2/
LOCATION:Mesa Campus\, 7301 E. Baseline Road\, Mesa\, AZ\, 85209\, United States
CATEGORIES:Music
END:VEVENT
BEGIN:VEVENT
DTSTART;VALUE=DATE:20190311
DTEND;VALUE=DATE:20190316
DTSTAMP:20260421T182747
CREATED:20180822T020509Z
LAST-MODIFIED:20180822T020509Z
UID:5056-1552262400-1552694399@www.noahwebster.org
SUMMARY:MESA Spring Break (No School)
DESCRIPTION:
URL:https://www.noahwebster.org/event/mesa-spring-break-no-school-3/
LOCATION:Mesa Campus\, 7301 E. Baseline Road\, Mesa\, AZ\, 85209\, United States
CATEGORIES:Holiday
END:VEVENT
BEGIN:VEVENT
DTSTART;VALUE=DATE:20190311
DTEND;VALUE=DATE:20190316
DTSTAMP:20260421T182747
CREATED:20180822T020555Z
LAST-MODIFIED:20180822T020555Z
UID:5058-1552262400-1552694399@www.noahwebster.org
SUMMARY:PIMA Spring Break (No School)
DESCRIPTION:
URL:https://www.noahwebster.org/event/pima-spring-break-no-school-4/
LOCATION:Pima Campus\, 5399 N. Pima Road\, Scottsdale\, AZ\, 85250\, United States
CATEGORIES:Holiday
END:VEVENT
BEGIN:VEVENT
DTSTART;VALUE=DATE:20190318
DTEND;VALUE=DATE:20190320
DTSTAMP:20260421T182747
CREATED:20180831T233031Z
LAST-MODIFIED:20180831T233031Z
UID:5303-1552867200-1553039999@www.noahwebster.org
SUMMARY:MESA Field Days
DESCRIPTION:
URL:https://www.noahwebster.org/event/mesa-field-days/
LOCATION:Mesa Campus\, 7301 E. Baseline Road\, Mesa\, AZ\, 85209\, United States
CATEGORIES:School Activity
END:VEVENT
BEGIN:VEVENT
DTSTART;TZID=UTC:20190319T094500
DTEND;TZID=UTC:20190319T140000
DTSTAMP:20260421T182747
CREATED:20190104T050031Z
LAST-MODIFIED:20190104T050031Z
UID:5773-1552988700-1553004000@www.noahwebster.org
SUMMARY:PIMA 2nd Grade Field Trip
DESCRIPTION:Museum of Natural History
URL:https://www.noahwebster.org/event/pima-2nd-grade-field-trip-5/
LOCATION:Natural History Museum
CATEGORIES:Field Trip
END:VEVENT
BEGIN:VEVENT
DTSTART;TZID=UTC:20190319T163000
DTEND;TZID=UTC:20190319T180000
DTSTAMP:20260421T182747
CREATED:20180901T000245Z
LAST-MODIFIED:20180901T000245Z
UID:5323-1553013000-1553018400@www.noahwebster.org
SUMMARY:NWS-MESA Career Fair
DESCRIPTION:Come Check Out Employment Opportunities at Noah Webster Schools and See What We Have to Offer\nNoah Webster Schools is now hiring for the 2019-2020 school year:\n\nKG – 6th Grade Teachers\nInstructional Aides\nHealth Office Assistants\nPlayground Assistants\nCafeteria Assistants\nBus Drivers\nSubstitute Teachers\n\nNoah Webster Schools is a Public Charter School that Offers:\n\nPre-Kindergarten through 6th Grade\nFederal Loan Forgiveness Program\nCompetitive Salary\nRich Benefits Package\nTechnology Integrated Curriculum\nCollaborative Working Environment\nNew Teacher Mentor Program\nPersonal and Professional Growth Opportunities\nEngaging Professional Development\nEnrollment Priority for Employees’ Children\nAfter School Care for Employee’s Enrolled Children at No Cost\n\nPlease bring your resume\, a copy of your IVP Fingerprint Clearance Card and a copy of any applicable licenses and certificates. \nApply online by clicking HERE or email resume and application materials to jpennington@noahwebster.org.
URL:https://www.noahwebster.org/event/nws-career-fair/
LOCATION:Mesa Campus\, 7301 E. Baseline Road\, Mesa\, AZ\, 85209\, United States
CATEGORIES:General
END:VEVENT
BEGIN:VEVENT
DTSTART;VALUE=DATE:20190320
DTEND;VALUE=DATE:20190321
DTSTAMP:20260421T182747
CREATED:20180822T020717Z
LAST-MODIFIED:20180822T020717Z
UID:5060-1553040000-1553126399@www.noahwebster.org
SUMMARY:MESA Professional Development (Early Dismissal)
DESCRIPTION:
URL:https://www.noahwebster.org/event/mesa-professional-development-early-dismissal-13/
LOCATION:Mesa Campus\, 7301 E. Baseline Road\, Mesa\, AZ\, 85209\, United States
CATEGORIES:Early Dismissal
END:VEVENT
BEGIN:VEVENT
DTSTART;VALUE=DATE:20190320
DTEND;VALUE=DATE:20190321
DTSTAMP:20260421T182747
CREATED:20180822T020804Z
LAST-MODIFIED:20180822T020804Z
UID:5062-1553040000-1553126399@www.noahwebster.org
SUMMARY:PIMA Professional Development (Early Dismissal)
DESCRIPTION:
URL:https://www.noahwebster.org/event/pima-professional-development-early-dismissal-12/
LOCATION:Pima Campus\, 5399 N. Pima Road\, Scottsdale\, AZ\, 85250\, United States
CATEGORIES:Early Dismissal
END:VEVENT
BEGIN:VEVENT
DTSTART;TZID=UTC:20190320T100000
DTEND;TZID=UTC:20190320T100000
DTSTAMP:20260421T182747
CREATED:20180831T221348Z
LAST-MODIFIED:20180831T221348Z
UID:5194-1553076000-1553076000@www.noahwebster.org
SUMMARY:MESA Welcome Wednesday
DESCRIPTION:Come take a tour of the campus\, interact with Administrators and receive Admission information. If you can’t make it at 10:00 am\, contact us to schedule a private tour.
URL:https://www.noahwebster.org/event/mesa-welcome-wednesday-144/
LOCATION:Mesa Campus\, 7301 E. Baseline Road\, Mesa\, AZ\, 85209\, United States
CATEGORIES:General
END:VEVENT
BEGIN:VEVENT
DTSTART;TZID=UTC:20190320T100000
DTEND;TZID=UTC:20190320T100000
DTSTAMP:20260421T182747
CREATED:20180831T222224Z
LAST-MODIFIED:20180831T222224Z
UID:5200-1553076000-1553076000@www.noahwebster.org
SUMMARY:PIMA Welcome Wednesday
DESCRIPTION:Come take a tour of the campus\, interact with Administrators and receive Admission information. If you can’t make it at 10:00 am\, contact us to schedule a private tour.
URL:https://www.noahwebster.org/event/pima-welcome-wednesday-148/
LOCATION:Pima Campus\, 5399 N. Pima Road\, Scottsdale\, AZ\, 85250\, United States
CATEGORIES:General
END:VEVENT
BEGIN:VEVENT
DTSTART;TZID=UTC:20190320T163000
DTEND;TZID=UTC:20190320T180000
DTSTAMP:20260421T182747
CREATED:20180901T000517Z
LAST-MODIFIED:20180901T000517Z
UID:5326-1553099400-1553104800@www.noahwebster.org
SUMMARY:NWS-PIMA Career Fair
DESCRIPTION:Come Check Out Employment Opportunities at Noah Webster Schools and See What We Have to Offer\nNoah Webster Schools is now hiring for the 2019-2020 school year:\n\nKG – 6th Grade Teachers\nInstructional Aides\nHealth Office Assistants\nPlayground Assistants\nCafeteria Assistants\nBus Drivers\nSubstitute Teachers\n\n\nNoah Webster Schools is a Public Charter School that Offers:\n\nPre-Kindergarten through 6th Grade\nFederal Loan Forgiveness Program\nCompetitive Salary\nRich Benefits Package\nTechnology Integrated Curriculum\nCollaborative Working Environment\nNew Teacher Mentor Program\nPersonal and Professional Growth Opportunities\nEngaging Professional Development\nEnrollment Priority for Employees’ Children\nAfter School Care for Employee’s Enrolled Children at No Cost\n\nPlease bring your resume\, a copy of your IVP Fingerprint Clearance Card and a copy of any applicable licenses and certificates. \nApply online by clicking HERE or email resume and application materials to jpennington@noahwebster.org.
URL:https://www.noahwebster.org/event/nws-pima-career-fair/
LOCATION:Pima Campus\, 5399 N. Pima Road\, Scottsdale\, AZ\, 85250\, United States
CATEGORIES:General
END:VEVENT
BEGIN:VEVENT
DTSTART;VALUE=DATE:20190321
DTEND;VALUE=DATE:20190323
DTSTAMP:20260421T182747
CREATED:20180831T233702Z
LAST-MODIFIED:20180831T233702Z
UID:5313-1553126400-1553299199@www.noahwebster.org
SUMMARY:PIMA Field Days
DESCRIPTION:
URL:https://www.noahwebster.org/event/pima-field-days-2/
LOCATION:Pima Campus\, 5399 N. Pima Road\, Scottsdale\, AZ\, 85250\, United States
CATEGORIES:School Activity
END:VEVENT
BEGIN:VEVENT
DTSTART;TZID=UTC:20190321T084500
DTEND;TZID=UTC:20190321T133000
DTSTAMP:20260421T182747
CREATED:20190213T043028Z
LAST-MODIFIED:20190213T043028Z
UID:5837-1553157900-1553175000@www.noahwebster.org
SUMMARY:PIMA 4th Grade Field Trip
DESCRIPTION:Goldfield Ghost Town
URL:https://www.noahwebster.org/event/pima-4th-grade-field-trip-5/
LOCATION:Goldfield Ghost Town
CATEGORIES:Field Trip
END:VEVENT
BEGIN:VEVENT
DTSTART;TZID=UTC:20190321T183000
DTEND;TZID=UTC:20190321T193000
DTSTAMP:20260421T182747
CREATED:20180901T000947Z
LAST-MODIFIED:20180901T000947Z
UID:5330-1553193000-1553196600@www.noahwebster.org
SUMMARY:MESA 1st Grade Showcase Night
DESCRIPTION:
URL:https://www.noahwebster.org/event/mesa-1st-grade-showcase-night-3/
LOCATION:Mesa Campus\, 7301 E. Baseline Road\, Mesa\, AZ\, 85209\, United States
CATEGORIES:School Activity
END:VEVENT
BEGIN:VEVENT
DTSTART;TZID=UTC:20190321T183000
DTEND;TZID=UTC:20190321T193000
DTSTAMP:20260421T182747
CREATED:20180901T001104Z
LAST-MODIFIED:20180901T001104Z
UID:5332-1553193000-1553196600@www.noahwebster.org
SUMMARY:PIMA 3rd Grade Showcase Night
DESCRIPTION:
URL:https://www.noahwebster.org/event/pima-3rd-grade-showcase-night-3/
LOCATION:Pima Campus\, 5399 N. Pima Road\, Scottsdale\, AZ\, 85250\, United States
CATEGORIES:School Activity
END:VEVENT
BEGIN:VEVENT
DTSTART;VALUE=DATE:20190322
DTEND;VALUE=DATE:20190323
DTSTAMP:20260421T182747
CREATED:20180901T001252Z
LAST-MODIFIED:20180901T001252Z
UID:5334-1553212800-1553299199@www.noahwebster.org
SUMMARY:MESA Community Dental
DESCRIPTION:
URL:https://www.noahwebster.org/event/mesa-community-dental/
LOCATION:Mesa Campus\, 7301 E. Baseline Road\, Mesa\, AZ\, 85209\, United States
CATEGORIES:General
END:VEVENT
BEGIN:VEVENT
DTSTART;TZID=UTC:20190323T090000
DTEND;TZID=UTC:20190323T130000
DTSTAMP:20260421T182747
CREATED:20180901T034859Z
LAST-MODIFIED:20180901T034859Z
UID:5468-1553331600-1553346000@www.noahwebster.org
SUMMARY:MESA 2019-2020 New Student KG Testing
DESCRIPTION:
URL:https://www.noahwebster.org/event/mesa-2019-2020-new-student-kg-testing/
LOCATION:Mesa Campus\, 7301 E. Baseline Road\, Mesa\, AZ\, 85209\, United States
CATEGORIES:General
END:VEVENT
BEGIN:VEVENT
DTSTART;TZID=UTC:20190323T090000
DTEND;TZID=UTC:20190323T130000
DTSTAMP:20260421T182747
CREATED:20180901T035002Z
LAST-MODIFIED:20180901T035002Z
UID:5470-1553331600-1553346000@www.noahwebster.org
SUMMARY:PIMA 2019-2020 New Student KG Testing
DESCRIPTION:
URL:https://www.noahwebster.org/event/pima-2019-2020-new-student-kg-testing/
LOCATION:Pima Campus\, 5399 N. Pima Road\, Scottsdale\, AZ\, 85250\, United States
CATEGORIES:General
END:VEVENT
BEGIN:VEVENT
DTSTART;VALUE=DATE:20190325
DTEND;VALUE=DATE:20190326
DTSTAMP:20260421T182747
CREATED:20180901T001351Z
LAST-MODIFIED:20180901T001351Z
UID:5336-1553472000-1553558399@www.noahwebster.org
SUMMARY:MESA Community Dental
DESCRIPTION:
URL:https://www.noahwebster.org/event/mesa-community-dental-2/
LOCATION:Mesa Campus\, 7301 E. Baseline Road\, Mesa\, AZ\, 85209\, United States
CATEGORIES:General
END:VEVENT
BEGIN:VEVENT
DTSTART;VALUE=DATE:20190326
DTEND;VALUE=DATE:20190327
DTSTAMP:20260421T182747
CREATED:20180822T020847Z
LAST-MODIFIED:20180822T020847Z
UID:5064-1553558400-1553644799@www.noahwebster.org
SUMMARY:MESA 4th Grade AIMS Testing
DESCRIPTION:
URL:https://www.noahwebster.org/event/mesa-4th-grade-aims-testing-2/
LOCATION:Mesa Campus\, 7301 E. Baseline Road\, Mesa\, AZ\, 85209\, United States
CATEGORIES:General
END:VEVENT
BEGIN:VEVENT
DTSTART;VALUE=DATE:20190327
DTEND;VALUE=DATE:20190328
DTSTAMP:20260421T182747
CREATED:20180822T020930Z
LAST-MODIFIED:20180822T020930Z
UID:5066-1553644800-1553731199@www.noahwebster.org
SUMMARY:PIMA 4th Grade AIMS Testing
DESCRIPTION:
URL:https://www.noahwebster.org/event/pima-4th-grade-aims-testing-2/
LOCATION:Pima Campus\, 5399 N. Pima Road\, Scottsdale\, AZ\, 85250\, United States
CATEGORIES:General
END:VEVENT
BEGIN:VEVENT
DTSTART;TZID=UTC:20190327T100000
DTEND;TZID=UTC:20190327T100000
DTSTAMP:20260421T182747
CREATED:20180831T221913Z
LAST-MODIFIED:20180831T221913Z
UID:5196-1553680800-1553680800@www.noahwebster.org
SUMMARY:MESA Welcome Wednesday
DESCRIPTION:Come take a tour of the campus\, interact with Administrators and receive Admission information. If you can’t make it at 10:00 am\, contact us to schedule a private tour.
URL:https://www.noahwebster.org/event/mesa-welcome-wednesday-145/
LOCATION:Mesa Campus\, 7301 E. Baseline Road\, Mesa\, AZ\, 85209\, United States
CATEGORIES:General
END:VEVENT
BEGIN:VEVENT
DTSTART;TZID=UTC:20190327T100000
DTEND;TZID=UTC:20190327T100000
DTSTAMP:20260421T182747
CREATED:20180831T222348Z
LAST-MODIFIED:20180831T222348Z
UID:5202-1553680800-1553680800@www.noahwebster.org
SUMMARY:PIMA Welcome Wednesday
DESCRIPTION:Come take a tour of the campus\, interact with Administrators and receive Admission information. If you can’t make it at 10:00 am\, contact us to schedule a private tour.
URL:https://www.noahwebster.org/event/pima-welcome-wednesday-149/
LOCATION:Pima Campus\, 5399 N. Pima Road\, Scottsdale\, AZ\, 85250\, United States
CATEGORIES:General
END:VEVENT
BEGIN:VEVENT
DTSTART;TZID=UTC:20190327T183000
DTEND;TZID=UTC:20190327T193000
DTSTAMP:20260421T182747
CREATED:20180901T001700Z
LAST-MODIFIED:20180901T001700Z
UID:5340-1553711400-1553715000@www.noahwebster.org
SUMMARY:MESA Show Choir Performance
DESCRIPTION:
URL:https://www.noahwebster.org/event/mesa-show-choir-performance-11/
LOCATION:Mesa Campus\, 7301 E. Baseline Road\, Mesa\, AZ\, 85209\, United States
CATEGORIES:After School Program
END:VEVENT
BEGIN:VEVENT
DTSTART;TZID=UTC:20190327T183000
DTEND;TZID=UTC:20190327T193000
DTSTAMP:20260421T182747
CREATED:20180901T001804Z
LAST-MODIFIED:20180901T001804Z
UID:5342-1553711400-1553715000@www.noahwebster.org
SUMMARY:PIMA Choir Cats Performance
DESCRIPTION:
URL:https://www.noahwebster.org/event/pima-choir-cats-performance-10/
LOCATION:Pima Campus\, 5399 N. Pima Road\, Scottsdale\, AZ\, 85250\, United States
CATEGORIES:After School Program
END:VEVENT
BEGIN:VEVENT
DTSTART;TZID=UTC:20190328T091500
DTEND;TZID=UTC:20190328T140000
DTSTAMP:20260421T182747
CREATED:20180919T052323Z
LAST-MODIFIED:20180919T052323Z
UID:5507-1553764500-1553781600@www.noahwebster.org
SUMMARY:PIMA 5th Grade Field Trip
DESCRIPTION:AZ Science Center
URL:https://www.noahwebster.org/event/pima-5th-grade-field-trip-8/
LOCATION:Arizona Science Center
CATEGORIES:Field Trip
END:VEVENT
END:VCALENDAR