BEGIN:VCALENDAR
VERSION:2.0
PRODID:-//Noah Webster - ECPv6.15.20//NONSGML v1.0//EN
CALSCALE:GREGORIAN
METHOD:PUBLISH
X-ORIGINAL-URL:https://www.noahwebster.org
X-WR-CALDESC:Events for Noah Webster
REFRESH-INTERVAL;VALUE=DURATION:PT1H
X-Robots-Tag:noindex
X-PUBLISHED-TTL:PT1H
BEGIN:VTIMEZONE
TZID:UTC
BEGIN:STANDARD
TZOFFSETFROM:+0000
TZOFFSETTO:+0000
TZNAME:UTC
DTSTART:20180101T000000
END:STANDARD
END:VTIMEZONE
BEGIN:VEVENT
DTSTART;TZID=UTC:20190220T183000
DTEND;TZID=UTC:20190220T193000
DTSTAMP:20260421T152708
CREATED:20180831T232209Z
LAST-MODIFIED:20180831T232209Z
UID:5289-1550687400-1550691000@www.noahwebster.org
SUMMARY:PIMA 4th Grade Musical
DESCRIPTION:
URL:https://www.noahwebster.org/event/pima-4th-grade-musical-3/
LOCATION:Pima Campus\, 5399 N. Pima Road\, Scottsdale\, AZ\, 85250\, United States
CATEGORIES:Music
END:VEVENT
BEGIN:VEVENT
DTSTART;TZID=UTC:20190221T183000
DTEND;TZID=UTC:20190221T193000
DTSTAMP:20260421T152708
CREATED:20180831T232641Z
LAST-MODIFIED:20180831T232641Z
UID:5297-1550773800-1550777400@www.noahwebster.org
SUMMARY:MESA 2nd Grade Showcase Night
DESCRIPTION:
URL:https://www.noahwebster.org/event/mesa-2nd-grade-showcase-night-3/
LOCATION:Mesa Campus\, 7301 E. Baseline Road\, Mesa\, AZ\, 85209\, United States
CATEGORIES:School Activity
END:VEVENT
BEGIN:VEVENT
DTSTART;TZID=UTC:20190221T183000
DTEND;TZID=UTC:20190221T193000
DTSTAMP:20260421T152708
CREATED:20180831T232836Z
LAST-MODIFIED:20180831T232836Z
UID:5299-1550773800-1550777400@www.noahwebster.org
SUMMARY:PIMA 2nd Grade Showcase Night
DESCRIPTION:
URL:https://www.noahwebster.org/event/pima-2nd-grade-showcase-night-3/
LOCATION:Pima Campus\, 5399 N. Pima Road\, Scottsdale\, AZ\, 85250\, United States
CATEGORIES:School Activity
END:VEVENT
BEGIN:VEVENT
DTSTART;TZID=UTC:20190222T183000
DTEND;TZID=UTC:20190222T203000
DTSTAMP:20260421T152708
CREATED:20180831T232949Z
LAST-MODIFIED:20180831T232949Z
UID:5301-1550860200-1550867400@www.noahwebster.org
SUMMARY:PIMA 6th Grade Party
DESCRIPTION:
URL:https://www.noahwebster.org/event/pima-6th-grade-party-4/
LOCATION:Pima Campus\, 5399 N. Pima Road\, Scottsdale\, AZ\, 85250\, United States
CATEGORIES:School Activity
END:VEVENT
BEGIN:VEVENT
DTSTART;TZID=UTC:20190225T183000
DTEND;TZID=UTC:20190225T193000
DTSTAMP:20260421T152708
CREATED:20190119T060940Z
LAST-MODIFIED:20190119T060940Z
UID:5811-1551119400-1551123000@www.noahwebster.org
SUMMARY:PIMA Bully Prevention Parents Night
DESCRIPTION:
URL:https://www.noahwebster.org/event/pima-bully-prevention-parents-night/
LOCATION:Pima Campus\, 5399 N. Pima Road\, Scottsdale\, AZ\, 85250\, United States
CATEGORIES:General
END:VEVENT
BEGIN:VEVENT
DTSTART;TZID=UTC:20190226T094500
DTEND;TZID=UTC:20190226T094500
DTSTAMP:20260421T152708
CREATED:20190104T050644Z
LAST-MODIFIED:20190104T050644Z
UID:5775-1551174300-1551174300@www.noahwebster.org
SUMMARY:PIMA Kindergarten Field Trip
DESCRIPTION:OdySea Aquarium
URL:https://www.noahwebster.org/event/pima-kindergarten-field-trip-3/
LOCATION:OdySea Aquarium
CATEGORIES:Field Trip
END:VEVENT
BEGIN:VEVENT
DTSTART;TZID=UTC:20190226T170000
DTEND;TZID=UTC:20190226T190000
DTSTAMP:20260421T152708
CREATED:20180831T225412Z
LAST-MODIFIED:20180831T225412Z
UID:5241-1551200400-1551207600@www.noahwebster.org
SUMMARY:MESA Open Campus Night
DESCRIPTION:Come tour the school\, talk with administrators and receive admission information.  If you can’t make it\, schedule a private tour by calling 480-772-6149.   \nNoah Webster Schools- Mesa\n7301 E. Baseline Road\nMesa\, AZ 85209\n480-986-2335
URL:https://www.noahwebster.org/event/mesa-open-campus-night-42/
LOCATION:Mesa Campus\, 7301 E. Baseline Road\, Mesa\, AZ\, 85209\, United States
CATEGORIES:General
END:VEVENT
BEGIN:VEVENT
DTSTART;TZID=UTC:20190226T183000
DTEND;TZID=UTC:20190226T193000
DTSTAMP:20260421T152708
CREATED:20180831T233130Z
LAST-MODIFIED:20180831T233130Z
UID:5305-1551205800-1551209400@www.noahwebster.org
SUMMARY:PIMA 1st Grade Showcase Night
DESCRIPTION:
URL:https://www.noahwebster.org/event/pima-1st-grade-showcase-night-3/
LOCATION:Pima Campus\, 5399 N. Pima Road\, Scottsdale\, AZ\, 85250\, United States
CATEGORIES:School Activity
END:VEVENT
BEGIN:VEVENT
DTSTART;VALUE=DATE:20190227
DTEND;VALUE=DATE:20190228
DTSTAMP:20260421T152708
CREATED:20180822T020336Z
LAST-MODIFIED:20180822T020336Z
UID:5052-1551225600-1551311999@www.noahwebster.org
SUMMARY:MESA Professional Development (Early Dismissal)
DESCRIPTION:
URL:https://www.noahwebster.org/event/mesa-professional-development-early-dismissal-12/
LOCATION:Mesa Campus\, 7301 E. Baseline Road\, Mesa\, AZ\, 85209\, United States
CATEGORIES:Early Dismissal
END:VEVENT
BEGIN:VEVENT
DTSTART;VALUE=DATE:20190227
DTEND;VALUE=DATE:20190228
DTSTAMP:20260421T152708
CREATED:20180822T020427Z
LAST-MODIFIED:20180822T020427Z
UID:5054-1551225600-1551311999@www.noahwebster.org
SUMMARY:PIMA Professional Development (Early Dismissal)
DESCRIPTION:
URL:https://www.noahwebster.org/event/pima-professional-development-early-dismissal-11/
LOCATION:Pima Campus\, 5399 N. Pima Road\, Scottsdale\, AZ\, 85250\, United States
CATEGORIES:Early Dismissal
END:VEVENT
BEGIN:VEVENT
DTSTART;TZID=UTC:20190227T100000
DTEND;TZID=UTC:20190227T100000
DTSTAMP:20260421T152708
CREATED:20180831T050827Z
LAST-MODIFIED:20180831T050827Z
UID:5182-1551261600-1551261600@www.noahwebster.org
SUMMARY:MESA Welcome Wednesday
DESCRIPTION:Come take a tour of the campus\, interact with Administrators and receive Admission information. If you can’t make it at 10:00 am\, contact us to schedule a private tour.
URL:https://www.noahwebster.org/event/mesa-welcome-wednesday-142/
LOCATION:Mesa Campus\, 7301 E. Baseline Road\, Mesa\, AZ\, 85209\, United States
CATEGORIES:General
END:VEVENT
BEGIN:VEVENT
DTSTART;TZID=UTC:20190227T100000
DTEND;TZID=UTC:20190227T100000
DTSTAMP:20260421T152708
CREATED:20180831T051904Z
LAST-MODIFIED:20180831T051904Z
UID:5190-1551261600-1551261600@www.noahwebster.org
SUMMARY:PIMA Welcome Wednesday
DESCRIPTION:Come take a tour of the campus\, interact with Administrators and receive Admission information. If you can’t make it at 10:00 am\, contact us to schedule a private tour.
URL:https://www.noahwebster.org/event/pima-welcome-wednesday-146/
LOCATION:Pima Campus\, 5399 N. Pima Road\, Scottsdale\, AZ\, 85250\, United States
CATEGORIES:General
END:VEVENT
BEGIN:VEVENT
DTSTART;TZID=UTC:20190227T183000
DTEND;TZID=UTC:20190227T193000
DTSTAMP:20260421T152708
CREATED:20180831T233218Z
LAST-MODIFIED:20180831T233218Z
UID:5307-1551292200-1551295800@www.noahwebster.org
SUMMARY:MESA 3rd Grade Musical (1 of 2)
DESCRIPTION:Classes Performing: Dvorak\, Gibbs & Evicci
URL:https://www.noahwebster.org/event/mesa-3rd-grade-musical-1-of-2-2/
LOCATION:Mesa Campus\, 7301 E. Baseline Road\, Mesa\, AZ\, 85209\, United States
CATEGORIES:Music
END:VEVENT
BEGIN:VEVENT
DTSTART;TZID=UTC:20190227T183000
DTEND;TZID=UTC:20190227T193000
DTSTAMP:20260421T152708
CREATED:20180831T233548Z
LAST-MODIFIED:20180831T233548Z
UID:5311-1551292200-1551295800@www.noahwebster.org
SUMMARY:PIMA 3rd Grade Musical (1 of 2)
DESCRIPTION:Classes Performing: Barberio & Welch
URL:https://www.noahwebster.org/event/pima-3rd-grade-musical-3/
LOCATION:Pima Campus\, 5399 N. Pima Road\, Scottsdale\, AZ\, 85250\, United States
CATEGORIES:Music
END:VEVENT
BEGIN:VEVENT
DTSTART;TZID=UTC:20190228T090000
DTEND;TZID=UTC:20190228T120000
DTSTAMP:20260421T152708
CREATED:20190111T050350Z
LAST-MODIFIED:20190111T050350Z
UID:5798-1551344400-1551355200@www.noahwebster.org
SUMMARY:MESA 1st Grade Field Trip
DESCRIPTION:Superstition Farms
URL:https://www.noahwebster.org/event/mesa-1st-grade-field-trip-7/
LOCATION:Superstition Farms
CATEGORIES:Field Trip
END:VEVENT
BEGIN:VEVENT
DTSTART;TZID=UTC:20190228T183000
DTEND;TZID=UTC:20190228T193000
DTSTAMP:20260421T152708
CREATED:20180831T233344Z
LAST-MODIFIED:20180831T233344Z
UID:5309-1551378600-1551382200@www.noahwebster.org
SUMMARY:MESA 3rd Grade Musical (2 of 2)
DESCRIPTION:Classes Performing: Azeka & Virtue
URL:https://www.noahwebster.org/event/mesa-3rd-grade-musical-2-of-2-2/
LOCATION:Mesa Campus\, 7301 E. Baseline Road\, Mesa\, AZ\, 85209\, United States
CATEGORIES:Music
END:VEVENT
BEGIN:VEVENT
DTSTART;TZID=UTC:20190228T183000
DTEND;TZID=UTC:20190228T193000
DTSTAMP:20260421T152708
CREATED:20190214T062705Z
LAST-MODIFIED:20190214T062705Z
UID:5856-1551378600-1551382200@www.noahwebster.org
SUMMARY:PIMA 3rd Grade Musical (2 of 2)
DESCRIPTION:Classes Performing: Cayen & Danenhower
URL:https://www.noahwebster.org/event/pima-3rd-grade-musical-2-of-2/
LOCATION:Pima Campus\, 5399 N. Pima Road\, Scottsdale\, AZ\, 85250\, United States
CATEGORIES:Music
END:VEVENT
BEGIN:VEVENT
DTSTART;TZID=UTC:20190301T084500
DTEND;TZID=UTC:20190301T140000
DTSTAMP:20260421T152708
CREATED:20190104T051003Z
LAST-MODIFIED:20190104T051003Z
UID:5784-1551429900-1551448800@www.noahwebster.org
SUMMARY:MESA Kindergarten Field Trp
DESCRIPTION:Phoenix Zoo
URL:https://www.noahwebster.org/event/mesa-kindergarten-field-trp/
LOCATION:Phoenix Zoo
CATEGORIES:Field Trip
END:VEVENT
BEGIN:VEVENT
DTSTART;TZID=UTC:20190305T093000
DTEND;TZID=UTC:20190305T140000
DTSTAMP:20260421T152708
CREATED:20190213T042903Z
LAST-MODIFIED:20190213T042903Z
UID:5835-1551778200-1551794400@www.noahwebster.org
SUMMARY:PIMA 1st Grade Field Trip
DESCRIPTION:AZ Science Center
URL:https://www.noahwebster.org/event/pima-1st-grade-field-trip-7/
LOCATION:Arizona Science Center
CATEGORIES:Field Trip
END:VEVENT
BEGIN:VEVENT
DTSTART;TZID=UTC:20190305T183000
DTEND;TZID=UTC:20190305T193000
DTSTAMP:20260421T152708
CREATED:20180831T233749Z
LAST-MODIFIED:20180831T233749Z
UID:5315-1551810600-1551814200@www.noahwebster.org
SUMMARY:MESA Science Fair Night
DESCRIPTION:
URL:https://www.noahwebster.org/event/mesa-science-fair-night-2/
LOCATION:Mesa Campus\, 7301 E. Baseline Road\, Mesa\, AZ\, 85209\, United States
CATEGORIES:School Activity
END:VEVENT
BEGIN:VEVENT
DTSTART;TZID=UTC:20190305T183000
DTEND;TZID=UTC:20190305T193000
DTSTAMP:20260421T152708
CREATED:20180831T233851Z
LAST-MODIFIED:20180831T233851Z
UID:5317-1551810600-1551814200@www.noahwebster.org
SUMMARY:PIMA Science Fair Night
DESCRIPTION:
URL:https://www.noahwebster.org/event/pima-science-fair-night/
LOCATION:Pima Campus\, 5399 N. Pima Road\, Scottsdale\, AZ\, 85250\, United States
CATEGORIES:School Activity
END:VEVENT
BEGIN:VEVENT
DTSTART;TZID=UTC:20190306T084500
DTEND;TZID=UTC:20190306T133000
DTSTAMP:20260421T152708
CREATED:20190213T043242Z
LAST-MODIFIED:20190213T043242Z
UID:5841-1551861900-1551879000@www.noahwebster.org
SUMMARY:MESA 4th Grade Field Trip
DESCRIPTION:OdySea Aquarium
URL:https://www.noahwebster.org/event/mesa-4th-grade-field-trip-5/
LOCATION:OdySea Aquarium
CATEGORIES:Field Trip
END:VEVENT
BEGIN:VEVENT
DTSTART;TZID=UTC:20190306T100000
DTEND;TZID=UTC:20190306T100000
DTSTAMP:20260421T152708
CREATED:20180831T221258Z
LAST-MODIFIED:20180831T221258Z
UID:5192-1551866400-1551866400@www.noahwebster.org
SUMMARY:MESA Welcome Wednesday
DESCRIPTION:Come take a tour of the campus\, interact with Administrators and receive Admission information. If you can’t make it at 10:00 am\, contact us to schedule a private tour.
URL:https://www.noahwebster.org/event/mesa-welcome-wednesday-143/
LOCATION:Mesa Campus\, 7301 E. Baseline Road\, Mesa\, AZ\, 85209\, United States
CATEGORIES:General
END:VEVENT
BEGIN:VEVENT
DTSTART;TZID=UTC:20190306T100000
DTEND;TZID=UTC:20190306T100000
DTSTAMP:20260421T152708
CREATED:20180831T222127Z
LAST-MODIFIED:20180831T222127Z
UID:5198-1551866400-1551866400@www.noahwebster.org
SUMMARY:PIMA Welcome Wednesday
DESCRIPTION:Come take a tour of the campus\, interact with Administrators and receive Admission information. If you can’t make it at 10:00 am\, contact us to schedule a private tour.
URL:https://www.noahwebster.org/event/pima-welcome-wednesday-147/
LOCATION:Pima Campus\, 5399 N. Pima Road\, Scottsdale\, AZ\, 85250\, United States
CATEGORIES:General
END:VEVENT
BEGIN:VEVENT
DTSTART;TZID=UTC:20190306T170000
DTEND;TZID=UTC:20190306T190000
DTSTAMP:20260421T152708
CREATED:20180831T225529Z
LAST-MODIFIED:20180831T225529Z
UID:5243-1551891600-1551898800@www.noahwebster.org
SUMMARY:PIMA Open Campus Night
DESCRIPTION:Come tour the school\, talk with administrators and receive admission information.  If you can’t make it\, schedule a private tour by calling 480-772-6149.   \nNoah Webster Schools- Pima\n5399 N. Pima Road\nScottsdale\, AZ 85250\n480-291-6900
URL:https://www.noahwebster.org/event/pima-open-campus-night-39/
LOCATION:Pima Campus\, 5399 N. Pima Road\, Scottsdale\, AZ\, 85250\, United States
CATEGORIES:General
END:VEVENT
BEGIN:VEVENT
DTSTART;TZID=UTC:20190306T183000
DTEND;TZID=UTC:20190306T193000
DTSTAMP:20260421T152708
CREATED:20180831T233944Z
LAST-MODIFIED:20180831T233944Z
UID:5319-1551897000-1551900600@www.noahwebster.org
SUMMARY:MESA 2nd Grade Musical (1 of 2)
DESCRIPTION:Classes Performing: Bokuniewicz\, Stiltner & Thacker
URL:https://www.noahwebster.org/event/mesa-2nd-grade-musical-1-of-2-2/
LOCATION:Mesa Campus\, 7301 E. Baseline Road\, Mesa\, AZ\, 85209\, United States
CATEGORIES:Music
END:VEVENT
BEGIN:VEVENT
DTSTART;TZID=UTC:20190307T163000
DTEND;TZID=UTC:20190307T163000
DTSTAMP:20260421T152708
CREATED:20190305T061229Z
LAST-MODIFIED:20190305T061229Z
UID:5872-1551976200-1551976200@www.noahwebster.org
SUMMARY:NWS-MESA Board Meeting
DESCRIPTION:Please click HERE to view the Board Meeting Notification.
URL:https://www.noahwebster.org/event/nws-mesa-board-meeting-31/
LOCATION:Noah Webster Schools Corporate Offices\, 5399 N. Pima Road\, Scottsdale\, AZ\, 85250\, United States
CATEGORIES:General
END:VEVENT
BEGIN:VEVENT
DTSTART;TZID=UTC:20190307T163000
DTEND;TZID=UTC:20190307T163000
DTSTAMP:20260421T152708
CREATED:20190305T061418Z
LAST-MODIFIED:20190305T061418Z
UID:5874-1551976200-1551976200@www.noahwebster.org
SUMMARY:NWS-PIMA Board Meeting
DESCRIPTION:Please click HERE to view the Board Meeting Notification.
URL:https://www.noahwebster.org/event/nws-pima-board-meeting-38/
LOCATION:Noah Webster Schools Corporate Offices\, 5399 N. Pima Road\, Scottsdale\, AZ\, 85250\, United States
CATEGORIES:General
END:VEVENT
BEGIN:VEVENT
DTSTART;TZID=UTC:20190307T183000
DTEND;TZID=UTC:20190307T193000
DTSTAMP:20260421T152708
CREATED:20180831T234036Z
LAST-MODIFIED:20180831T234036Z
UID:5321-1551983400-1551987000@www.noahwebster.org
SUMMARY:MESA 2nd Grade Musical (2 of 2)
DESCRIPTION:Classes Performing: Gibson & Mitchell
URL:https://www.noahwebster.org/event/mesa-2nd-grade-musical-2-of-2-2/
LOCATION:Mesa Campus\, 7301 E. Baseline Road\, Mesa\, AZ\, 85209\, United States
CATEGORIES:Music
END:VEVENT
BEGIN:VEVENT
DTSTART;VALUE=DATE:20190311
DTEND;VALUE=DATE:20190316
DTSTAMP:20260421T152708
CREATED:20180822T020509Z
LAST-MODIFIED:20180822T020509Z
UID:5056-1552262400-1552694399@www.noahwebster.org
SUMMARY:MESA Spring Break (No School)
DESCRIPTION:
URL:https://www.noahwebster.org/event/mesa-spring-break-no-school-3/
LOCATION:Mesa Campus\, 7301 E. Baseline Road\, Mesa\, AZ\, 85209\, United States
CATEGORIES:Holiday
END:VEVENT
END:VCALENDAR