BEGIN:VCALENDAR
VERSION:2.0
PRODID:-//Noah Webster - ECPv6.15.20//NONSGML v1.0//EN
CALSCALE:GREGORIAN
METHOD:PUBLISH
X-WR-CALNAME:Noah Webster
X-ORIGINAL-URL:https://www.noahwebster.org
X-WR-CALDESC:Events for Noah Webster
REFRESH-INTERVAL;VALUE=DURATION:PT1H
X-Robots-Tag:noindex
X-PUBLISHED-TTL:PT1H
BEGIN:VTIMEZONE
TZID:America/Phoenix
BEGIN:STANDARD
TZOFFSETFROM:-0700
TZOFFSETTO:-0700
TZNAME:MST
DTSTART:20170101T000000
END:STANDARD
END:VTIMEZONE
BEGIN:VTIMEZONE
TZID:UTC
BEGIN:STANDARD
TZOFFSETFROM:+0000
TZOFFSETTO:+0000
TZNAME:UTC
DTSTART:20160101T000000
END:STANDARD
END:VTIMEZONE
BEGIN:VEVENT
DTSTART;TZID=America/Phoenix:20180207T100000
DTEND;TZID=America/Phoenix:20180207T100000
DTSTAMP:20260421T140902
CREATED:20171024T023047Z
LAST-MODIFIED:20171024T023047Z
UID:4077-1517997600-1517997600@www.noahwebster.org
SUMMARY:PIMA Welcome Wednesday
DESCRIPTION:Come take a tour of the campus\, interact with Administrators and receive Admission information. If you can’t make it at 10:00 am\, contact us to schedule a private tour.
URL:https://www.noahwebster.org/event/pima-welcome-wednesday-101/
LOCATION:Pima Campus\, 5399 N. Pima Road\, Scottsdale\, AZ\, 85250\, United States
CATEGORIES:General
END:VEVENT
BEGIN:VEVENT
DTSTART;TZID=America/Phoenix:20180207T100000
DTEND;TZID=America/Phoenix:20180207T100000
DTSTAMP:20260421T140902
CREATED:20171024T022431Z
LAST-MODIFIED:20171024T022431Z
UID:4073-1517997600-1517997600@www.noahwebster.org
SUMMARY:MESA Welcome Wednesday
DESCRIPTION:Come take a tour of the campus\, interact with Administrators and receive Admission information. If you can’t make it at 10:00 am\, contact us to schedule a private tour.
URL:https://www.noahwebster.org/event/mesa-welcome-wednesday-98/
LOCATION:AZ
CATEGORIES:General
END:VEVENT
BEGIN:VEVENT
DTSTART;TZID=UTC:20180206T170000
DTEND;TZID=UTC:20180206T190000
DTSTAMP:20260421T140902
CREATED:20170824T033006Z
LAST-MODIFIED:20170824T033006Z
UID:3670-1517936400-1517943600@www.noahwebster.org
SUMMARY:MESA Open Campus Night
DESCRIPTION:Come tour the school\, talk with administrators and receive admission information.  If you can’t make it\, schedule a private tour by calling 480-772-6149.
URL:https://www.noahwebster.org/event/mesa-open-campus-night-29/
LOCATION:AZ
CATEGORIES:General
END:VEVENT
BEGIN:VEVENT
DTSTART;VALUE=DATE:20180206
DTEND;VALUE=DATE:20180208
DTSTAMP:20260421T140902
CREATED:20170901T023348Z
LAST-MODIFIED:20170901T023348Z
UID:3837-1517875200-1518047999@www.noahwebster.org
SUMMARY:MESA Student Spring Portraits
DESCRIPTION:Please see the flyer for your student’s assigned day
URL:https://www.noahwebster.org/event/mesa-student-spring-portraits/
LOCATION:AZ
CATEGORIES:General
END:VEVENT
BEGIN:VEVENT
DTSTART;TZID=UTC:20180202T183000
DTEND;TZID=UTC:20180202T210000
DTSTAMP:20260421T140902
CREATED:20170901T023216Z
LAST-MODIFIED:20170901T023216Z
UID:3834-1517596200-1517605200@www.noahwebster.org
SUMMARY:MESA 6th Grade Party
DESCRIPTION:For enrolled 6th grade student only
URL:https://www.noahwebster.org/event/mesa-6th-grade-party-3/
LOCATION:AZ
CATEGORIES:School Activity
END:VEVENT
BEGIN:VEVENT
DTSTART;VALUE=DATE:20180202
DTEND;VALUE=DATE:20180203
DTSTAMP:20260421T140902
CREATED:20170901T023113Z
LAST-MODIFIED:20170901T023113Z
UID:3832-1517529600-1517615999@www.noahwebster.org
SUMMARY:PIMA Student Spring Portraits
DESCRIPTION:
URL:https://www.noahwebster.org/event/pima-student-spring-portraits/
LOCATION:Pima Campus\, 5399 N. Pima Road\, Scottsdale\, AZ\, 85250\, United States
CATEGORIES:General
END:VEVENT
BEGIN:VEVENT
DTSTART;TZID=UTC:20180201T183000
DTEND;TZID=UTC:20180201T193000
DTSTAMP:20260421T140902
CREATED:20170830T062933Z
LAST-MODIFIED:20170830T062933Z
UID:3826-1517509800-1517513400@www.noahwebster.org
SUMMARY:MESA 4th Grade Musical (2 of 2)
DESCRIPTION:Classes Performing: Holguin & Porter
URL:https://www.noahwebster.org/event/mesa-4th-grade-musical-2-2-2/
LOCATION:AZ
CATEGORIES:Music
END:VEVENT
BEGIN:VEVENT
DTSTART;TZID=UTC:20180131T183000
DTEND;TZID=UTC:20180131T193000
DTSTAMP:20260421T140902
CREATED:20170915T221935Z
LAST-MODIFIED:20170915T221935Z
UID:3968-1517423400-1517427000@www.noahwebster.org
SUMMARY:PIMA 5th & 6th Grade Showcase Night
DESCRIPTION:
URL:https://www.noahwebster.org/event/pima-5th-6th-grade-showcase-night/
LOCATION:Pima Campus\, 5399 N. Pima Road\, Scottsdale\, AZ\, 85250\, United States
CATEGORIES:School Activity
END:VEVENT
BEGIN:VEVENT
DTSTART;TZID=UTC:20180131T183000
DTEND;TZID=UTC:20180131T193000
DTSTAMP:20260421T140902
CREATED:20170830T062821Z
LAST-MODIFIED:20170830T062821Z
UID:3824-1517423400-1517427000@www.noahwebster.org
SUMMARY:MESA 4th Grade Musical (1 of 2)
DESCRIPTION:Classes Performing: Pequeno\, Schreiner & Stiltner
URL:https://www.noahwebster.org/event/mesa-4th-grade-musical-1-2-2/
LOCATION:AZ
CATEGORIES:Music
END:VEVENT
BEGIN:VEVENT
DTSTART;TZID=UTC:20180131T100000
DTEND;TZID=UTC:20180131T100000
DTSTAMP:20260421T140902
CREATED:20170830T061530Z
LAST-MODIFIED:20170830T061530Z
UID:3815-1517392800-1517392800@www.noahwebster.org
SUMMARY:PIMA Welcome Wednesday
DESCRIPTION:Come take a tour of the campus\, interact with Administrators and receive Admission information. If you can’t make it at 10:00 am\, contact us to schedule a private tour.
URL:https://www.noahwebster.org/event/pima-welcome-wednesday-100/
LOCATION:Pima Campus\, 5399 N. Pima Road\, Scottsdale\, AZ\, 85250\, United States
CATEGORIES:General
END:VEVENT
BEGIN:VEVENT
DTSTART;TZID=UTC:20180131T100000
DTEND;TZID=UTC:20180131T100000
DTSTAMP:20260421T140902
CREATED:20170830T060743Z
LAST-MODIFIED:20170830T060743Z
UID:3807-1517392800-1517392800@www.noahwebster.org
SUMMARY:MESA Welcome Wednesday
DESCRIPTION:Come take a tour of the campus\, interact with Administrators and receive Admission information. If you can’t make it at 10:00 am\, contact us to schedule a private tour.
URL:https://www.noahwebster.org/event/mesa-welcome-wednesday-97/
LOCATION:AZ
CATEGORIES:General
END:VEVENT
BEGIN:VEVENT
DTSTART;TZID=America/Phoenix:20180125T093000
DTEND;TZID=America/Phoenix:20180125T140000
DTSTAMP:20260421T140902
CREATED:20171017T041036Z
LAST-MODIFIED:20171017T041036Z
UID:4020-1516872600-1516888800@www.noahwebster.org
SUMMARY:PIMA 5th Grade Field Trip
DESCRIPTION:Arizona Science Center
URL:https://www.noahwebster.org/event/pima-5th-grade-field-trip-5/
LOCATION:Arizona Science Center
CATEGORIES:Field Trip
END:VEVENT
BEGIN:VEVENT
DTSTART;TZID=UTC:20180124T183000
DTEND;TZID=UTC:20180124T193000
DTSTAMP:20260421T140902
CREATED:20170830T062706Z
LAST-MODIFIED:20170830T062706Z
UID:3821-1516818600-1516822200@www.noahwebster.org
SUMMARY:PIMA 4th Grade Musical
DESCRIPTION:
URL:https://www.noahwebster.org/event/pima-4th-grade-musical-2/
LOCATION:Pima Campus\, 5399 N. Pima Road\, Scottsdale\, AZ\, 85250\, United States
CATEGORIES:Music
END:VEVENT
BEGIN:VEVENT
DTSTART;TZID=UTC:20180124T100000
DTEND;TZID=UTC:20180124T100000
DTSTAMP:20260421T140902
CREATED:20170830T061054Z
LAST-MODIFIED:20170830T061054Z
UID:3813-1516788000-1516788000@www.noahwebster.org
SUMMARY:PIMA Welcome Wednesday
DESCRIPTION:Come take a tour of the campus\, interact with Administrators and receive Admission information. If you can’t make it at 10:00 am\, contact us to schedule a private tour.
URL:https://www.noahwebster.org/event/pima-welcome-wednesday-99/
LOCATION:Pima Campus\, 5399 N. Pima Road\, Scottsdale\, AZ\, 85250\, United States
CATEGORIES:General
END:VEVENT
BEGIN:VEVENT
DTSTART;TZID=UTC:20180124T100000
DTEND;TZID=UTC:20180124T100000
DTSTAMP:20260421T140902
CREATED:20170830T060646Z
LAST-MODIFIED:20170830T060646Z
UID:3805-1516788000-1516788000@www.noahwebster.org
SUMMARY:MESA Welcome Wednesday
DESCRIPTION:Come take a tour of the campus\, interact with Administrators and receive Admission information. If you can’t make it at 10:00 am\, contact us to schedule a private tour.
URL:https://www.noahwebster.org/event/mesa-welcome-wednesday-96/
LOCATION:AZ
CATEGORIES:General
END:VEVENT
BEGIN:VEVENT
DTSTART;VALUE=DATE:20180122
DTEND;VALUE=DATE:20180127
DTSTAMP:20260421T140902
CREATED:20170830T062603Z
LAST-MODIFIED:20170830T062603Z
UID:3819-1516579200-1517011199@www.noahwebster.org
SUMMARY:PIMA Spirit Week
DESCRIPTION:Please see the Spirit Week Flyer for the daily themes.
URL:https://www.noahwebster.org/event/pima-spirit-week-7/
LOCATION:Pima Campus\, 5399 N. Pima Road\, Scottsdale\, AZ\, 85250\, United States
CATEGORIES:General
END:VEVENT
BEGIN:VEVENT
DTSTART;VALUE=DATE:20180122
DTEND;VALUE=DATE:20180127
DTSTAMP:20260421T140902
CREATED:20170830T062501Z
LAST-MODIFIED:20170830T062501Z
UID:3817-1516579200-1517011199@www.noahwebster.org
SUMMARY:MESA Spirit Week
DESCRIPTION:Please see the Spirit Week Flyer for the daily themes.
URL:https://www.noahwebster.org/event/mesa-spirit-week-5/
LOCATION:AZ
CATEGORIES:General
END:VEVENT
BEGIN:VEVENT
DTSTART;TZID=UTC:20180118T170000
DTEND;TZID=UTC:20180118T190000
DTSTAMP:20260421T140902
CREATED:20170824T032905Z
LAST-MODIFIED:20170824T032905Z
UID:3668-1516294800-1516302000@www.noahwebster.org
SUMMARY:MESA Open Campus Night
DESCRIPTION:Come tour the school\, talk with administrators and receive admission information.  If you can’t make it\, schedule a private tour by calling 480-772-6149.
URL:https://www.noahwebster.org/event/mesa-open-campus-night-28/
LOCATION:AZ
CATEGORIES:General
END:VEVENT
BEGIN:VEVENT
DTSTART;TZID=UTC:20180117T100000
DTEND;TZID=UTC:20180117T100000
DTSTAMP:20260421T140902
CREATED:20170830T060949Z
LAST-MODIFIED:20170830T060949Z
UID:3811-1516183200-1516183200@www.noahwebster.org
SUMMARY:PIMA Welcome Wednesday
DESCRIPTION:Come take a tour of the campus\, interact with Administrators and receive Admission information. If you can’t make it at 10:00 am\, contact us to schedule a private tour.
URL:https://www.noahwebster.org/event/pima-welcome-wednesday-98/
LOCATION:Pima Campus\, 5399 N. Pima Road\, Scottsdale\, AZ\, 85250\, United States
CATEGORIES:General
END:VEVENT
BEGIN:VEVENT
DTSTART;TZID=UTC:20180117T100000
DTEND;TZID=UTC:20180117T100000
DTSTAMP:20260421T140902
CREATED:20170830T060550Z
LAST-MODIFIED:20170830T060550Z
UID:3803-1516183200-1516183200@www.noahwebster.org
SUMMARY:MESA Welcome Wednesday
DESCRIPTION:Come take a tour of the campus\, interact with Administrators and receive Admission information. If you can’t make it at 10:00 am\, contact us to schedule a private tour.
URL:https://www.noahwebster.org/event/mesa-welcome-wednesday-95/
LOCATION:AZ
CATEGORIES:General
END:VEVENT
BEGIN:VEVENT
DTSTART;VALUE=DATE:20180117
DTEND;VALUE=DATE:20180118
DTSTAMP:20260421T140902
CREATED:20170822T044754Z
LAST-MODIFIED:20170822T044754Z
UID:3528-1516147200-1516233599@www.noahwebster.org
SUMMARY:PIMA Professional Development Day (Early Dismissal)
DESCRIPTION:Please see the Early Dismissal Flyer for release times.
URL:https://www.noahwebster.org/event/pima-professional-development-day-early-dismissal-26/
LOCATION:Pima Campus\, 5399 N. Pima Road\, Scottsdale\, AZ\, 85250\, United States
CATEGORIES:Early Dismissal
END:VEVENT
BEGIN:VEVENT
DTSTART;VALUE=DATE:20180117
DTEND;VALUE=DATE:20180118
DTSTAMP:20260421T140902
CREATED:20170822T044627Z
LAST-MODIFIED:20170822T044627Z
UID:3526-1516147200-1516233599@www.noahwebster.org
SUMMARY:MESA Professional Development Day (Early Dismissal)
DESCRIPTION:Please see the Early Dismissal Flyer for release times.
URL:https://www.noahwebster.org/event/mesa-professional-development-day-early-dismissal-17/
LOCATION:AZ
CATEGORIES:Early Dismissal
END:VEVENT
BEGIN:VEVENT
DTSTART;TZID=UTC:20180116T170000
DTEND;TZID=UTC:20180116T190000
DTSTAMP:20260421T140902
CREATED:20170824T032146Z
LAST-MODIFIED:20170824T032146Z
UID:3665-1516122000-1516129200@www.noahwebster.org
SUMMARY:PIMA Open Campus Night
DESCRIPTION:Come tour the school\, talk with administrators and receive admission information.  If you can’t make it\, schedule a private tour by calling 480-772-6149.
URL:https://www.noahwebster.org/event/mesa-open-campus-night-27/
LOCATION:Pima Campus\, 5399 N. Pima Road\, Scottsdale\, AZ\, 85250\, United States
CATEGORIES:General
END:VEVENT
BEGIN:VEVENT
DTSTART;VALUE=DATE:20180115
DTEND;VALUE=DATE:20180116
DTSTAMP:20260421T140902
CREATED:20170822T044505Z
LAST-MODIFIED:20170822T044505Z
UID:3523-1515974400-1516060799@www.noahwebster.org
SUMMARY:PIMA Civil Rights Day (No School)
DESCRIPTION:
URL:https://www.noahwebster.org/event/pima-civil-rights-day-no-school-3/
LOCATION:Pima Campus\, 5399 N. Pima Road\, Scottsdale\, AZ\, 85250\, United States
CATEGORIES:Holiday
END:VEVENT
BEGIN:VEVENT
DTSTART;VALUE=DATE:20180115
DTEND;VALUE=DATE:20180116
DTSTAMP:20260421T140902
CREATED:20170822T044409Z
LAST-MODIFIED:20170822T044409Z
UID:3520-1515974400-1516060799@www.noahwebster.org
SUMMARY:MESA Civil Rights Day (No School)
DESCRIPTION:
URL:https://www.noahwebster.org/event/mesa-civil-rights-day-no-school-2/
LOCATION:AZ
CATEGORIES:Holiday
END:VEVENT
BEGIN:VEVENT
DTSTART;TZID=UTC:20180110T100000
DTEND;TZID=UTC:20180110T100000
DTSTAMP:20260421T140902
CREATED:20170830T060838Z
LAST-MODIFIED:20170830T060838Z
UID:3809-1515578400-1515578400@www.noahwebster.org
SUMMARY:PIMA Welcome Wednesday
DESCRIPTION:Come take a tour of the campus\, interact with Administrators and receive Admission information. If you can’t make it at 10:00 am\, contact us to schedule a private tour.
URL:https://www.noahwebster.org/event/pima-welcome-wednesday-97/
LOCATION:Pima Campus\, 5399 N. Pima Road\, Scottsdale\, AZ\, 85250\, United States
CATEGORIES:General
END:VEVENT
BEGIN:VEVENT
DTSTART;TZID=UTC:20180110T100000
DTEND;TZID=UTC:20180110T100000
DTSTAMP:20260421T140902
CREATED:20170830T060448Z
LAST-MODIFIED:20170830T060448Z
UID:3801-1515578400-1515578400@www.noahwebster.org
SUMMARY:MESA Welcome Wednesday
DESCRIPTION:Come take a tour of the campus\, interact with Administrators and receive Admission information. If you can’t make it at 10:00 am\, contact us to schedule a private tour.
URL:https://www.noahwebster.org/event/mesa-welcome-wednesday-94/
LOCATION:AZ
CATEGORIES:General
END:VEVENT
BEGIN:VEVENT
DTSTART;VALUE=DATE:20180108
DTEND;VALUE=DATE:20180109
DTSTAMP:20260421T140902
CREATED:20170822T041428Z
LAST-MODIFIED:20170822T041428Z
UID:3517-1515369600-1515455999@www.noahwebster.org
SUMMARY:PIMA School Resumes
DESCRIPTION:
URL:https://www.noahwebster.org/event/pima-school-resumes-3/
LOCATION:Pima Campus\, 5399 N. Pima Road\, Scottsdale\, AZ\, 85250\, United States
CATEGORIES:General
END:VEVENT
BEGIN:VEVENT
DTSTART;VALUE=DATE:20180108
DTEND;VALUE=DATE:20180109
DTSTAMP:20260421T140902
CREATED:20170822T041344Z
LAST-MODIFIED:20170822T041344Z
UID:3515-1515369600-1515455999@www.noahwebster.org
SUMMARY:MESA School Resumes
DESCRIPTION:
URL:https://www.noahwebster.org/event/mesa-school-resumes-2/
LOCATION:AZ
CATEGORIES:General
END:VEVENT
BEGIN:VEVENT
DTSTART;VALUE=DATE:20171222
DTEND;VALUE=DATE:20180106
DTSTAMP:20260421T140902
CREATED:20170822T041231Z
LAST-MODIFIED:20170822T041231Z
UID:3513-1513900800-1515196799@www.noahwebster.org
SUMMARY:PIMA Winter Break (No School)
DESCRIPTION:
URL:https://www.noahwebster.org/event/pima-winter-break-no-school-3/
LOCATION:Pima Campus\, 5399 N. Pima Road\, Scottsdale\, AZ\, 85250\, United States
CATEGORIES:Holiday
END:VEVENT
END:VCALENDAR