BEGIN:VCALENDAR
VERSION:2.0
PRODID:-//Noah Webster - ECPv6.15.20//NONSGML v1.0//EN
CALSCALE:GREGORIAN
METHOD:PUBLISH
X-ORIGINAL-URL:https://www.noahwebster.org
X-WR-CALDESC:Events for Noah Webster
REFRESH-INTERVAL;VALUE=DURATION:PT1H
X-Robots-Tag:noindex
X-PUBLISHED-TTL:PT1H
BEGIN:VTIMEZONE
TZID:UTC
BEGIN:STANDARD
TZOFFSETFROM:+0000
TZOFFSETTO:+0000
TZNAME:UTC
DTSTART:20180101T000000
END:STANDARD
END:VTIMEZONE
BEGIN:VEVENT
DTSTART;TZID=UTC:20190109T100000
DTEND;TZID=UTC:20190109T100000
DTSTAMP:20260421T064214
CREATED:20180831T050015Z
LAST-MODIFIED:20180831T050015Z
UID:5167-1547028000-1547028000@www.noahwebster.org
SUMMARY:PIMA Welcome Wednesday
DESCRIPTION:Come take a tour of the campus\, interact with Administrators and receive Admission information. If you can’t make it at 10:00 am\, contact us to schedule a private tour.
URL:https://www.noahwebster.org/event/pima-welcome-wednesday-139/
LOCATION:Pima Campus\, 5399 N. Pima Road\, Scottsdale\, AZ\, 85250\, United States
CATEGORIES:General
END:VEVENT
BEGIN:VEVENT
DTSTART;TZID=UTC:20190115T163000
DTEND;TZID=UTC:20190115T180000
DTSTAMP:20260421T064214
CREATED:20181212T233240Z
LAST-MODIFIED:20181212T233240Z
UID:5739-1547569800-1547575200@www.noahwebster.org
SUMMARY:NWS-PIMA Career Fair
DESCRIPTION:Come Check Out Employment Opportunities at Noah Webster Schools and See What We Have to Offer\nNoah Webster Schools is now hiring for the 2019-2020 school year:\n\nKG – 6th Grade Teachers\nInstructional Aides\nHealth Office Assistants\nPlayground Assistants\nCafeteria Assistants\nBus Drivers\nSubstitute Teachers\n\nNoah Webster Schools is a Public Charter School that Offers:\n\nPre-Kindergarten through 6th Grade\nFederal Loan Forgiveness Program\nCompetitive Salary\nRich Benefits Package\nTechnology Integrated Curriculum\nCollaborative Working Environment\nNew Teacher Mentor Program\nPersonal and Professional Growth Opportunities\nEngaging Professional Development\nEnrollment Priority for Employees’ Children\nAfter School Care for Employee’s Enrolled Children at No Cost\n\nPlease bring your resume\, a copy of your IVP Fingerprint Clearance Card and a copy of any applicable licenses and certificates. \nApply online by clicking HERE or email resume and application materials to jpennington@noahwebster.org.
URL:https://www.noahwebster.org/event/nws-pima-career-fair-2/
LOCATION:Pima Campus\, 5399 N. Pima Road\, Scottsdale\, AZ\, 85250\, United States
CATEGORIES:General
END:VEVENT
BEGIN:VEVENT
DTSTART;TZID=UTC:20190115T170000
DTEND;TZID=UTC:20190115T190000
DTSTAMP:20260421T064214
CREATED:20180831T225034Z
LAST-MODIFIED:20180831T225034Z
UID:5233-1547571600-1547578800@www.noahwebster.org
SUMMARY:PIMA Open Campus Night
DESCRIPTION:Come tour the school\, talk with administrators and receive admission information.  If you can’t make it\, schedule a private tour by calling 480-772-6149.   \nNoah Webster Schools- Pima\n5399 N. Pima Road\nScottsdale\, AZ 85250\n480-291-6900
URL:https://www.noahwebster.org/event/pima-open-campus-night-37/
LOCATION:Pima Campus\, 5399 N. Pima Road\, Scottsdale\, AZ\, 85250\, United States
CATEGORIES:General
END:VEVENT
BEGIN:VEVENT
DTSTART;VALUE=DATE:20190116
DTEND;VALUE=DATE:20190117
DTSTAMP:20260421T064214
CREATED:20180822T014956Z
LAST-MODIFIED:20180822T014956Z
UID:5032-1547596800-1547683199@www.noahwebster.org
SUMMARY:MESA Professional Development (Early Dismissal)
DESCRIPTION:
URL:https://www.noahwebster.org/event/mesa-professional-development-early-dismissal-10/
LOCATION:Mesa Campus\, 7301 E. Baseline Road\, Mesa\, AZ\, 85209\, United States
CATEGORIES:Early Dismissal
END:VEVENT
BEGIN:VEVENT
DTSTART;VALUE=DATE:20190116
DTEND;VALUE=DATE:20190117
DTSTAMP:20260421T064214
CREATED:20180822T015058Z
LAST-MODIFIED:20180822T015058Z
UID:5034-1547596800-1547683199@www.noahwebster.org
SUMMARY:PIMA Professional Development (Early Dismissal)
DESCRIPTION:
URL:https://www.noahwebster.org/event/pima-professional-development-early-dismissal-9/
LOCATION:Pima Campus\, 5399 N. Pima Road\, Scottsdale\, AZ\, 85250\, United States
CATEGORIES:Early Dismissal
END:VEVENT
BEGIN:VEVENT
DTSTART;TZID=UTC:20190116T100000
DTEND;TZID=UTC:20190116T100000
DTSTAMP:20260421T064214
CREATED:20180831T045031Z
LAST-MODIFIED:20180831T045031Z
UID:5161-1547632800-1547632800@www.noahwebster.org
SUMMARY:MESA Welcome Wednesday
DESCRIPTION:Come take a tour of the campus\, interact with Administrators and receive Admission information. If you can’t make it at 10:00 am\, contact us to schedule a private tour.
URL:https://www.noahwebster.org/event/mesa-welcome-wednesday-136/
LOCATION:Mesa Campus\, 7301 E. Baseline Road\, Mesa\, AZ\, 85209\, United States
CATEGORIES:General
END:VEVENT
BEGIN:VEVENT
DTSTART;TZID=UTC:20190116T100000
DTEND;TZID=UTC:20190116T100000
DTSTAMP:20260421T064214
CREATED:20180831T050141Z
LAST-MODIFIED:20180831T050141Z
UID:5169-1547632800-1547632800@www.noahwebster.org
SUMMARY:PIMA Welcome Wednesday
DESCRIPTION:Come take a tour of the campus\, interact with Administrators and receive Admission information. If you can’t make it at 10:00 am\, contact us to schedule a private tour.
URL:https://www.noahwebster.org/event/pima-welcome-wednesday-140/
LOCATION:Pima Campus\, 5399 N. Pima Road\, Scottsdale\, AZ\, 85250\, United States
CATEGORIES:General
END:VEVENT
BEGIN:VEVENT
DTSTART;TZID=UTC:20190117T093000
DTEND;TZID=UTC:20190117T124500
DTSTAMP:20260421T064214
CREATED:20181019T223017Z
LAST-MODIFIED:20181019T223017Z
UID:5581-1547717400-1547729100@www.noahwebster.org
SUMMARY:PIMA 2nd Grade Field Trip
DESCRIPTION:Halle Heart Children’s Museum
URL:https://www.noahwebster.org/event/pima-2nd-grade-field-trip-4/
LOCATION:Halle Heart Children’s Museum\, 2929 S. 48th Street\, Tempe\, AZ\, 85282\, United States
CATEGORIES:Field Trip
END:VEVENT
BEGIN:VEVENT
DTSTART;TZID=UTC:20190117T163000
DTEND;TZID=UTC:20190117T180000
DTSTAMP:20260421T064214
CREATED:20181212T233433Z
LAST-MODIFIED:20181212T233433Z
UID:5741-1547742600-1547748000@www.noahwebster.org
SUMMARY:NWS-MESA Career Fair
DESCRIPTION:Come Check Out Employment Opportunities at Noah Webster Schools and See What We Have to Offer\nNoah Webster Schools is now hiring for the 2019-2020 school year:\n\nKG – 6th Grade Teachers\nInstructional Aides\nHealth Office Assistants\nPlayground Assistants\nCafeteria Assistants\nBus Drivers\nSubstitute Teachers\n\n\nNoah Webster Schools is a Public Charter School that Offers:\n\nPre-Kindergarten through 6th Grade\nFederal Loan Forgiveness Program\nCompetitive Salary\nRich Benefits Package\nTechnology Integrated Curriculum\nCollaborative Working Environment\nNew Teacher Mentor Program\nPersonal and Professional Growth Opportunities\nEngaging Professional Development\nEnrollment Priority for Employees’ Children\nAfter School Care for Employee’s Enrolled Children at No Cost\n\nPlease bring your resume\, a copy of your IVP Fingerprint Clearance Card and a copy of any applicable licenses and certificates. \nApply online by clicking HERE or email resume and application materials to jpennington@noahwebster.org.
URL:https://www.noahwebster.org/event/nws-mesa-career-fair-2/
LOCATION:Mesa Campus\, 7301 E. Baseline Road\, Mesa\, AZ\, 85209\, United States
CATEGORIES:General
END:VEVENT
BEGIN:VEVENT
DTSTART;TZID=UTC:20190117T170000
DTEND;TZID=UTC:20190117T190000
DTSTAMP:20260421T064214
CREATED:20180831T225116Z
LAST-MODIFIED:20180831T225116Z
UID:5235-1547744400-1547751600@www.noahwebster.org
SUMMARY:MESA Open Campus Night
DESCRIPTION:Come tour the school\, talk with administrators and receive admission information.  If you can’t make it\, schedule a private tour by calling 480-772-6149.   \nNoah Webster Schools- Mesa\n7301 E. Baseline Road\nMesa\, AZ 85209\n480-986-2335
URL:https://www.noahwebster.org/event/mesa-open-campus-night-40/
LOCATION:Mesa Campus\, 7301 E. Baseline Road\, Mesa\, AZ\, 85209\, United States
CATEGORIES:General
END:VEVENT
BEGIN:VEVENT
DTSTART;VALUE=DATE:20190121
DTEND;VALUE=DATE:20190122
DTSTAMP:20260421T064214
CREATED:20180822T015608Z
LAST-MODIFIED:20180822T015608Z
UID:5040-1548028800-1548115199@www.noahwebster.org
SUMMARY:MESA Civil Rights Day (No School)
DESCRIPTION:
URL:https://www.noahwebster.org/event/mesa-civil-rights-day-no-school-3/
LOCATION:Mesa Campus\, 7301 E. Baseline Road\, Mesa\, AZ\, 85209\, United States
CATEGORIES:Holiday
END:VEVENT
BEGIN:VEVENT
DTSTART;VALUE=DATE:20190121
DTEND;VALUE=DATE:20190122
DTSTAMP:20260421T064214
CREATED:20180822T015818Z
LAST-MODIFIED:20180822T015818Z
UID:5042-1548028800-1548115199@www.noahwebster.org
SUMMARY:PIMA Civil Rights Day (No School)
DESCRIPTION:
URL:https://www.noahwebster.org/event/pima-civil-rights-day-no-school-4/
LOCATION:Pima Campus\, 5399 N. Pima Road\, Scottsdale\, AZ\, 85250\, United States
CATEGORIES:Holiday
END:VEVENT
BEGIN:VEVENT
DTSTART;VALUE=DATE:20190122
DTEND;VALUE=DATE:20190126
DTSTAMP:20260421T064214
CREATED:20180831T230213Z
LAST-MODIFIED:20180831T230213Z
UID:5253-1548115200-1548460799@www.noahwebster.org
SUMMARY:MESA Spirit Week
DESCRIPTION:Show your school spirit and come dressed as the “daily theme” but remember that dress code still applies.
URL:https://www.noahwebster.org/event/mesa-spirit-week-8/
LOCATION:Mesa Campus\, 7301 E. Baseline Road\, Mesa\, AZ\, 85209\, United States
CATEGORIES:School Activity
END:VEVENT
BEGIN:VEVENT
DTSTART;VALUE=DATE:20190122
DTEND;VALUE=DATE:20190126
DTSTAMP:20260421T064214
CREATED:20180831T230511Z
LAST-MODIFIED:20180831T230511Z
UID:5255-1548115200-1548460799@www.noahwebster.org
SUMMARY:PIMA Spirit Week
DESCRIPTION:Show your school spirit and come dressed as the “daily theme” but remember that dress code still applies.
URL:https://www.noahwebster.org/event/pima-spirit-week-10/
LOCATION:Pima Campus\, 5399 N. Pima Road\, Scottsdale\, AZ\, 85250\, United States
CATEGORIES:School Activity
END:VEVENT
BEGIN:VEVENT
DTSTART;TZID=UTC:20190123T084500
DTEND;TZID=UTC:20190123T133000
DTSTAMP:20260421T064214
CREATED:20181125T132312Z
LAST-MODIFIED:20181125T132312Z
UID:5645-1548233100-1548250200@www.noahwebster.org
SUMMARY:MESA 4th Grade Field Trip
DESCRIPTION:Goldfield Ghost Town
URL:https://www.noahwebster.org/event/mesa-4th-grade-field-trip-4/
LOCATION:Goldfield Ghost Town
CATEGORIES:Field Trip
END:VEVENT
BEGIN:VEVENT
DTSTART;TZID=UTC:20190123T100000
DTEND;TZID=UTC:20190123T100000
DTSTAMP:20260421T064214
CREATED:20180831T045134Z
LAST-MODIFIED:20180831T045134Z
UID:5163-1548237600-1548237600@www.noahwebster.org
SUMMARY:MESA Welcome Wednesday
DESCRIPTION:Come take a tour of the campus\, interact with Administrators and receive Admission information. If you can’t make it at 10:00 am\, contact us to schedule a private tour.
URL:https://www.noahwebster.org/event/mesa-welcome-wednesday-137/
LOCATION:Mesa Campus\, 7301 E. Baseline Road\, Mesa\, AZ\, 85209\, United States
CATEGORIES:General
END:VEVENT
BEGIN:VEVENT
DTSTART;TZID=UTC:20190123T100000
DTEND;TZID=UTC:20190123T100000
DTSTAMP:20260421T064214
CREATED:20180831T050301Z
LAST-MODIFIED:20180831T050301Z
UID:5171-1548237600-1548237600@www.noahwebster.org
SUMMARY:PIMA Welcome Wednesday
DESCRIPTION:Come take a tour of the campus\, interact with Administrators and receive Admission information. If you can’t make it at 10:00 am\, contact us to schedule a private tour.
URL:https://www.noahwebster.org/event/pima-welcome-wednesday-141/
LOCATION:Pima Campus\, 5399 N. Pima Road\, Scottsdale\, AZ\, 85250\, United States
CATEGORIES:General
END:VEVENT
BEGIN:VEVENT
DTSTART;TZID=UTC:20190124T084500
DTEND;TZID=UTC:20190124T140000
DTSTAMP:20260421T064214
CREATED:20190111T050000Z
LAST-MODIFIED:20190111T050000Z
UID:5796-1548319500-1548338400@www.noahwebster.org
SUMMARY:PIMA 6th Grade Field Trip
DESCRIPTION:Junior Achievement BizTown
URL:https://www.noahwebster.org/event/pima-6th-grade-field-trip-8/
LOCATION:JA BizTown
CATEGORIES:Field Trip
END:VEVENT
BEGIN:VEVENT
DTSTART;TZID=UTC:20190125T090000
DTEND;TZID=UTC:20190125T140000
DTSTAMP:20260421T064214
CREATED:20190104T051221Z
LAST-MODIFIED:20190104T051221Z
UID:5788-1548406800-1548424800@www.noahwebster.org
SUMMARY:MESA Kindergarten Field Trip
DESCRIPTION:Railroad Park
URL:https://www.noahwebster.org/event/mesa-kindergarten-field-trip-4/
LOCATION:Railroad Park
CATEGORIES:Field Trip
END:VEVENT
BEGIN:VEVENT
DTSTART;VALUE=DATE:20190128
DTEND;VALUE=DATE:20190202
DTSTAMP:20260421T064214
CREATED:20180831T230602Z
LAST-MODIFIED:20180831T230602Z
UID:5257-1548633600-1549065599@www.noahwebster.org
SUMMARY:MESA Read Across America Week
DESCRIPTION:
URL:https://www.noahwebster.org/event/mesa-read-across-america-week/
LOCATION:Mesa Campus\, 7301 E. Baseline Road\, Mesa\, AZ\, 85209\, United States
CATEGORIES:School Activity
END:VEVENT
BEGIN:VEVENT
DTSTART;VALUE=DATE:20190128
DTEND;VALUE=DATE:20190202
DTSTAMP:20260421T064214
CREATED:20180831T230653Z
LAST-MODIFIED:20180831T230653Z
UID:5259-1548633600-1549065599@www.noahwebster.org
SUMMARY:PIMA Read Across America Week
DESCRIPTION:
URL:https://www.noahwebster.org/event/pima-read-across-america-week/
LOCATION:Pima Campus\, 5399 N. Pima Road\, Scottsdale\, AZ\, 85250\, United States
CATEGORIES:School Activity
END:VEVENT
BEGIN:VEVENT
DTSTART;TZID=UTC:20190128T084500
DTEND;TZID=UTC:20190128T140000
DTSTAMP:20260421T064214
CREATED:20190111T045845Z
LAST-MODIFIED:20190111T045845Z
UID:5794-1548665100-1548684000@www.noahwebster.org
SUMMARY:MESA 6th Grade Field trip
DESCRIPTION:Junior Achievement BizTown
URL:https://www.noahwebster.org/event/mesa-6th-grade-field-trip-9/
LOCATION:JA BizTown
CATEGORIES:Field Trip
END:VEVENT
BEGIN:VEVENT
DTSTART;VALUE=DATE:20190129
DTEND;VALUE=DATE:20190131
DTSTAMP:20260421T064214
CREATED:20180831T230755Z
LAST-MODIFIED:20180831T230755Z
UID:5261-1548720000-1548892799@www.noahwebster.org
SUMMARY:MESA Spring Pictures
DESCRIPTION:
URL:https://www.noahwebster.org/event/mesa-spring-pictures-2/
LOCATION:Mesa Campus\, 7301 E. Baseline Road\, Mesa\, AZ\, 85209\, United States
CATEGORIES:General
END:VEVENT
BEGIN:VEVENT
DTSTART;TZID=UTC:20190129T094000
DTEND;TZID=UTC:20190129T120000
DTSTAMP:20260421T064214
CREATED:20190104T050755Z
LAST-MODIFIED:20190104T050755Z
UID:5780-1548754800-1548763200@www.noahwebster.org
SUMMARY:PIMA 3rd Grade Field Trip
DESCRIPTION:OdySea Aquarium
URL:https://www.noahwebster.org/event/pima-3rd-grade-field-trip-3/
LOCATION:OdySea Aquarium
CATEGORIES:Field Trip
END:VEVENT
BEGIN:VEVENT
DTSTART;VALUE=DATE:20190130
DTEND;VALUE=DATE:20190131
DTSTAMP:20260421T064214
CREATED:20180822T015155Z
LAST-MODIFIED:20180822T015155Z
UID:5036-1548806400-1548892799@www.noahwebster.org
SUMMARY:MESA Professional Development (Early Dismissal)
DESCRIPTION:
URL:https://www.noahwebster.org/event/mesa-professional-development-early-dismissal-11/
LOCATION:Mesa Campus\, 7301 E. Baseline Road\, Mesa\, AZ\, 85209\, United States
CATEGORIES:Early Dismissal
END:VEVENT
BEGIN:VEVENT
DTSTART;VALUE=DATE:20190130
DTEND;VALUE=DATE:20190131
DTSTAMP:20260421T064214
CREATED:20180822T015522Z
LAST-MODIFIED:20180822T015522Z
UID:5038-1548806400-1548892799@www.noahwebster.org
SUMMARY:PIMA Professional Development (Early Dismissal)
DESCRIPTION:
URL:https://www.noahwebster.org/event/pima-professional-development-early-dismissal-10/
LOCATION:Pima Campus\, 5399 N. Pima Road\, Scottsdale\, AZ\, 85250\, United States
CATEGORIES:Early Dismissal
END:VEVENT
BEGIN:VEVENT
DTSTART;TZID=UTC:20190130T100000
DTEND;TZID=UTC:20190130T100000
DTSTAMP:20260421T064214
CREATED:20180831T045222Z
LAST-MODIFIED:20180831T045222Z
UID:5165-1548842400-1548842400@www.noahwebster.org
SUMMARY:MESA Welcome Wednesday
DESCRIPTION:Come take a tour of the campus\, interact with Administrators and receive Admission information. If you can’t make it at 10:00 am\, contact us to schedule a private tour.
URL:https://www.noahwebster.org/event/mesa-welcome-wednesday-138/
LOCATION:Mesa Campus\, 7301 E. Baseline Road\, Mesa\, AZ\, 85209\, United States
CATEGORIES:General
END:VEVENT
BEGIN:VEVENT
DTSTART;TZID=UTC:20190130T100000
DTEND;TZID=UTC:20190130T100000
DTSTAMP:20260421T064214
CREATED:20180831T050419Z
LAST-MODIFIED:20180831T050419Z
UID:5173-1548842400-1548842400@www.noahwebster.org
SUMMARY:PIMA Welcome Wednesday
DESCRIPTION:Come take a tour of the campus\, interact with Administrators and receive Admission information. If you can’t make it at 10:00 am\, contact us to schedule a private tour.
URL:https://www.noahwebster.org/event/pima-welcome-wednesday-142/
LOCATION:Pima Campus\, 5399 N. Pima Road\, Scottsdale\, AZ\, 85250\, United States
CATEGORIES:General
END:VEVENT
BEGIN:VEVENT
DTSTART;TZID=UTC:20190130T183000
DTEND;TZID=UTC:20190130T193000
DTSTAMP:20260421T064214
CREATED:20180831T230911Z
LAST-MODIFIED:20180831T230911Z
UID:5263-1548873000-1548876600@www.noahwebster.org
SUMMARY:MESA 4th Grade Musical (1 of 2)
DESCRIPTION:Classes Performing: Greacen & Brown
URL:https://www.noahwebster.org/event/mesa-4th-grade-musical-1-of-2-2/
LOCATION:Mesa Campus\, 7301 E. Baseline Road\, Mesa\, AZ\, 85209\, United States
CATEGORIES:Music
END:VEVENT
BEGIN:VEVENT
DTSTART;TZID=UTC:20190131T093000
DTEND;TZID=UTC:20190131T140000
DTSTAMP:20260421T064214
CREATED:20180919T052513Z
LAST-MODIFIED:20180919T052513Z
UID:5509-1548927000-1548943200@www.noahwebster.org
SUMMARY:PIMA 5th Grade Field Trip
DESCRIPTION:Phoenix Art Museum
URL:https://www.noahwebster.org/event/pima-5th-grade-field-trip-9/
LOCATION:Phoenix Art Museum
CATEGORIES:Field Trip
END:VEVENT
END:VCALENDAR