BEGIN:VCALENDAR
VERSION:2.0
PRODID:-//Noah Webster - ECPv6.15.20//NONSGML v1.0//EN
CALSCALE:GREGORIAN
METHOD:PUBLISH
X-WR-CALNAME:Noah Webster
X-ORIGINAL-URL:https://www.noahwebster.org
X-WR-CALDESC:Events for Noah Webster
REFRESH-INTERVAL;VALUE=DURATION:PT1H
X-Robots-Tag:noindex
X-PUBLISHED-TTL:PT1H
BEGIN:VTIMEZONE
TZID:UTC
BEGIN:STANDARD
TZOFFSETFROM:+0000
TZOFFSETTO:+0000
TZNAME:UTC
DTSTART:20170101T000000
END:STANDARD
END:VTIMEZONE
BEGIN:VTIMEZONE
TZID:America/Phoenix
BEGIN:STANDARD
TZOFFSETFROM:-0700
TZOFFSETTO:-0700
TZNAME:MST
DTSTART:20170101T000000
END:STANDARD
END:VTIMEZONE
BEGIN:VEVENT
DTSTART;TZID=UTC:20180319T163000
DTEND;TZID=UTC:20180319T163000
DTSTAMP:20260421T064346
CREATED:20180310T010201Z
LAST-MODIFIED:20180310T010201Z
UID:4391-1521477000-1521477000@www.noahwebster.org
SUMMARY:NWS-PIMA Board Meeting
DESCRIPTION:Click HERE the Noah Webster Schools-Pima Board Meeting Notice
URL:https://www.noahwebster.org/event/nws-pima-board-meeting-26/
CATEGORIES:General
END:VEVENT
BEGIN:VEVENT
DTSTART;TZID=UTC:20180319T163000
DTEND;TZID=UTC:20180319T163000
DTSTAMP:20260421T064346
CREATED:20180310T005923Z
LAST-MODIFIED:20180310T005923Z
UID:4389-1521477000-1521477000@www.noahwebster.org
SUMMARY:NWS-MESA Board Meeting
DESCRIPTION:Click HERE for the Noah Webster Schools-Mesa Board Meeting Notice
URL:https://www.noahwebster.org/event/nws-mesa-board-meeting-22/
CATEGORIES:General
END:VEVENT
BEGIN:VEVENT
DTSTART;VALUE=DATE:20180312
DTEND;VALUE=DATE:20180317
DTSTAMP:20260421T064346
CREATED:20170822T050421Z
LAST-MODIFIED:20170822T050421Z
UID:3548-1520812800-1521244799@www.noahwebster.org
SUMMARY:PIMA Spring Break (No School)
DESCRIPTION:
URL:https://www.noahwebster.org/event/pima-spring-break-no-school-3/
LOCATION:Pima Campus\, 5399 N. Pima Road\, Scottsdale\, AZ\, 85250\, United States
CATEGORIES:Holiday
END:VEVENT
BEGIN:VEVENT
DTSTART;VALUE=DATE:20180312
DTEND;VALUE=DATE:20180317
DTSTAMP:20260421T064346
CREATED:20170822T050307Z
LAST-MODIFIED:20170822T050307Z
UID:3545-1520812800-1521244799@www.noahwebster.org
SUMMARY:MESA Spring Break (No School)
DESCRIPTION:
URL:https://www.noahwebster.org/event/mesa-spring-break-no-school-2/
CATEGORIES:Holiday
END:VEVENT
BEGIN:VEVENT
DTSTART;TZID=UTC:20180308T183000
DTEND;TZID=UTC:20180308T193000
DTSTAMP:20260421T064346
CREATED:20170901T043441Z
LAST-MODIFIED:20170901T043441Z
UID:3883-1520533800-1520537400@www.noahwebster.org
SUMMARY:MESA 2nd Grade Musical (2 of 2)
DESCRIPTION:Classes Performing: Gibson & Mitchell
URL:https://www.noahwebster.org/event/mesa-2nd-grade-musical-2-2-2/
CATEGORIES:Music
END:VEVENT
BEGIN:VEVENT
DTSTART;TZID=UTC:20180308T083000
DTEND;TZID=UTC:20180308T120000
DTSTAMP:20260421T064346
CREATED:20170901T042730Z
LAST-MODIFIED:20170901T042730Z
UID:3879-1520497800-1520510400@www.noahwebster.org
SUMMARY:PIMA Field Day (2 of 2)
DESCRIPTION:
URL:https://www.noahwebster.org/event/pima-field-day-2-2-2/
LOCATION:Pima Campus\, 5399 N. Pima Road\, Scottsdale\, AZ\, 85250\, United States
CATEGORIES:School Activity
END:VEVENT
BEGIN:VEVENT
DTSTART;TZID=UTC:20180307T183000
DTEND;TZID=UTC:20180307T193000
DTSTAMP:20260421T064346
CREATED:20170901T043132Z
LAST-MODIFIED:20170901T043132Z
UID:3881-1520447400-1520451000@www.noahwebster.org
SUMMARY:MESA 2nd Grade Musical (1 of 2)
DESCRIPTION:Classes Performing: Andrisani\, Stiltner & Thacker
URL:https://www.noahwebster.org/event/mesa-2nd-grade-musical-1-2-2/
CATEGORIES:Music
END:VEVENT
BEGIN:VEVENT
DTSTART;TZID=UTC:20180307T170000
DTEND;TZID=UTC:20180307T190000
DTSTAMP:20260421T064346
CREATED:20170824T033340Z
LAST-MODIFIED:20170824T033340Z
UID:3676-1520442000-1520449200@www.noahwebster.org
SUMMARY:PIMA Open Campus Night
DESCRIPTION:Come tour the school\, talk with administrators and receive admission information.  If you can’t make it\, schedule a private tour by calling 480-772-6149.
URL:https://www.noahwebster.org/event/pima-open-campus-night-27/
LOCATION:Pima Campus\, 5399 N. Pima Road\, Scottsdale\, AZ\, 85250\, United States
CATEGORIES:General
END:VEVENT
BEGIN:VEVENT
DTSTART;TZID=America/Phoenix:20180307T100000
DTEND;TZID=America/Phoenix:20180307T100000
DTSTAMP:20260421T064346
CREATED:20171024T023923Z
LAST-MODIFIED:20171024T023923Z
UID:4084-1520416800-1520416800@www.noahwebster.org
SUMMARY:PIMA Welcome Wednesday
DESCRIPTION:Come take a tour of the campus\, interact with Administrators and receive Admission information. If you can’t make it at 10:00 am\, contact us to schedule a private tour.
URL:https://www.noahwebster.org/event/pima-welcome-wednesday-105/
LOCATION:Pima Campus\, 5399 N. Pima Road\, Scottsdale\, AZ\, 85250\, United States
CATEGORIES:General
END:VEVENT
BEGIN:VEVENT
DTSTART;TZID=America/Phoenix:20180307T100000
DTEND;TZID=America/Phoenix:20180307T100000
DTSTAMP:20260421T064346
CREATED:20171024T023612Z
LAST-MODIFIED:20171024T023612Z
UID:4081-1520416800-1520416800@www.noahwebster.org
SUMMARY:MESA Welcome Wednesday
DESCRIPTION:Come take a tour of the campus\, interact with Administrators and receive Admission information. If you can’t make it at 10:00 am\, contact us to schedule a private tour.
URL:https://www.noahwebster.org/event/mesa-welcome-wednesday-102/
CATEGORIES:General
END:VEVENT
BEGIN:VEVENT
DTSTART;TZID=UTC:20180307T083000
DTEND;TZID=UTC:20180307T120000
DTSTAMP:20260421T064346
CREATED:20170901T042612Z
LAST-MODIFIED:20170901T042612Z
UID:3877-1520411400-1520424000@www.noahwebster.org
SUMMARY:PIMA Field Day (1 of 2)
DESCRIPTION:
URL:https://www.noahwebster.org/event/pima-field-day-1-2/
LOCATION:Pima Campus\, 5399 N. Pima Road\, Scottsdale\, AZ\, 85250\, United States
CATEGORIES:School Activity
END:VEVENT
BEGIN:VEVENT
DTSTART;TZID=UTC:20180306T183000
DTEND;TZID=UTC:20180306T193000
DTSTAMP:20260421T064346
CREATED:20170901T042430Z
LAST-MODIFIED:20170901T042430Z
UID:3875-1520361000-1520364600@www.noahwebster.org
SUMMARY:PIMA Science Fair Awards Night
DESCRIPTION:
URL:https://www.noahwebster.org/event/pima-science-fair-awards-night/
LOCATION:Pima Campus\, 5399 N. Pima Road\, Scottsdale\, AZ\, 85250\, United States
CATEGORIES:School Activity
END:VEVENT
BEGIN:VEVENT
DTSTART;TZID=UTC:20180306T183000
DTEND;TZID=UTC:20180306T193000
DTSTAMP:20260421T064346
CREATED:20170901T042337Z
LAST-MODIFIED:20170901T042337Z
UID:3873-1520361000-1520364600@www.noahwebster.org
SUMMARY:MESA Science Fair Awards Night
DESCRIPTION:
URL:https://www.noahwebster.org/event/mesa-science-fair-awards-night/
CATEGORIES:School Activity
END:VEVENT
BEGIN:VEVENT
DTSTART;TZID=UTC:20180301T183000
DTEND;TZID=UTC:20180301T193000
DTSTAMP:20260421T064346
CREATED:20170901T034133Z
LAST-MODIFIED:20170901T034133Z
UID:3868-1519929000-1519932600@www.noahwebster.org
SUMMARY:MESA 3rd Grade Musical (2 of 2)
DESCRIPTION:Classes Performing: Crawford\, Dvorak & Gibbs
URL:https://www.noahwebster.org/event/pima-3rd-grade-musical-2-2/
CATEGORIES:Music
END:VEVENT
BEGIN:VEVENT
DTSTART;TZID=UTC:20180228T183000
DTEND;TZID=UTC:20180228T193000
DTSTAMP:20260421T064346
CREATED:20170901T034007Z
LAST-MODIFIED:20170901T034007Z
UID:3866-1519842600-1519846200@www.noahwebster.org
SUMMARY:PIMA 3rd Grade Musical
DESCRIPTION:
URL:https://www.noahwebster.org/event/pima-3rd-grade-musical-2/
CATEGORIES:Music
END:VEVENT
BEGIN:VEVENT
DTSTART;TZID=UTC:20180228T183000
DTEND;TZID=UTC:20180228T193000
DTSTAMP:20260421T064346
CREATED:20170901T033859Z
LAST-MODIFIED:20170901T033859Z
UID:3864-1519842600-1519846200@www.noahwebster.org
SUMMARY:MESA 3rd Grade Musical (1 of 2)
DESCRIPTION:Classes Performing: Azeka & Virtue
URL:https://www.noahwebster.org/event/mesa-3rd-grade-musical-1-2-2/
CATEGORIES:Music
END:VEVENT
BEGIN:VEVENT
DTSTART;TZID=America/Phoenix:20180228T100000
DTEND;TZID=America/Phoenix:20180228T100000
DTSTAMP:20260421T064346
CREATED:20171024T023504Z
LAST-MODIFIED:20171024T023504Z
UID:4080-1519812000-1519812000@www.noahwebster.org
SUMMARY:PIMA Welcome Wednesday
DESCRIPTION:Come take a tour of the campus\, interact with Administrators and receive Admission information. If you can’t make it at 10:00 am\, contact us to schedule a private tour.
URL:https://www.noahwebster.org/event/pima-welcome-wednesday-104/
LOCATION:Pima Campus\, 5399 N. Pima Road\, Scottsdale\, AZ\, 85250\, United States
CATEGORIES:General
END:VEVENT
BEGIN:VEVENT
DTSTART;TZID=America/Phoenix:20180228T100000
DTEND;TZID=America/Phoenix:20180228T100000
DTSTAMP:20260421T064346
CREATED:20171024T022906Z
LAST-MODIFIED:20171024T022906Z
UID:4076-1519812000-1519812000@www.noahwebster.org
SUMMARY:MESA Welcome Wednesday
DESCRIPTION:Come take a tour of the campus\, interact with Administrators and receive Admission information. If you can’t make it at 10:00 am\, contact us to schedule a private tour.
URL:https://www.noahwebster.org/event/mesa-welcome-wednesday-101/
CATEGORIES:General
END:VEVENT
BEGIN:VEVENT
DTSTART;TZID=UTC:20180228T083000
DTEND;TZID=UTC:20180228T120000
DTSTAMP:20260421T064346
CREATED:20170901T033710Z
LAST-MODIFIED:20170901T033710Z
UID:3861-1519806600-1519819200@www.noahwebster.org
SUMMARY:MESA Field Day (2 of 2)
DESCRIPTION:
URL:https://www.noahwebster.org/event/mesa-field-day-2-2/
CATEGORIES:School Activity
END:VEVENT
BEGIN:VEVENT
DTSTART;TZID=UTC:20180227T183000
DTEND;TZID=UTC:20180227T193000
DTSTAMP:20260421T064346
CREATED:20170911T233731Z
LAST-MODIFIED:20170911T233731Z
UID:3933-1519756200-1519759800@www.noahwebster.org
SUMMARY:PIMA 1st Grade Showcase Night
DESCRIPTION:
URL:https://www.noahwebster.org/event/pima-1st-grade-showcase-night-2/
LOCATION:Pima Campus\, 5399 N. Pima Road\, Scottsdale\, AZ\, 85250\, United States
CATEGORIES:School Activity
END:VEVENT
BEGIN:VEVENT
DTSTART;TZID=UTC:20180227T170000
DTEND;TZID=UTC:20180227T190000
DTSTAMP:20260421T064346
CREATED:20170824T033211Z
LAST-MODIFIED:20170824T033211Z
UID:3674-1519750800-1519758000@www.noahwebster.org
SUMMARY:MESA Open Campus Night
DESCRIPTION:Come tour the school\, talk with administrators and receive admission information.  If you can’t make it\, schedule a private tour by calling 480-772-6149.
URL:https://www.noahwebster.org/event/mesa-open-campus-night-30/
CATEGORIES:General
END:VEVENT
BEGIN:VEVENT
DTSTART;TZID=UTC:20180227T083000
DTEND;TZID=UTC:20180227T120000
DTSTAMP:20260421T064346
CREATED:20170901T033602Z
LAST-MODIFIED:20170901T033602Z
UID:3859-1519720200-1519732800@www.noahwebster.org
SUMMARY:MESA Field Days (1 of 2)
DESCRIPTION:
URL:https://www.noahwebster.org/event/mesa-field-days-1-2/
CATEGORIES:School Activity
END:VEVENT
BEGIN:VEVENT
DTSTART;TZID=UTC:20180223T070000
DTEND;TZID=UTC:20180223T080000
DTSTAMP:20260421T064346
CREATED:20170901T033509Z
LAST-MODIFIED:20170901T033509Z
UID:3857-1519369200-1519372800@www.noahwebster.org
SUMMARY:MESA Dads & Donuts
DESCRIPTION:Divided by Last Name: M-Z
URL:https://www.noahwebster.org/event/mesa-dads-donuts-2/
CATEGORIES:School Activity
END:VEVENT
BEGIN:VEVENT
DTSTART;TZID=UTC:20180222T183000
DTEND;TZID=UTC:20180222T193000
DTSTAMP:20260421T064346
CREATED:20170911T233836Z
LAST-MODIFIED:20170911T233836Z
UID:3935-1519324200-1519327800@www.noahwebster.org
SUMMARY:PIMA 2nd Grade Showcase Night
DESCRIPTION:
URL:https://www.noahwebster.org/event/pima-2nd-grade-showcase-night-2/
LOCATION:Pima Campus\, 5399 N. Pima Road\, Scottsdale\, AZ\, 85250\, United States
CATEGORIES:School Activity
END:VEVENT
BEGIN:VEVENT
DTSTART;TZID=UTC:20180222T183000
DTEND;TZID=UTC:20180222T193000
DTSTAMP:20260421T064346
CREATED:20170911T233151Z
LAST-MODIFIED:20170911T233151Z
UID:3923-1519324200-1519327800@www.noahwebster.org
SUMMARY:MESA 2nd Grade Showcase Night
DESCRIPTION:
URL:https://www.noahwebster.org/event/mesa-2nd-grade-showcase-night-2/
CATEGORIES:School Activity
END:VEVENT
BEGIN:VEVENT
DTSTART;TZID=UTC:20180222T070000
DTEND;TZID=UTC:20180222T080000
DTSTAMP:20260421T064346
CREATED:20170901T033256Z
LAST-MODIFIED:20170901T033256Z
UID:3855-1519282800-1519286400@www.noahwebster.org
SUMMARY:MESA Dads & Donuts
DESCRIPTION:Divided by Last Name: A-L
URL:https://www.noahwebster.org/event/mesa-dads-donuts/
CATEGORIES:School Activity
END:VEVENT
BEGIN:VEVENT
DTSTART;TZID=America/Phoenix:20180221T100000
DTEND;TZID=America/Phoenix:20180221T100000
DTSTAMP:20260421T064346
CREATED:20171024T023355Z
LAST-MODIFIED:20171024T023355Z
UID:4079-1519207200-1519207200@www.noahwebster.org
SUMMARY:PIMA Welcome Wednesday
DESCRIPTION:Come take a tour of the campus\, interact with Administrators and receive Admission information. If you can’t make it at 10:00 am\, contact us to schedule a private tour.
URL:https://www.noahwebster.org/event/pima-welcome-wednesday-103/
LOCATION:Pima Campus\, 5399 N. Pima Road\, Scottsdale\, AZ\, 85250\, United States
CATEGORIES:General
END:VEVENT
BEGIN:VEVENT
DTSTART;TZID=America/Phoenix:20180221T100000
DTEND;TZID=America/Phoenix:20180221T100000
DTSTAMP:20260421T064346
CREATED:20171024T022712Z
LAST-MODIFIED:20171024T022712Z
UID:4075-1519207200-1519207200@www.noahwebster.org
SUMMARY:MESA Welcome Wednesday
DESCRIPTION:Come take a tour of the campus\, interact with Administrators and receive Admission information. If you can’t make it at 10:00 am\, contact us to schedule a private tour.
URL:https://www.noahwebster.org/event/mesa-welcome-wednesday-100/
CATEGORIES:General
END:VEVENT
BEGIN:VEVENT
DTSTART;TZID=UTC:20180221T070000
DTEND;TZID=UTC:20180221T080000
DTSTAMP:20260421T064346
CREATED:20170901T033012Z
LAST-MODIFIED:20170901T033012Z
UID:3853-1519196400-1519200000@www.noahwebster.org
SUMMARY:PIMA Dads & Donuts
DESCRIPTION:Divided by Last Name: M-Z
URL:https://www.noahwebster.org/event/pima-dads-donuts-2/
LOCATION:Pima Campus\, 5399 N. Pima Road\, Scottsdale\, AZ\, 85250\, United States
CATEGORIES:School Activity
END:VEVENT
BEGIN:VEVENT
DTSTART;VALUE=DATE:20180221
DTEND;VALUE=DATE:20180222
DTSTAMP:20260421T064346
CREATED:20170822T050045Z
LAST-MODIFIED:20170822T050045Z
UID:3543-1519171200-1519257599@www.noahwebster.org
SUMMARY:PIMA Professional Development Day (Early Dismissal)
DESCRIPTION:Please see the Early Dismissal Flyer for release times.
URL:https://www.noahwebster.org/event/pima-professional-development-day-early-dismissal-27/
LOCATION:Pima Campus\, 5399 N. Pima Road\, Scottsdale\, AZ\, 85250\, United States
CATEGORIES:Early Dismissal
END:VEVENT
END:VCALENDAR