BEGIN:VCALENDAR
VERSION:2.0
PRODID:-//Noah Webster - ECPv6.15.20//NONSGML v1.0//EN
CALSCALE:GREGORIAN
METHOD:PUBLISH
X-ORIGINAL-URL:https://www.noahwebster.org
X-WR-CALDESC:Events for Noah Webster
REFRESH-INTERVAL;VALUE=DURATION:PT1H
X-Robots-Tag:noindex
X-PUBLISHED-TTL:PT1H
BEGIN:VTIMEZONE
TZID:America/Phoenix
BEGIN:STANDARD
TZOFFSETFROM:-0700
TZOFFSETTO:-0700
TZNAME:MST
DTSTART:20230101T000000
END:STANDARD
END:VTIMEZONE
BEGIN:VEVENT
DTSTART;TZID=America/Phoenix:20240212T183000
DTEND;TZID=America/Phoenix:20240212T193000
DTSTAMP:20260424T004134
CREATED:20230920T224614Z
LAST-MODIFIED:20230920T224614Z
UID:9612-1707762600-1707766200@www.noahwebster.org
SUMMARY:PIMA 1st Grade Musical
DESCRIPTION:
URL:https://www.noahwebster.org/event/pima-1st-grade-musical-3/
LOCATION:Pima Campus\, 5399 N. Pima Road\, Scottsdale\, AZ\, 85250\, United States
CATEGORIES:Music
END:VEVENT
BEGIN:VEVENT
DTSTART;TZID=America/Phoenix:20240213T070000
DTEND;TZID=America/Phoenix:20240213T080000
DTSTAMP:20260424T004134
CREATED:20230920T224714Z
LAST-MODIFIED:20230920T224714Z
UID:9613-1707807600-1707811200@www.noahwebster.org
SUMMARY:MESA Dads & Donuts
DESCRIPTION:
URL:https://www.noahwebster.org/event/mesa-dads-donuts-5/
LOCATION:Mesa Campus\, 7301 E. Baseline Road\, Mesa\, AZ\, 85209\, United States
CATEGORIES:School Activity
END:VEVENT
BEGIN:VEVENT
DTSTART;VALUE=DATE:20240214
DTEND;VALUE=DATE:20240215
DTSTAMP:20260424T004134
CREATED:20230920T224759Z
LAST-MODIFIED:20230920T224759Z
UID:9614-1707868800-1707955199@www.noahwebster.org
SUMMARY:PIMA Spring Picture Day
DESCRIPTION:
URL:https://www.noahwebster.org/event/pima-spring-picture-day-2/
LOCATION:Pima Campus\, 5399 N. Pima Road\, Scottsdale\, AZ\, 85250\, United States
CATEGORIES:General
END:VEVENT
BEGIN:VEVENT
DTSTART;TZID=America/Phoenix:20240215T070000
DTEND;TZID=America/Phoenix:20240215T080000
DTSTAMP:20260424T004134
CREATED:20230920T224841Z
LAST-MODIFIED:20230920T224841Z
UID:9615-1707980400-1707984000@www.noahwebster.org
SUMMARY:PIMA Dads & Donuts
DESCRIPTION:
URL:https://www.noahwebster.org/event/pima-dads-donuts-6/
LOCATION:Pima Campus\, 5399 N. Pima Road\, Scottsdale\, AZ\, 85250\, United States
CATEGORIES:School Activity
END:VEVENT
BEGIN:VEVENT
DTSTART;TZID=America/Phoenix:20240216T083000
DTEND;TZID=America/Phoenix:20240216T090000
DTSTAMP:20260424T004134
CREATED:20231103T184355Z
LAST-MODIFIED:20231103T184355Z
UID:9777-1708072200-1708074000@www.noahwebster.org
SUMMARY:MESA PK-2nd Gr. Pep Assembly
DESCRIPTION:
URL:https://www.noahwebster.org/event/mesa-pk-2nd-gr-pep-assembly-5/
LOCATION:Mesa Campus\, 7301 E. Baseline Road\, Mesa\, AZ\, 85209\, United States
CATEGORIES:General
END:VEVENT
BEGIN:VEVENT
DTSTART;TZID=America/Phoenix:20240216T083000
DTEND;TZID=America/Phoenix:20240216T090000
DTSTAMP:20260424T004134
CREATED:20231103T185423Z
LAST-MODIFIED:20231103T185423Z
UID:9785-1708072200-1708074000@www.noahwebster.org
SUMMARY:PIMA PK-2nd Gr. Pep Assembly
DESCRIPTION:
URL:https://www.noahwebster.org/event/pima-pk-2nd-gr-pep-assembly-5/
LOCATION:Pima Campus\, 5399 N. Pima Road\, Scottsdale\, AZ\, 85250\, United States
CATEGORIES:General
END:VEVENT
BEGIN:VEVENT
DTSTART;VALUE=DATE:20240219
DTEND;VALUE=DATE:20240220
DTSTAMP:20260424T004134
CREATED:20230606T214036Z
LAST-MODIFIED:20230606T214036Z
UID:9339-1708300800-1708387199@www.noahwebster.org
SUMMARY:Presidents' Day (No School)
DESCRIPTION:
URL:https://www.noahwebster.org/event/presidents-day-no-school-3/
LOCATION:AZ
CATEGORIES:Holiday
END:VEVENT
BEGIN:VEVENT
DTSTART;VALUE=DATE:20240220
DTEND;VALUE=DATE:20240221
DTSTAMP:20260424T004134
CREATED:20230920T225214Z
LAST-MODIFIED:20230920T225214Z
UID:9619-1708387200-1708473599@www.noahwebster.org
SUMMARY:After School Programs: Session 5 Begins
DESCRIPTION:
URL:https://www.noahwebster.org/event/after-school-programs-session-5-begins-2/
LOCATION:AZ
CATEGORIES:After School Program
END:VEVENT
BEGIN:VEVENT
DTSTART;VALUE=DATE:20240220
DTEND;VALUE=DATE:20240224
DTSTAMP:20260424T004134
CREATED:20230920T225049Z
LAST-MODIFIED:20230920T225049Z
UID:9617-1708387200-1708732799@www.noahwebster.org
SUMMARY:MESA Spirit Week
DESCRIPTION:
URL:https://www.noahwebster.org/event/mesa-spirit-week-23/
LOCATION:Mesa Campus\, 7301 E. Baseline Road\, Mesa\, AZ\, 85209\, United States
CATEGORIES:School Activity
END:VEVENT
BEGIN:VEVENT
DTSTART;VALUE=DATE:20240220
DTEND;VALUE=DATE:20240224
DTSTAMP:20260424T004134
CREATED:20230920T225128Z
LAST-MODIFIED:20230920T225128Z
UID:9618-1708387200-1708732799@www.noahwebster.org
SUMMARY:PIMA Spirit Week
DESCRIPTION:
URL:https://www.noahwebster.org/event/pima-spirit-week-25/
LOCATION:Pima Campus\, 5399 N. Pima Road\, Scottsdale\, AZ\, 85250\, United States
CATEGORIES:School Activity
END:VEVENT
BEGIN:VEVENT
DTSTART;TZID=America/Phoenix:20240220T163000
DTEND;TZID=America/Phoenix:20240220T163000
DTSTAMP:20260424T004134
CREATED:20240217T042342Z
LAST-MODIFIED:20240217T042342Z
UID:9973-1708446600-1708446600@www.noahwebster.org
SUMMARY:NWS-Mesa Board Meeting
DESCRIPTION:Please click HERE to view the Board Meeting Notification and Agenda.  This meeting will be held virtually.
URL:https://www.noahwebster.org/event/nws-mesa-board-meeting-67/
LOCATION:AZ
CATEGORIES:General
END:VEVENT
BEGIN:VEVENT
DTSTART;TZID=America/Phoenix:20240220T163000
DTEND;TZID=America/Phoenix:20240220T163000
DTSTAMP:20260424T004134
CREATED:20240217T042525Z
LAST-MODIFIED:20240217T042525Z
UID:9974-1708446600-1708446600@www.noahwebster.org
SUMMARY:NWS-Pima Board Meeting
DESCRIPTION:Please click HERE to view the Board Meeting Notification and Agenda.  This meeting will be held virtually.
URL:https://www.noahwebster.org/event/nws-pima-board-meeting-74/
LOCATION:AZ
CATEGORIES:General
END:VEVENT
BEGIN:VEVENT
DTSTART;TZID=America/Phoenix:20240221T183000
DTEND;TZID=America/Phoenix:20240221T193000
DTSTAMP:20260424T004134
CREATED:20230920T225313Z
LAST-MODIFIED:20230920T225313Z
UID:9620-1708540200-1708543800@www.noahwebster.org
SUMMARY:MESA 3rd Grade Showcase Night
DESCRIPTION:
URL:https://www.noahwebster.org/event/mesa-3rd-grade-showcase-night-4/
LOCATION:Mesa Campus\, 7301 E. Baseline Road\, Mesa\, AZ\, 85209\, United States
CATEGORIES:School Activity
END:VEVENT
BEGIN:VEVENT
DTSTART;TZID=America/Phoenix:20240222T085000
DTEND;TZID=America/Phoenix:20240222T133000
DTSTAMP:20260424T004134
CREATED:20240123T210430Z
LAST-MODIFIED:20240123T210430Z
UID:9930-1708591800-1708608600@www.noahwebster.org
SUMMARY:MESA 3rd Gr. Field Trip
DESCRIPTION:The Phoenix Zoo
URL:https://www.noahwebster.org/event/mesa-3rd-gr-field-trip-9/
LOCATION:Phoenix Zoo
CATEGORIES:Field Trip
END:VEVENT
BEGIN:VEVENT
DTSTART;TZID=America/Phoenix:20240222T183000
DTEND;TZID=America/Phoenix:20240222T193000
DTSTAMP:20260424T004134
CREATED:20230920T225517Z
LAST-MODIFIED:20230920T225517Z
UID:9621-1708626600-1708630200@www.noahwebster.org
SUMMARY:PIMA 2nd Grade Showcase Night
DESCRIPTION:
URL:https://www.noahwebster.org/event/pima-2nd-grade-showcase-night-6/
LOCATION:Pima Campus\, 5399 N. Pima Road\, Scottsdale\, AZ\, 85250\, United States
CATEGORIES:School Activity
END:VEVENT
BEGIN:VEVENT
DTSTART;TZID=America/Phoenix:20240227T183000
DTEND;TZID=America/Phoenix:20240227T193000
DTSTAMP:20260424T004134
CREATED:20230920T225606Z
LAST-MODIFIED:20230920T225606Z
UID:9622-1709058600-1709062200@www.noahwebster.org
SUMMARY:MESA Science Fair
DESCRIPTION:
URL:https://www.noahwebster.org/event/mesa-science-fair-4/
LOCATION:Mesa Campus\, 7301 E. Baseline Road\, Mesa\, AZ\, 85209\, United States
CATEGORIES:School Activity
END:VEVENT
BEGIN:VEVENT
DTSTART;TZID=America/Phoenix:20240227T183000
DTEND;TZID=America/Phoenix:20240227T193000
DTSTAMP:20260424T004134
CREATED:20230920T225643Z
LAST-MODIFIED:20230920T225643Z
UID:9623-1709058600-1709062200@www.noahwebster.org
SUMMARY:PIMA Science Fair
DESCRIPTION:
URL:https://www.noahwebster.org/event/pima-science-fair-4/
LOCATION:Pima Campus\, 5399 N. Pima Road\, Scottsdale\, AZ\, 85250\, United States
CATEGORIES:School Activity
END:VEVENT
BEGIN:VEVENT
DTSTART;VALUE=DATE:20240228
DTEND;VALUE=DATE:20240229
DTSTAMP:20260424T004134
CREATED:20230606T214119Z
LAST-MODIFIED:20230606T214119Z
UID:9340-1709078400-1709164799@www.noahwebster.org
SUMMARY:MESA Professional Development Day (Early Dismissal)
DESCRIPTION:
URL:https://www.noahwebster.org/event/mesa-professional-development-day-early-dismissal-82/
LOCATION:Mesa Campus\, 7301 E. Baseline Road\, Mesa\, AZ\, 85209\, United States
CATEGORIES:Early Dismissal
END:VEVENT
BEGIN:VEVENT
DTSTART;VALUE=DATE:20240228
DTEND;VALUE=DATE:20240229
DTSTAMP:20260424T004134
CREATED:20230606T214150Z
LAST-MODIFIED:20230606T214150Z
UID:9341-1709078400-1709164799@www.noahwebster.org
SUMMARY:PIMA Professional Development Day (Early Dismissal)
DESCRIPTION:
URL:https://www.noahwebster.org/event/pima-professional-development-day-early-dismissal-91/
LOCATION:Pima Campus\, 5399 N. Pima Road\, Scottsdale\, AZ\, 85250\, United States
CATEGORIES:Early Dismissal
END:VEVENT
BEGIN:VEVENT
DTSTART;TZID=America/Phoenix:20240229T183000
DTEND;TZID=America/Phoenix:20240229T193000
DTSTAMP:20260424T004134
CREATED:20230920T225749Z
LAST-MODIFIED:20230920T225749Z
UID:9624-1709231400-1709235000@www.noahwebster.org
SUMMARY:MESA 4th Grade Musical
DESCRIPTION:
URL:https://www.noahwebster.org/event/mesa-4th-grade-musical/
LOCATION:Mesa Campus\, 7301 E. Baseline Road\, Mesa\, AZ\, 85209\, United States
CATEGORIES:Music
END:VEVENT
BEGIN:VEVENT
DTSTART;TZID=America/Phoenix:20240301T083000
DTEND;TZID=America/Phoenix:20240301T090000
DTSTAMP:20260424T004135
CREATED:20231103T183827Z
LAST-MODIFIED:20231103T183827Z
UID:9769-1709281800-1709283600@www.noahwebster.org
SUMMARY:MESA 3rd-6th Gr. Pep Assembly
DESCRIPTION:
URL:https://www.noahwebster.org/event/mesa-3rd-6th-gr-pep-assembly-5/
LOCATION:Mesa Campus\, 7301 E. Baseline Road\, Mesa\, AZ\, 85209\, United States
CATEGORIES:General
END:VEVENT
BEGIN:VEVENT
DTSTART;TZID=America/Phoenix:20240301T083000
DTEND;TZID=America/Phoenix:20240301T090000
DTSTAMP:20260424T004135
CREATED:20231103T190027Z
LAST-MODIFIED:20231103T190027Z
UID:9794-1709281800-1709283600@www.noahwebster.org
SUMMARY:PIMA 3rd-6th Gr. Pep Assembly
DESCRIPTION:
URL:https://www.noahwebster.org/event/pima-3rd-6th-gr-pep-assembly-6/
LOCATION:Pima Campus\, 5399 N. Pima Road\, Scottsdale\, AZ\, 85250\, United States
CATEGORIES:General
END:VEVENT
BEGIN:VEVENT
DTSTART;VALUE=DATE:20240304
DTEND;VALUE=DATE:20240306
DTSTAMP:20260424T004135
CREATED:20230920T230228Z
LAST-MODIFIED:20230920T230228Z
UID:9625-1709510400-1709683199@www.noahwebster.org
SUMMARY:MESA Field Days
DESCRIPTION:
URL:https://www.noahwebster.org/event/mesa-field-days-4/
LOCATION:Mesa Campus\, 7301 E. Baseline Road\, Mesa\, AZ\, 85209\, United States
CATEGORIES:School Activity
END:VEVENT
BEGIN:VEVENT
DTSTART;TZID=America/Phoenix:20240305T084500
DTEND;TZID=America/Phoenix:20240305T130000
DTSTAMP:20260424T004135
CREATED:20240215T173326Z
LAST-MODIFIED:20240215T173326Z
UID:9963-1709628300-1709643600@www.noahwebster.org
SUMMARY:PIMA 5th/6th Gr. Field Trip
DESCRIPTION:The OdySea Aquarium
URL:https://www.noahwebster.org/event/pima-5th-6th-gr-field-trip-6/
LOCATION:OdySea Aquarium
CATEGORIES:Field Trip
END:VEVENT
BEGIN:VEVENT
DTSTART;TZID=America/Phoenix:20240305T183000
DTEND;TZID=America/Phoenix:20240305T193000
DTSTAMP:20260424T004135
CREATED:20230920T230348Z
LAST-MODIFIED:20230920T230348Z
UID:9627-1709663400-1709667000@www.noahwebster.org
SUMMARY:MESA KG Showcase Night
DESCRIPTION:
URL:https://www.noahwebster.org/event/mesa-kg-showcase-night/
LOCATION:Mesa Campus\, 7301 E. Baseline Road\, Mesa\, AZ\, 85209\, United States
CATEGORIES:School Activity
END:VEVENT
BEGIN:VEVENT
DTSTART;TZID=America/Phoenix:20240305T183000
DTEND;TZID=America/Phoenix:20240305T193000
DTSTAMP:20260424T004135
CREATED:20230920T230459Z
LAST-MODIFIED:20230920T230459Z
UID:9628-1709663400-1709667000@www.noahwebster.org
SUMMARY:PIMA KG Showcase Night
DESCRIPTION:
URL:https://www.noahwebster.org/event/pima-kg-showcase-night/
LOCATION:Pima Campus\, 5399 N. Pima Road\, Scottsdale\, AZ\, 85250\, United States
CATEGORIES:School Activity
END:VEVENT
BEGIN:VEVENT
DTSTART;VALUE=DATE:20240306
DTEND;VALUE=DATE:20240308
DTSTAMP:20260424T004135
CREATED:20230920T230259Z
LAST-MODIFIED:20230920T230259Z
UID:9626-1709683200-1709855999@www.noahwebster.org
SUMMARY:PIMA Field Days
DESCRIPTION:
URL:https://www.noahwebster.org/event/pima-field-days-4/
LOCATION:Pima Campus\, 5399 N. Pima Road\, Scottsdale\, AZ\, 85250\, United States
CATEGORIES:School Activity
END:VEVENT
BEGIN:VEVENT
DTSTART;TZID=America/Phoenix:20240307T090000
DTEND;TZID=America/Phoenix:20240307T133000
DTSTAMP:20260424T004135
CREATED:20231024T221120Z
LAST-MODIFIED:20231024T221120Z
UID:9751-1709802000-1709818200@www.noahwebster.org
SUMMARY:MESA 2nd Gr. Field Trip
DESCRIPTION:AZ Science Center
URL:https://www.noahwebster.org/event/mesa-2nd-gr-field-trip-6/
LOCATION:Arizona Science Center
CATEGORIES:Field Trip
END:VEVENT
BEGIN:VEVENT
DTSTART;VALUE=DATE:20240311
DTEND;VALUE=DATE:20240316
DTSTAMP:20260424T004135
CREATED:20230606T214232Z
LAST-MODIFIED:20230606T214232Z
UID:9342-1710115200-1710547199@www.noahwebster.org
SUMMARY:Spring Break (No School)
DESCRIPTION:
URL:https://www.noahwebster.org/event/spring-break-no-school-3/
LOCATION:AZ
CATEGORIES:Holiday
END:VEVENT
BEGIN:VEVENT
DTSTART;TZID=America/Phoenix:20240319T181500
DTEND;TZID=America/Phoenix:20240319T191500
DTSTAMP:20260424T004135
CREATED:20231004T212606Z
LAST-MODIFIED:20240110T190619Z
UID:9711-1710872100-1710875700@www.noahwebster.org
SUMMARY:PIMA Bunny Hop
DESCRIPTION:
URL:https://www.noahwebster.org/event/pima-bunny-hop/
LOCATION:Pima Campus\, 5399 N. Pima Road\, Scottsdale\, AZ\, 85250\, United States
CATEGORIES:School Activity
END:VEVENT
END:VCALENDAR