BEGIN:VCALENDAR
VERSION:2.0
PRODID:-//Noah Webster - ECPv6.15.20//NONSGML v1.0//EN
CALSCALE:GREGORIAN
METHOD:PUBLISH
X-WR-CALNAME:Noah Webster
X-ORIGINAL-URL:https://www.noahwebster.org
X-WR-CALDESC:Events for Noah Webster
REFRESH-INTERVAL;VALUE=DURATION:PT1H
X-Robots-Tag:noindex
X-PUBLISHED-TTL:PT1H
BEGIN:VTIMEZONE
TZID:America/Phoenix
BEGIN:STANDARD
TZOFFSETFROM:-0700
TZOFFSETTO:-0700
TZNAME:MST
DTSTART:20250101T000000
END:STANDARD
END:VTIMEZONE
BEGIN:VEVENT
DTSTART;TZID=America/Phoenix:20260306T133000
DTEND;TZID=America/Phoenix:20260306T141500
DTSTAMP:20260420T135133
CREATED:20250916T213010Z
LAST-MODIFIED:20250916T213010Z
UID:11172-1772803800-1772806500@www.noahwebster.org
SUMMARY:PIMA Pep Assembly (PK-3rd Grade)
DESCRIPTION:
URL:https://www.noahwebster.org/event/pima-pep-assembly-pk-3rd-grade-7/
LOCATION:Pima Campus\, 5399 N. Pima Road\, Scottsdale\, AZ\, 85250\, United States
CATEGORIES:General
END:VEVENT
BEGIN:VEVENT
DTSTART;VALUE=DATE:20260309
DTEND;VALUE=DATE:20260310
DTSTAMP:20260420T135133
CREATED:20250916T213048Z
LAST-MODIFIED:20250916T213048Z
UID:11173-1773014400-1773100799@www.noahwebster.org
SUMMARY:MESA Spring Picture Day
DESCRIPTION:
URL:https://www.noahwebster.org/event/mesa-spring-picture-day-4/
LOCATION:Mesa Campus\, 7301 E. Baseline Road\, Mesa\, AZ\, 85209\, United States
CATEGORIES:General
END:VEVENT
BEGIN:VEVENT
DTSTART;VALUE=DATE:20260310
DTEND;VALUE=DATE:20260311
DTSTAMP:20260420T135133
CREATED:20250916T213121Z
LAST-MODIFIED:20250916T213121Z
UID:11174-1773100800-1773187199@www.noahwebster.org
SUMMARY:PIMA Spring Picture Day
DESCRIPTION:
URL:https://www.noahwebster.org/event/pima-spring-picture-day-4/
LOCATION:Pima Campus\, 5399 N. Pima Road\, Scottsdale\, AZ\, 85250\, United States
CATEGORIES:General
END:VEVENT
BEGIN:VEVENT
DTSTART;TZID=America/Phoenix:20260311T180000
DTEND;TZID=America/Phoenix:20260311T190000
DTSTAMP:20260420T135133
CREATED:20260305T195321Z
LAST-MODIFIED:20260305T195321Z
UID:11471-1773252000-1773255600@www.noahwebster.org
SUMMARY:MESA CAMPUS: Academy of Math and Science Family Information Night
DESCRIPTION:Academy of Math and Science Family information Night
URL:https://www.noahwebster.org/event/mesa-campus-academy-of-math-and-science-family-information-night/
LOCATION:Mesa Campus\, 7301 E. Baseline Road\, Mesa\, AZ\, 85209\, United States
CATEGORIES:General
END:VEVENT
BEGIN:VEVENT
DTSTART;TZID=America/Phoenix:20260313T170000
DTEND;TZID=America/Phoenix:20260313T170000
DTSTAMP:20260420T135133
CREATED:20250925T190352Z
LAST-MODIFIED:20250925T190352Z
UID:11250-1773421200-1773421200@www.noahwebster.org
SUMMARY:MESA After Care Closes at 5:00 pm
DESCRIPTION:Please plan accordingly to avoid late pick up fees.
URL:https://www.noahwebster.org/event/mesa-after-care-closes-at-500-pm-3/
LOCATION:Mesa Campus\, 7301 E. Baseline Road\, Mesa\, AZ\, 85209\, United States
CATEGORIES:General
END:VEVENT
BEGIN:VEVENT
DTSTART;TZID=America/Phoenix:20260313T170000
DTEND;TZID=America/Phoenix:20260313T170000
DTSTAMP:20260420T135133
CREATED:20250925T190431Z
LAST-MODIFIED:20250925T190431Z
UID:11251-1773421200-1773421200@www.noahwebster.org
SUMMARY:PIMA After Care Closes at 5:00 pm
DESCRIPTION:Please plan accordingly to avoid late pick up fees.
URL:https://www.noahwebster.org/event/pima-after-care-closes-at-500-pm-3/
LOCATION:Pima Campus\, 5399 N. Pima Road\, Scottsdale\, AZ\, 85250\, United States
CATEGORIES:General
END:VEVENT
BEGIN:VEVENT
DTSTART;VALUE=DATE:20260316
DTEND;VALUE=DATE:20260321
DTSTAMP:20260420T135133
CREATED:20250624T210108Z
LAST-MODIFIED:20250624T210108Z
UID:10920-1773619200-1774051199@www.noahwebster.org
SUMMARY:Spring Break (No School)
DESCRIPTION:
URL:https://www.noahwebster.org/event/spring-break-no-school-5/
LOCATION:AZ
CATEGORIES:Holiday
END:VEVENT
BEGIN:VEVENT
DTSTART;TZID=America/Phoenix:20260319T073000
DTEND;TZID=America/Phoenix:20260319T073000
DTSTAMP:20260420T135133
CREATED:20260318T162244Z
LAST-MODIFIED:20260318T162244Z
UID:11630-1773905400-1773905400@www.noahwebster.org
SUMMARY:NWS-Pima Board Meeting
DESCRIPTION:Please click HERE to view the Board Meeting Notification and Agenda.  This meeting will be held virtually.
URL:https://www.noahwebster.org/event/nws-pima-board-meeting-95/
LOCATION:AZ
CATEGORIES:General
END:VEVENT
BEGIN:VEVENT
DTSTART;TZID=America/Phoenix:20260324T113000
DTEND;TZID=America/Phoenix:20260324T143000
DTSTAMP:20260420T135133
CREATED:20260312T212340Z
LAST-MODIFIED:20260312T212340Z
UID:11489-1774351800-1774362600@www.noahwebster.org
SUMMARY:PIMA 5th Gr Field Trip
DESCRIPTION:Feed My Starving Children
URL:https://www.noahwebster.org/event/pima-5th-gr-field-trip-5/
LOCATION:Feed My Starving Children
CATEGORIES:Field Trip
END:VEVENT
BEGIN:VEVENT
DTSTART;TZID=America/Phoenix:20260326T093000
DTEND;TZID=America/Phoenix:20260326T140000
DTSTAMP:20260420T135133
CREATED:20260311T211052Z
LAST-MODIFIED:20260311T211052Z
UID:11481-1774517400-1774533600@www.noahwebster.org
SUMMARY:MESA KG Field Trip
DESCRIPTION:The Phoenix Zoo
URL:https://www.noahwebster.org/event/mesa-kg-field-trip-12/
LOCATION:Phoenix Zoo
CATEGORIES:Field Trip
END:VEVENT
BEGIN:VEVENT
DTSTART;VALUE=DATE:20260327
DTEND;VALUE=DATE:20260328
DTSTAMP:20260420T135133
CREATED:20251001T224503Z
LAST-MODIFIED:20251001T224939Z
UID:11276-1774569600-1774655999@www.noahwebster.org
SUMMARY:MESA AASA Testing: 3rd Gr. ORF Practice
DESCRIPTION:
URL:https://www.noahwebster.org/event/mesa-aasa-testing-3rd-gr-orf-practice/
LOCATION:Mesa Campus\, 7301 E. Baseline Road\, Mesa\, AZ\, 85209\, United States
CATEGORIES:General
END:VEVENT
BEGIN:VEVENT
DTSTART;TZID=America/Phoenix:20260327T083000
DTEND;TZID=America/Phoenix:20260327T090000
DTSTAMP:20260420T135133
CREATED:20250916T213618Z
LAST-MODIFIED:20250916T213618Z
UID:11178-1774600200-1774602000@www.noahwebster.org
SUMMARY:MESA Pep Assembly (4th-8th Grade)
DESCRIPTION:
URL:https://www.noahwebster.org/event/mesa-pep-assembly-4th-8th-grade-8/
LOCATION:Mesa Campus\, 7301 E. Baseline Road\, Mesa\, AZ\, 85209\, United States
CATEGORIES:General
END:VEVENT
BEGIN:VEVENT
DTSTART;TZID=America/Phoenix:20260327T133000
DTEND;TZID=America/Phoenix:20260327T141500
DTSTAMP:20260420T135133
CREATED:20250916T213658Z
LAST-MODIFIED:20250916T213658Z
UID:11179-1774618200-1774620900@www.noahwebster.org
SUMMARY:PIMA Pep Assembly (4th-8th Grade)
DESCRIPTION:
URL:https://www.noahwebster.org/event/pima-pep-assembly-4th-8th-grade-9/
LOCATION:Pima Campus\, 5399 N. Pima Road\, Scottsdale\, AZ\, 85250\, United States
CATEGORIES:General
END:VEVENT
BEGIN:VEVENT
DTSTART;VALUE=DATE:20260330
DTEND;VALUE=DATE:20260331
DTSTAMP:20260420T135133
CREATED:20251001T224614Z
LAST-MODIFIED:20251001T224614Z
UID:11277-1774828800-1774915199@www.noahwebster.org
SUMMARY:PIMA AASA Testing: 3rd Gr. ORF Practice
DESCRIPTION:
URL:https://www.noahwebster.org/event/pima-aasa-testing-3rd-gr-orf-practice/
LOCATION:Pima Campus\, 5399 N. Pima Road\, Scottsdale\, AZ\, 85250\, United States
CATEGORIES:General
END:VEVENT
BEGIN:VEVENT
DTSTART;VALUE=DATE:20260331
DTEND;VALUE=DATE:20260401
DTSTAMP:20260420T135133
CREATED:20251001T225014Z
LAST-MODIFIED:20251001T225014Z
UID:11282-1774915200-1775001599@www.noahwebster.org
SUMMARY:PIMA AASA Testing: Writing
DESCRIPTION:
URL:https://www.noahwebster.org/event/pima-aasa-testing-writing/
LOCATION:Pima Campus\, 5399 N. Pima Road\, Scottsdale\, AZ\, 85250\, United States
CATEGORIES:General
END:VEVENT
BEGIN:VEVENT
DTSTART;VALUE=DATE:20260401
DTEND;VALUE=DATE:20260402
DTSTAMP:20260420T135133
CREATED:20250624T210215Z
LAST-MODIFIED:20250624T210215Z
UID:10922-1775001600-1775087999@www.noahwebster.org
SUMMARY:MESA Professional Development (Early Dismissal)
DESCRIPTION:
URL:https://www.noahwebster.org/event/mesa-professional-development-early-dismissal-44/
LOCATION:Mesa Campus\, 7301 E. Baseline Road\, Mesa\, AZ\, 85209\, United States
CATEGORIES:Early Dismissal
END:VEVENT
BEGIN:VEVENT
DTSTART;VALUE=DATE:20260401
DTEND;VALUE=DATE:20260402
DTSTAMP:20260420T135133
CREATED:20250624T210325Z
LAST-MODIFIED:20250624T210325Z
UID:10924-1775001600-1775087999@www.noahwebster.org
SUMMARY:PIMA Professional Development (Early Dismissal)
DESCRIPTION:
URL:https://www.noahwebster.org/event/pima-professional-development-early-dismissal-43/
LOCATION:Pima Campus\, 5399 N. Pima Road\, Scottsdale\, AZ\, 85250\, United States
CATEGORIES:Early Dismissal
END:VEVENT
BEGIN:VEVENT
DTSTART;VALUE=DATE:20260401
DTEND;VALUE=DATE:20260402
DTSTAMP:20260420T135133
CREATED:20251001T224731Z
LAST-MODIFIED:20251001T224731Z
UID:11279-1775001600-1775087999@www.noahwebster.org
SUMMARY:MESA AASA Testing: 3rd Gr. ORF
DESCRIPTION:
URL:https://www.noahwebster.org/event/mesa-aasa-testing-3rd-gr-orf/
LOCATION:Mesa Campus\, 7301 E. Baseline Road\, Mesa\, AZ\, 85209\, United States
CATEGORIES:General
END:VEVENT
BEGIN:VEVENT
DTSTART;VALUE=DATE:20260402
DTEND;VALUE=DATE:20260403
DTSTAMP:20260420T135133
CREATED:20251001T224653Z
LAST-MODIFIED:20251001T224653Z
UID:11278-1775088000-1775174399@www.noahwebster.org
SUMMARY:MESA AASA Testing: Writing
DESCRIPTION:
URL:https://www.noahwebster.org/event/mesa-aasa-testing-writing/
LOCATION:Mesa Campus\, 7301 E. Baseline Road\, Mesa\, AZ\, 85209\, United States
CATEGORIES:General
END:VEVENT
BEGIN:VEVENT
DTSTART;VALUE=DATE:20260403
DTEND;VALUE=DATE:20260407
DTSTAMP:20260420T135133
CREATED:20250624T210148Z
LAST-MODIFIED:20250624T210148Z
UID:10921-1775174400-1775519999@www.noahwebster.org
SUMMARY:Spring Holiday (No School)
DESCRIPTION:
URL:https://www.noahwebster.org/event/spring-holiday-no-school-6/
LOCATION:AZ
CATEGORIES:Holiday
END:VEVENT
BEGIN:VEVENT
DTSTART;VALUE=DATE:20260407
DTEND;VALUE=DATE:20260408
DTSTAMP:20260420T135133
CREATED:20250916T203933Z
LAST-MODIFIED:20250916T203933Z
UID:11140-1775520000-1775606399@www.noahwebster.org
SUMMARY:After School Programs: Session 6 Begins
DESCRIPTION:
URL:https://www.noahwebster.org/event/after-school-programs-session-6-begins-4/
LOCATION:AZ
CATEGORIES:After School Program
END:VEVENT
BEGIN:VEVENT
DTSTART;VALUE=DATE:20260407
DTEND;VALUE=DATE:20260408
DTSTAMP:20260420T135133
CREATED:20251001T225045Z
LAST-MODIFIED:20251001T225045Z
UID:11283-1775520000-1775606399@www.noahwebster.org
SUMMARY:PIMA AASA Testing: 3rd Gr. ORF
DESCRIPTION:
URL:https://www.noahwebster.org/event/pima-aasa-testing-3rd-gr-orf/
LOCATION:Pima Campus\, 5399 N. Pima Road\, Scottsdale\, AZ\, 85250\, United States
CATEGORIES:General
END:VEVENT
BEGIN:VEVENT
DTSTART;VALUE=DATE:20260408
DTEND;VALUE=DATE:20260409
DTSTAMP:20260420T135133
CREATED:20251001T225130Z
LAST-MODIFIED:20251001T225130Z
UID:11284-1775606400-1775692799@www.noahwebster.org
SUMMARY:PIMA AASA Testing: ELA Part 1
DESCRIPTION:
URL:https://www.noahwebster.org/event/pima-aasa-testing-ela-part-1/
LOCATION:Pima Campus\, 5399 N. Pima Road\, Scottsdale\, AZ\, 85250\, United States
CATEGORIES:General
END:VEVENT
BEGIN:VEVENT
DTSTART;TZID=America/Phoenix:20260408T170000
DTEND;TZID=America/Phoenix:20260408T170000
DTSTAMP:20260420T135133
CREATED:20260402T223104Z
LAST-MODIFIED:20260402T223104Z
UID:11800-1775667600-1775667600@www.noahwebster.org
SUMMARY:NWS-Mesa Board Meeting
DESCRIPTION:Please click HERE to view the Board Meeting Notification and Agenda.  This meeting will be held virtually.
URL:https://www.noahwebster.org/event/nws-mesa-board-meeting-89/
LOCATION:AZ
CATEGORIES:General
END:VEVENT
BEGIN:VEVENT
DTSTART;TZID=America/Phoenix:20260408T170000
DTEND;TZID=America/Phoenix:20260408T170000
DTSTAMP:20260420T135133
CREATED:20260402T223209Z
LAST-MODIFIED:20260402T223352Z
UID:11801-1775667600-1775667600@www.noahwebster.org
SUMMARY:NWS-Pima Board Meeting
DESCRIPTION:Please click HERE to view the Board Meeting Notification and Agenda.  This meeting will be held virtually.
URL:https://www.noahwebster.org/event/nws-pima-board-meeting-96/
LOCATION:AZ
CATEGORIES:General
END:VEVENT
BEGIN:VEVENT
DTSTART;VALUE=DATE:20260409
DTEND;VALUE=DATE:20260410
DTSTAMP:20260420T135133
CREATED:20251001T225321Z
LAST-MODIFIED:20251001T225321Z
UID:11285-1775692800-1775779199@www.noahwebster.org
SUMMARY:PIMA AASA Testing: ELA Part 2
DESCRIPTION:
URL:https://www.noahwebster.org/event/pima-aasa-testing-ela-part-2/
LOCATION:Pima Campus\, 5399 N. Pima Road\, Scottsdale\, AZ\, 85250\, United States
CATEGORIES:General
END:VEVENT
BEGIN:VEVENT
DTSTART;VALUE=DATE:20260414
DTEND;VALUE=DATE:20260415
DTSTAMP:20260420T135133
CREATED:20251001T225401Z
LAST-MODIFIED:20251001T225401Z
UID:11286-1776124800-1776211199@www.noahwebster.org
SUMMARY:PIMA AASA Testing: Math Part 1
DESCRIPTION:
URL:https://www.noahwebster.org/event/pima-aasa-testing-math-part-1/
LOCATION:Pima Campus\, 5399 N. Pima Road\, Scottsdale\, AZ\, 85250\, United States
CATEGORIES:General
END:VEVENT
BEGIN:VEVENT
DTSTART;TZID=America/Phoenix:20260414T093000
DTEND;TZID=America/Phoenix:20260414T133000
DTSTAMP:20260420T135133
CREATED:20260311T211220Z
LAST-MODIFIED:20260311T211220Z
UID:11482-1776159000-1776173400@www.noahwebster.org
SUMMARY:MESA 2nd Gr Field Trip
DESCRIPTION:AZ Museum of Natural History
URL:https://www.noahwebster.org/event/mesa-2nd-gr-field-trip-11/
LOCATION:Arizona Museum of Natural History
CATEGORIES:Field Trip
END:VEVENT
BEGIN:VEVENT
DTSTART;VALUE=DATE:20260415
DTEND;VALUE=DATE:20260416
DTSTAMP:20260420T135133
CREATED:20250624T210244Z
LAST-MODIFIED:20250624T210244Z
UID:10923-1776211200-1776297599@www.noahwebster.org
SUMMARY:MESA Professional Development (Early Dismissal)
DESCRIPTION:
URL:https://www.noahwebster.org/event/mesa-professional-development-early-dismissal-45/
LOCATION:Mesa Campus\, 7301 E. Baseline Road\, Mesa\, AZ\, 85209\, United States
CATEGORIES:Early Dismissal
END:VEVENT
BEGIN:VEVENT
DTSTART;VALUE=DATE:20260415
DTEND;VALUE=DATE:20260416
DTSTAMP:20260420T135133
CREATED:20250624T210402Z
LAST-MODIFIED:20250624T210402Z
UID:10925-1776211200-1776297599@www.noahwebster.org
SUMMARY:PIMA Professional Development (Early Dismissal)
DESCRIPTION:
URL:https://www.noahwebster.org/event/pima-professional-development-early-dismissal-44/
LOCATION:Pima Campus\, 5399 N. Pima Road\, Scottsdale\, AZ\, 85250\, United States
CATEGORIES:Early Dismissal
END:VEVENT
END:VCALENDAR