BEGIN:VCALENDAR
VERSION:2.0
PRODID:-//Noah Webster - ECPv6.15.20//NONSGML v1.0//EN
CALSCALE:GREGORIAN
METHOD:PUBLISH
X-ORIGINAL-URL:https://www.noahwebster.org
X-WR-CALDESC:Events for Noah Webster
REFRESH-INTERVAL;VALUE=DURATION:PT1H
X-Robots-Tag:noindex
X-PUBLISHED-TTL:PT1H
BEGIN:VTIMEZONE
TZID:America/Phoenix
BEGIN:STANDARD
TZOFFSETFROM:-0700
TZOFFSETTO:-0700
TZNAME:MST
DTSTART:20190101T000000
END:STANDARD
END:VTIMEZONE
BEGIN:VEVENT
DTSTART;TZID=America/Phoenix:20201021T090000
DTEND;TZID=America/Phoenix:20201021T094000
DTSTAMP:20260423T233142
CREATED:20200923T190032Z
LAST-MODIFIED:20201013T202926Z
UID:7485-1603270800-1603273200@www.noahwebster.org
SUMMARY:MESA Author Talk: Patrick Carmen
DESCRIPTION:1st – 3rd grade students are invited to join us for a virtual Author Talk. \n  \nWhat: Fall Tour 2020 (1st-3rd Extravaganza Event) \nWhen: Wednesday\, October 21\, 2020 @ 9:00 a.m. \n  \nWHERE TO WATCH YOUR LIVE EVENT\nSimply click on the link below on the day and time of your event and you’ll be taken to our live YouTube studio channel feed: \nLIVE EVENT LINK \nNote: If your IT department has set YouTube as a site you cannot visit\, you’ll need to ask them to allow access on the day of the event. \nUse this link to download the printable take-home flyer so readers can order books after the event. You’ll also find a handy in-class study guide for your event.
URL:https://www.noahwebster.org/event/mesa-author-talk-patrick-carmen/
LOCATION:Mesa Campus\, 7301 E. Baseline Road\, Mesa\, AZ\, 85209\, United States
CATEGORIES:School Activity
END:VEVENT
BEGIN:VEVENT
DTSTART;TZID=America/Phoenix:20201021T090000
DTEND;TZID=America/Phoenix:20201021T094000
DTSTAMP:20260423T233142
CREATED:20200923T190146Z
LAST-MODIFIED:20201013T202820Z
UID:7486-1603270800-1603273200@www.noahwebster.org
SUMMARY:PIMA Author Talk: Patrick Carmen
DESCRIPTION:1st – 3rd grade students are invited to join us for a virtual Author Talk. \n  \nWhat: Fall Tour 2020 (1st-3rd Extravaganza Event) \nWhen: Wednesday\, October 21\, 2020 @ 9:00 a.m. \n  \nWHERE TO WATCH YOUR LIVE EVENT\nSimply click on the link below on the day and time of your event and you’ll be taken to our live YouTube studio channel feed: \nLIVE EVENT LINK \nNote: If your IT department has set YouTube as a site you cannot visit\, you’ll need to ask them to allow access on the day of the event. \nUse this link to download the printable take-home flyer so readers can order books after the event. You’ll also find a handy in-class study guide for your event.
URL:https://www.noahwebster.org/event/pima-author-talk-patrick-carmen/
LOCATION:Pima Campus\, 5399 N. Pima Road\, Scottsdale\, AZ\, 85250\, United States
CATEGORIES:School Activity
END:VEVENT
BEGIN:VEVENT
DTSTART;TZID=America/Phoenix:20201104T163000
DTEND;TZID=America/Phoenix:20201104T180000
DTSTAMP:20260423T233142
CREATED:20200923T190336Z
LAST-MODIFIED:20200923T190336Z
UID:7487-1604507400-1604512800@www.noahwebster.org
SUMMARY:MESA United Food Bank Drive
DESCRIPTION:
URL:https://www.noahwebster.org/event/mesa-united-food-bank-drive/
LOCATION:Mesa Campus\, 7301 E. Baseline Road\, Mesa\, AZ\, 85209\, United States
CATEGORIES:School Activity
END:VEVENT
BEGIN:VEVENT
DTSTART;TZID=America/Phoenix:20201105T163000
DTEND;TZID=America/Phoenix:20201105T180000
DTSTAMP:20260423T233142
CREATED:20200923T190435Z
LAST-MODIFIED:20200923T190435Z
UID:7488-1604593800-1604599200@www.noahwebster.org
SUMMARY:PIMA United Food Bank Drive
DESCRIPTION:
URL:https://www.noahwebster.org/event/pima-united-food-bank-drive/
LOCATION:Pima Campus\, 5399 N. Pima Road\, Scottsdale\, AZ\, 85250\, United States
CATEGORIES:School Activity
END:VEVENT
BEGIN:VEVENT
DTSTART;TZID=America/Phoenix:20201106T110000
DTEND;TZID=America/Phoenix:20201106T114000
DTSTAMP:20260423T233142
CREATED:20200923T190550Z
LAST-MODIFIED:20201106T180039Z
UID:7489-1604660400-1604662800@www.noahwebster.org
SUMMARY:MESA Author Talk: Patrick Carmen
DESCRIPTION:4th – 6th grade students are invited to join us for a virtual Author Talk. \nWHERE TO WATCH YOUR LIVE EVENT\nSimply click on the link below on the day and time of your event and you’ll be taken to our live YouTube studio channel feed: \nLINK TO FIND YOUR EVENT: https://www.gokidgo.com/recordings \nPASSWORD TO GET INTO THE EVENT: gokidgo (all lower case) \nBoth presentations have a feature in the bottom right corner to expand the video and fill the entire screen. \nNOTE: If you are having issues with the video freezing\, please go into settings and change the quality to 720p.  It might still buffer some\, but it will be easier to watch. \nUse this link to download the printable take-home flyer so readers can order books after the event. You’ll also find a handy in-class study guide for your event.
URL:https://www.noahwebster.org/event/mesa-author-talk-patrick-carmen-2/
LOCATION:Mesa Campus\, 7301 E. Baseline Road\, Mesa\, AZ\, 85209\, United States
CATEGORIES:School Activity
END:VEVENT
BEGIN:VEVENT
DTSTART;TZID=America/Phoenix:20201106T110000
DTEND;TZID=America/Phoenix:20201106T114000
DTSTAMP:20260423T233142
CREATED:20200923T190701Z
LAST-MODIFIED:20201106T180008Z
UID:7490-1604660400-1604662800@www.noahwebster.org
SUMMARY:PIMA Author Talk: Patrick Carmen
DESCRIPTION:4th – 6th grade students are invited to join us for a virtual Author Talk. \nWHERE TO WATCH YOUR LIVE EVENT\nSimply click on the link below on the day and time of your event and you’ll be taken to our live YouTube studio channel feed: \nLINK TO FIND YOUR EVENT: https://www.gokidgo.com/recordings \nPASSWORD TO GET INTO THE EVENT: gokidgo (all lower case) \nBoth presentations have a feature in the bottom right corner to expand the video and fill the entire screen. \nNOTE: If you are having issues with the video freezing\, please go into settings and change the quality to 720p.  It might still buffer some\, but it will be easier to watch. \nUse this link to download the printable take-home flyer so readers can order books after the event. You’ll also find a handy in-class study guide for your event.
URL:https://www.noahwebster.org/event/pima-author-talk-patrick-carmen-2/
LOCATION:Pima Campus\, 5399 N. Pima Road\, Scottsdale\, AZ\, 85250\, United States
CATEGORIES:School Activity
END:VEVENT
BEGIN:VEVENT
DTSTART;VALUE=DATE:20201130
DTEND;VALUE=DATE:20201212
DTSTAMP:20260423T233142
CREATED:20200923T190817Z
LAST-MODIFIED:20200923T190817Z
UID:7491-1606694400-1607731199@www.noahwebster.org
SUMMARY:MESA Holiday Gift Shop
DESCRIPTION:
URL:https://www.noahwebster.org/event/mesa-holiday-gift-shop-5/
LOCATION:Mesa Campus\, 7301 E. Baseline Road\, Mesa\, AZ\, 85209\, United States
CATEGORIES:School Activity
END:VEVENT
BEGIN:VEVENT
DTSTART;VALUE=DATE:20201130
DTEND;VALUE=DATE:20201212
DTSTAMP:20260423T233142
CREATED:20200923T190936Z
LAST-MODIFIED:20200923T190936Z
UID:7492-1606694400-1607731199@www.noahwebster.org
SUMMARY:PIMA Holiday Gift Shop
DESCRIPTION:
URL:https://www.noahwebster.org/event/pima-holiday-gift-shop-5/
LOCATION:Pima Campus\, 5399 N. Pima Road\, Scottsdale\, AZ\, 85250\, United States
CATEGORIES:School Activity
END:VEVENT
BEGIN:VEVENT
DTSTART;TZID=America/Phoenix:20201210T125000
DTEND;TZID=America/Phoenix:20201210T125000
DTSTAMP:20260423T233142
CREATED:20201207T220839Z
LAST-MODIFIED:20201207T220839Z
UID:7620-1607604600-1607604600@www.noahwebster.org
SUMMARY:PIMA Virtual Spelling Bee: Semi-Finals
DESCRIPTION:
URL:https://www.noahwebster.org/event/pima-virtual-spelling-bee-semi-finals/
LOCATION:AZ
CATEGORIES:School Activity
END:VEVENT
BEGIN:VEVENT
DTSTART;TZID=America/Phoenix:20201211T133000
DTEND;TZID=America/Phoenix:20201211T133000
DTSTAMP:20260423T233142
CREATED:20201207T220748Z
LAST-MODIFIED:20201207T220748Z
UID:7618-1607693400-1607693400@www.noahwebster.org
SUMMARY:MESA Virtual Spelling Bee: Semi-Finals
DESCRIPTION:
URL:https://www.noahwebster.org/event/mesa-virtual-spelling-bee-semi-finals/
LOCATION:AZ
CATEGORIES:School Activity
END:VEVENT
BEGIN:VEVENT
DTSTART;TZID=America/Phoenix:20201215T133000
DTEND;TZID=America/Phoenix:20201215T133000
DTSTAMP:20260423T233142
CREATED:20201207T220924Z
LAST-MODIFIED:20201207T220924Z
UID:7621-1608039000-1608039000@www.noahwebster.org
SUMMARY:MESA Virtual Spelling Bee: Finals
DESCRIPTION:
URL:https://www.noahwebster.org/event/mesa-virtual-spelling-bee-finals/
LOCATION:AZ
CATEGORIES:School Activity
END:VEVENT
BEGIN:VEVENT
DTSTART;TZID=America/Phoenix:20201215T133000
DTEND;TZID=America/Phoenix:20201215T133000
DTSTAMP:20260423T233142
CREATED:20201207T221014Z
LAST-MODIFIED:20201207T221014Z
UID:7622-1608039000-1608039000@www.noahwebster.org
SUMMARY:PIMA Virtual Spelling Bee: Finals
DESCRIPTION:
URL:https://www.noahwebster.org/event/pima-virtual-spelling-bee-finals/
LOCATION:AZ
CATEGORIES:School Activity
END:VEVENT
BEGIN:VEVENT
DTSTART;VALUE=DATE:20210202
DTEND;VALUE=DATE:20210213
DTSTAMP:20260423T233142
CREATED:20210120T160936Z
LAST-MODIFIED:20210201T184652Z
UID:7717-1612224000-1613174399@www.noahwebster.org
SUMMARY:MESA APEX Fundraiser
DESCRIPTION:
URL:https://www.noahwebster.org/event/mesa-apex-fundraiser/
LOCATION:Mesa Campus\, 7301 E. Baseline Road\, Mesa\, AZ\, 85209\, United States
CATEGORIES:School Activity
END:VEVENT
BEGIN:VEVENT
DTSTART;VALUE=DATE:20210202
DTEND;VALUE=DATE:20210213
DTSTAMP:20260423T233142
CREATED:20210120T161029Z
LAST-MODIFIED:20210120T161029Z
UID:7718-1612224000-1613174399@www.noahwebster.org
SUMMARY:PIMA APEX Fundraiser
DESCRIPTION:
URL:https://www.noahwebster.org/event/pima-apex-fundraiser/
LOCATION:Pima Campus\, 5399 N. Pima Road\, Scottsdale\, AZ\, 85250\, United States
CATEGORIES:School Activity
END:VEVENT
BEGIN:VEVENT
DTSTART;TZID=America/Phoenix:20210202T161500
DTEND;TZID=America/Phoenix:20210202T171500
DTSTAMP:20260423T233142
CREATED:20210201T183805Z
LAST-MODIFIED:20210201T183805Z
UID:7737-1612282500-1612286100@www.noahwebster.org
SUMMARY:MESA APEX Drive Thru
DESCRIPTION:For Distance Learning Students Only
URL:https://www.noahwebster.org/event/mesa-apex-drive-thru/
LOCATION:Mesa Campus\, 7301 E. Baseline Road\, Mesa\, AZ\, 85209\, United States
CATEGORIES:School Activity
END:VEVENT
BEGIN:VEVENT
DTSTART;TZID=America/Phoenix:20210202T161500
DTEND;TZID=America/Phoenix:20210202T171500
DTSTAMP:20260423T233142
CREATED:20210201T183908Z
LAST-MODIFIED:20210201T183908Z
UID:7738-1612282500-1612286100@www.noahwebster.org
SUMMARY:PIMA APEX Drive Thru
DESCRIPTION:For Distance Learning Students Only
URL:https://www.noahwebster.org/event/pima-apex-drive-thru/
LOCATION:Pima Campus\, 5399 N. Pima Road\, Scottsdale\, AZ\, 85250\, United States
CATEGORIES:School Activity
END:VEVENT
BEGIN:VEVENT
DTSTART;TZID=America/Phoenix:20210205T161500
DTEND;TZID=America/Phoenix:20210205T171500
DTSTAMP:20260423T233142
CREATED:20210201T183957Z
LAST-MODIFIED:20210201T183957Z
UID:7739-1612541700-1612545300@www.noahwebster.org
SUMMARY:MESA APEX Drive Thru
DESCRIPTION:For Distance Learning Students Only
URL:https://www.noahwebster.org/event/mesa-apex-drive-thru-2/
LOCATION:Mesa Campus\, 7301 E. Baseline Road\, Mesa\, AZ\, 85209\, United States
CATEGORIES:School Activity
END:VEVENT
BEGIN:VEVENT
DTSTART;TZID=America/Phoenix:20210205T161500
DTEND;TZID=America/Phoenix:20210205T171500
DTSTAMP:20260423T233142
CREATED:20210201T184052Z
LAST-MODIFIED:20210201T184052Z
UID:7740-1612541700-1612545300@www.noahwebster.org
SUMMARY:PIMA APEX Drive Thru
DESCRIPTION:For Distance Learning Students Only
URL:https://www.noahwebster.org/event/pima-apex-drive-thru-2/
LOCATION:Pima Campus\, 5399 N. Pima Road\, Scottsdale\, AZ\, 85250\, United States
CATEGORIES:School Activity
END:VEVENT
BEGIN:VEVENT
DTSTART;TZID=America/Phoenix:20210212T161500
DTEND;TZID=America/Phoenix:20210212T171500
DTSTAMP:20260423T233142
CREATED:20210201T184204Z
LAST-MODIFIED:20210201T184204Z
UID:7741-1613146500-1613150100@www.noahwebster.org
SUMMARY:MESA APEX Drive Thru
DESCRIPTION:For Distance Learning Students Only
URL:https://www.noahwebster.org/event/mesa-apex-drive-thru-3/
LOCATION:Mesa Campus\, 7301 E. Baseline Road\, Mesa\, AZ\, 85209\, United States
CATEGORIES:School Activity
END:VEVENT
BEGIN:VEVENT
DTSTART;TZID=America/Phoenix:20210212T161500
DTEND;TZID=America/Phoenix:20210212T171500
DTSTAMP:20260423T233142
CREATED:20210201T184307Z
LAST-MODIFIED:20210201T184307Z
UID:7743-1613146500-1613150100@www.noahwebster.org
SUMMARY:PIMA APEX Drive Thru
DESCRIPTION:For Distance Learning Students Only
URL:https://www.noahwebster.org/event/pima-apex-drive-thru-3/
LOCATION:Pima Campus\, 5399 N. Pima Road\, Scottsdale\, AZ\, 85250\, United States
CATEGORIES:School Activity
END:VEVENT
BEGIN:VEVENT
DTSTART;VALUE=DATE:20210216
DTEND;VALUE=DATE:20210220
DTSTAMP:20260423T233142
CREATED:20210120T160822Z
LAST-MODIFIED:20210121T195152Z
UID:7716-1613433600-1613779199@www.noahwebster.org
SUMMARY:PIMA Field Days
DESCRIPTION:Due to COVID restrictions and for the safety of our students and staff\, parents will not be able to volunteer for this event.
URL:https://www.noahwebster.org/event/pima-field-day/
LOCATION:Pima Campus\, 5399 N. Pima Road\, Scottsdale\, AZ\, 85250\, United States
CATEGORIES:School Activity
END:VEVENT
BEGIN:VEVENT
DTSTART;VALUE=DATE:20210222
DTEND;VALUE=DATE:20210227
DTSTAMP:20260423T233142
CREATED:20210120T160658Z
LAST-MODIFIED:20210121T195127Z
UID:7715-1613952000-1614383999@www.noahwebster.org
SUMMARY:MESA Field Days
DESCRIPTION:Due to COVID restrictions and for the safety of our students and staff\, parents will not be able to volunteer for this event.
URL:https://www.noahwebster.org/event/mesa-field-days-2/
LOCATION:Mesa Campus\, 7301 E. Baseline Road\, Mesa\, AZ\, 85209\, United States
CATEGORIES:School Activity
END:VEVENT
BEGIN:VEVENT
DTSTART;VALUE=DATE:20210301
DTEND;VALUE=DATE:20210306
DTSTAMP:20260423T233142
CREATED:20210122T184650Z
LAST-MODIFIED:20210122T184650Z
UID:7727-1614556800-1614988799@www.noahwebster.org
SUMMARY:MESA Spirit Week
DESCRIPTION:
URL:https://www.noahwebster.org/event/mesa-spirit-week-11/
LOCATION:Mesa Campus\, 7301 E. Baseline Road\, Mesa\, AZ\, 85209\, United States
CATEGORIES:School Activity
END:VEVENT
BEGIN:VEVENT
DTSTART;VALUE=DATE:20210301
DTEND;VALUE=DATE:20210306
DTSTAMP:20260423T233142
CREATED:20210122T184729Z
LAST-MODIFIED:20210122T184729Z
UID:7729-1614556800-1614988799@www.noahwebster.org
SUMMARY:PIMA Spirit Week
DESCRIPTION:
URL:https://www.noahwebster.org/event/pima-spirit-week-13/
LOCATION:Pima Campus\, 5399 N. Pima Road\, Scottsdale\, AZ\, 85250\, United States
CATEGORIES:School Activity
END:VEVENT
BEGIN:VEVENT
DTSTART;TZID=America/Phoenix:20210413T183000
DTEND;TZID=America/Phoenix:20210413T183000
DTSTAMP:20260423T233142
CREATED:20210409T190658Z
LAST-MODIFIED:20210421T222548Z
UID:7848-1618338600-1618338600@www.noahwebster.org
SUMMARY:Reading Corner with the Principal
DESCRIPTION:You’re invited to join Mr. Rodenbaugh for our Reading Corner with the Principal.  The books for this event will be geared toward KG-2nd grade students but encourage all grades to attend. \nTo join\, please CLICK HERE.
URL:https://www.noahwebster.org/event/pima-reading-corner-with-the-principal/
LOCATION:AZ
CATEGORIES:School Activity
END:VEVENT
BEGIN:VEVENT
DTSTART;TZID=America/Phoenix:20210415T183000
DTEND;TZID=America/Phoenix:20210415T183000
DTSTAMP:20260423T233142
CREATED:20210409T171245Z
LAST-MODIFIED:20210409T191554Z
UID:7842-1618511400-1618511400@www.noahwebster.org
SUMMARY:Reading Corner with the Principal
DESCRIPTION:You’re invited to join Ms. Friedermann for our Reading Corner with the Principal.  The books for this live event will be geared toward KG-2nd grade students but encourage all grades to attend. \nTo join\, please CLICK HERE.
URL:https://www.noahwebster.org/event/mesa-reading-corner-with-the-principal-grades-kg-2nd/
LOCATION:AZ
CATEGORIES:School Activity
END:VEVENT
BEGIN:VEVENT
DTSTART;VALUE=DATE:20210426
DTEND;VALUE=DATE:20210508
DTSTAMP:20260423T233142
CREATED:20210413T205635Z
LAST-MODIFIED:20210413T205635Z
UID:7861-1619395200-1620431999@www.noahwebster.org
SUMMARY:MESA Scholastic Book Fair
DESCRIPTION:
URL:https://www.noahwebster.org/event/mesa-scholastic-book-fair-8/
LOCATION:AZ
CATEGORIES:School Activity
END:VEVENT
BEGIN:VEVENT
DTSTART;VALUE=DATE:20210426
DTEND;VALUE=DATE:20210508
DTSTAMP:20260423T233142
CREATED:20210413T205713Z
LAST-MODIFIED:20210413T205713Z
UID:7862-1619395200-1620431999@www.noahwebster.org
SUMMARY:PIMA Scholastic Book Fair
DESCRIPTION:
URL:https://www.noahwebster.org/event/pima-scholastic-book-fair-8/
LOCATION:AZ
CATEGORIES:School Activity
END:VEVENT
BEGIN:VEVENT
DTSTART;TZID=America/Phoenix:20210429T190000
DTEND;TZID=America/Phoenix:20210429T190000
DTSTAMP:20260423T233142
CREATED:20210409T171736Z
LAST-MODIFIED:20210421T222316Z
UID:7844-1619722800-1619722800@www.noahwebster.org
SUMMARY:Reading Corner with the Principal
DESCRIPTION:You’re invited to join Ms. Friedermann for our Reading Corner with the Principal.  The books for this event will be geared toward KG-2nd grade students but encourage all grades to attend. \nTo join\, please CLICK HERE.
URL:https://www.noahwebster.org/event/mesa-reading-corner-with-the-principal/
LOCATION:AZ
CATEGORIES:School Activity
END:VEVENT
BEGIN:VEVENT
DTSTART;TZID=America/Phoenix:20210503T190000
DTEND;TZID=America/Phoenix:20210503T190000
DTSTAMP:20260423T233142
CREATED:20210409T190915Z
LAST-MODIFIED:20210421T222507Z
UID:7847-1620068400-1620068400@www.noahwebster.org
SUMMARY:Reading Corner with the Principal
DESCRIPTION:You’re invited to join Mr. Rodenbaugh for our Reading Corner with the Principal.  The books for this event will be geared toward KG-2nd grade students but encourage all grades to attend. \nTo join\, please CLICK HERE.
URL:https://www.noahwebster.org/event/reading-corner-with-the-principal/
LOCATION:AZ
CATEGORIES:School Activity
END:VEVENT
END:VCALENDAR