BEGIN:VCALENDAR
VERSION:2.0
PRODID:-//Noah Webster - ECPv6.15.20//NONSGML v1.0//EN
CALSCALE:GREGORIAN
METHOD:PUBLISH
X-ORIGINAL-URL:https://www.noahwebster.org
X-WR-CALDESC:Events for Noah Webster
REFRESH-INTERVAL;VALUE=DURATION:PT1H
X-Robots-Tag:noindex
X-PUBLISHED-TTL:PT1H
BEGIN:VTIMEZONE
TZID:UTC
BEGIN:STANDARD
TZOFFSETFROM:+0000
TZOFFSETTO:+0000
TZNAME:UTC
DTSTART:20180101T000000
END:STANDARD
END:VTIMEZONE
BEGIN:VTIMEZONE
TZID:America/Phoenix
BEGIN:STANDARD
TZOFFSETFROM:-0700
TZOFFSETTO:-0700
TZNAME:MST
DTSTART:20190101T000000
END:STANDARD
END:VTIMEZONE
BEGIN:VEVENT
DTSTART;TZID=UTC:20190520T183000
DTEND;TZID=UTC:20190520T193000
DTSTAMP:20260425T173750
CREATED:20180901T021849Z
LAST-MODIFIED:20180901T021849Z
UID:5438-1558377000-1558380600@www.noahwebster.org
SUMMARY:PIMA 6th Grade Graduation
DESCRIPTION:
URL:https://www.noahwebster.org/event/pima-6th-grade-graduation-3/
LOCATION:Pima Campus\, 5399 N. Pima Road\, Scottsdale\, AZ\, 85250\, United States
CATEGORIES:School Activity
END:VEVENT
BEGIN:VEVENT
DTSTART;TZID=UTC:20190521T084500
DTEND;TZID=UTC:20190521T094500
DTSTAMP:20260425T173750
CREATED:20180901T022206Z
LAST-MODIFIED:20180901T022206Z
UID:5444-1558428300-1558431900@www.noahwebster.org
SUMMARY:MESA 2nd Grade Awards
DESCRIPTION:
URL:https://www.noahwebster.org/event/mesa-2nd-grade-awards/
LOCATION:Mesa Campus\, 7301 E. Baseline Road\, Mesa\, AZ\, 85209\, United States
CATEGORIES:School Activity
END:VEVENT
BEGIN:VEVENT
DTSTART;TZID=UTC:20190521T084500
DTEND;TZID=UTC:20190521T094500
DTSTAMP:20260425T173750
CREATED:20180901T022459Z
LAST-MODIFIED:20180901T022459Z
UID:5450-1558428300-1558431900@www.noahwebster.org
SUMMARY:PIMA 2nd Grade Awards
DESCRIPTION:
URL:https://www.noahwebster.org/event/pima-2nd-grade-awards/
LOCATION:Pima Campus\, 5399 N. Pima Road\, Scottsdale\, AZ\, 85250\, United States
CATEGORIES:School Activity
END:VEVENT
BEGIN:VEVENT
DTSTART;TZID=UTC:20190521T100000
DTEND;TZID=UTC:20190521T110000
DTSTAMP:20260425T173750
CREATED:20180901T022300Z
LAST-MODIFIED:20180901T022300Z
UID:5446-1558432800-1558436400@www.noahwebster.org
SUMMARY:MESA 5th Grade Awards
DESCRIPTION:
URL:https://www.noahwebster.org/event/mesa-5th-grade-awards/
LOCATION:Mesa Campus\, 7301 E. Baseline Road\, Mesa\, AZ\, 85209\, United States
CATEGORIES:School Activity
END:VEVENT
BEGIN:VEVENT
DTSTART;TZID=UTC:20190521T100000
DTEND;TZID=UTC:20190521T110000
DTSTAMP:20260425T173750
CREATED:20180901T022609Z
LAST-MODIFIED:20180901T022609Z
UID:5452-1558432800-1558436400@www.noahwebster.org
SUMMARY:PIMA 5th Grade Awards
DESCRIPTION:
URL:https://www.noahwebster.org/event/pima-5th-grade-awards/
LOCATION:Pima Campus\, 5399 N. Pima Road\, Scottsdale\, AZ\, 85250\, United States
CATEGORIES:School Activity
END:VEVENT
BEGIN:VEVENT
DTSTART;TZID=UTC:20190521T131500
DTEND;TZID=UTC:20190521T141500
DTSTAMP:20260425T173750
CREATED:20180901T022354Z
LAST-MODIFIED:20180901T022354Z
UID:5448-1558444500-1558448100@www.noahwebster.org
SUMMARY:MESA 3rd Grade Awards
DESCRIPTION:
URL:https://www.noahwebster.org/event/mesa-3rd-grade-awards/
LOCATION:Mesa Campus\, 7301 E. Baseline Road\, Mesa\, AZ\, 85209\, United States
CATEGORIES:School Activity
END:VEVENT
BEGIN:VEVENT
DTSTART;TZID=UTC:20190521T131500
DTEND;TZID=UTC:20190521T141500
DTSTAMP:20260425T173750
CREATED:20180901T022716Z
LAST-MODIFIED:20180901T022716Z
UID:5454-1558444500-1558448100@www.noahwebster.org
SUMMARY:PIMA 3rd Grade Awards
DESCRIPTION:
URL:https://www.noahwebster.org/event/pima-3rd-grade-awards/
LOCATION:Pima Campus\, 5399 N. Pima Road\, Scottsdale\, AZ\, 85250\, United States
CATEGORIES:School Activity
END:VEVENT
BEGIN:VEVENT
DTSTART;VALUE=DATE:20190522
DTEND;VALUE=DATE:20190523
DTSTAMP:20260425T173750
CREATED:20180901T022759Z
LAST-MODIFIED:20180901T022759Z
UID:5456-1558483200-1558569599@www.noahwebster.org
SUMMARY:MESA Water Day
DESCRIPTION:
URL:https://www.noahwebster.org/event/mesa-water-day-5/
LOCATION:Mesa Campus\, 7301 E. Baseline Road\, Mesa\, AZ\, 85209\, United States
CATEGORIES:School Activity
END:VEVENT
BEGIN:VEVENT
DTSTART;VALUE=DATE:20190522
DTEND;VALUE=DATE:20190523
DTSTAMP:20260425T173750
CREATED:20180901T022846Z
LAST-MODIFIED:20180901T022846Z
UID:5458-1558483200-1558569599@www.noahwebster.org
SUMMARY:PIMA Water Day
DESCRIPTION:
URL:https://www.noahwebster.org/event/pima-water-day-3/
LOCATION:Pima Campus\, 5399 N. Pima Road\, Scottsdale\, AZ\, 85250\, United States
CATEGORIES:School Activity
END:VEVENT
BEGIN:VEVENT
DTSTART;TZID=UTC:20200113T083000
DTEND;TZID=UTC:20200113T120000
DTSTAMP:20260425T173750
CREATED:20200101T005001Z
LAST-MODIFIED:20200101T005001Z
UID:6296-1578904200-1578916800@www.noahwebster.org
SUMMARY:MESA Field Days (1 of 2)
DESCRIPTION:
URL:https://www.noahwebster.org/event/mesa-field-days-1-of-2/
LOCATION:Mesa Campus\, 7301 E. Baseline Road\, Mesa\, AZ\, 85209\, United States
CATEGORIES:School Activity
END:VEVENT
BEGIN:VEVENT
DTSTART;TZID=UTC:20200114T083000
DTEND;TZID=UTC:20200114T120000
DTSTAMP:20260425T173750
CREATED:20200101T005138Z
LAST-MODIFIED:20200101T005138Z
UID:6297-1578990600-1579003200@www.noahwebster.org
SUMMARY:MESA Field Days (2 of 2)
DESCRIPTION:
URL:https://www.noahwebster.org/event/mesa-field-days-2-of-2/
LOCATION:Mesa Campus\, 7301 E. Baseline Road\, Mesa\, AZ\, 85209\, United States
CATEGORIES:School Activity
END:VEVENT
BEGIN:VEVENT
DTSTART;TZID=UTC:20200116T083000
DTEND;TZID=UTC:20200116T120000
DTSTAMP:20260425T173750
CREATED:20200101T013703Z
LAST-MODIFIED:20200101T013703Z
UID:6316-1579163400-1579176000@www.noahwebster.org
SUMMARY:PIMA Field Days (1 of 2)
DESCRIPTION:
URL:https://www.noahwebster.org/event/pima-field-days-1-of-2/
CATEGORIES:School Activity
END:VEVENT
BEGIN:VEVENT
DTSTART;TZID=UTC:20200117T083000
DTEND;TZID=UTC:20200117T120000
DTSTAMP:20260425T173750
CREATED:20200101T014059Z
LAST-MODIFIED:20200101T014059Z
UID:6317-1579249800-1579262400@www.noahwebster.org
SUMMARY:PIMA Field Days (2 of 2)
DESCRIPTION:
URL:https://www.noahwebster.org/event/pima-field-days-2-of-2/
CATEGORIES:School Activity
END:VEVENT
BEGIN:VEVENT
DTSTART;VALUE=DATE:20200121
DTEND;VALUE=DATE:20200125
DTSTAMP:20260425T173750
CREATED:20200101T010435Z
LAST-MODIFIED:20200101T010435Z
UID:6302-1579564800-1579910399@www.noahwebster.org
SUMMARY:MESA Spirit Week
DESCRIPTION:
URL:https://www.noahwebster.org/event/mesa-spirit-week-9/
LOCATION:Mesa Campus\, 7301 E. Baseline Road\, Mesa\, AZ\, 85209\, United States
CATEGORIES:School Activity
END:VEVENT
BEGIN:VEVENT
DTSTART;VALUE=DATE:20200121
DTEND;VALUE=DATE:20200125
DTSTAMP:20260425T173750
CREATED:20200101T014240Z
LAST-MODIFIED:20200101T014240Z
UID:6318-1579564800-1579910399@www.noahwebster.org
SUMMARY:PIMA Spirit Week
DESCRIPTION:
URL:https://www.noahwebster.org/event/pima-spirit-week-11/
CATEGORIES:School Activity
END:VEVENT
BEGIN:VEVENT
DTSTART;TZID=UTC:20200127T183000
DTEND;TZID=UTC:20200127T191500
DTSTAMP:20260425T173750
CREATED:20200101T011129Z
LAST-MODIFIED:20200101T011129Z
UID:6304-1580149800-1580152500@www.noahwebster.org
SUMMARY:MESA 6th Grade Showcase Night
DESCRIPTION:
URL:https://www.noahwebster.org/event/mesa-6th-grade-showcase-night-4/
LOCATION:Mesa Campus\, 7301 E. Baseline Road\, Mesa\, AZ\, 85209\, United States
CATEGORIES:School Activity
END:VEVENT
BEGIN:VEVENT
DTSTART;TZID=UTC:20200207T183000
DTEND;TZID=UTC:20200207T203000
DTSTAMP:20260425T173750
CREATED:20200101T012847Z
LAST-MODIFIED:20200101T012847Z
UID:6311-1581100200-1581107400@www.noahwebster.org
SUMMARY:MESA 6th Grade Party
DESCRIPTION:
URL:https://www.noahwebster.org/event/mesa-6th-grade-party-5/
LOCATION:Mesa Campus\, 7301 E. Baseline Road\, Mesa\, AZ\, 85209\, United States
CATEGORIES:School Activity
END:VEVENT
BEGIN:VEVENT
DTSTART;TZID=UTC:20200220T183000
DTEND;TZID=UTC:20200220T191500
DTSTAMP:20260425T173750
CREATED:20200101T023257Z
LAST-MODIFIED:20200101T023257Z
UID:6330-1582223400-1582226100@www.noahwebster.org
SUMMARY:MESA 2nd Grade Showcase Night
DESCRIPTION:
URL:https://www.noahwebster.org/event/mesa-2nd-grade-showcase-night-4/
LOCATION:Mesa Campus\, 7301 E. Baseline Road\, Mesa\, AZ\, 85209\, United States
CATEGORIES:School Activity
END:VEVENT
BEGIN:VEVENT
DTSTART;TZID=UTC:20200220T183000
DTEND;TZID=UTC:20200220T191500
DTSTAMP:20260425T173750
CREATED:20200101T023549Z
LAST-MODIFIED:20200101T023549Z
UID:6332-1582223400-1582226100@www.noahwebster.org
SUMMARY:PIMA 2nd Grade Showcase Night
DESCRIPTION:
URL:https://www.noahwebster.org/event/pima-2nd-grade-showcase-night-4/
CATEGORIES:School Activity
END:VEVENT
BEGIN:VEVENT
DTSTART;TZID=UTC:20200221T183000
DTEND;TZID=UTC:20200221T203000
DTSTAMP:20260425T173750
CREATED:20200101T023735Z
LAST-MODIFIED:20200101T023735Z
UID:6333-1582309800-1582317000@www.noahwebster.org
SUMMARY:PIMA 5th & 6th Grade Party
DESCRIPTION:
URL:https://www.noahwebster.org/event/pima-5th-6th-grade-party/
CATEGORIES:School Activity
END:VEVENT
BEGIN:VEVENT
DTSTART;TZID=UTC:20200224T070000
DTEND;TZID=UTC:20200224T080000
DTSTAMP:20260425T173750
CREATED:20200101T024000Z
LAST-MODIFIED:20200220T053847Z
UID:5281-1582527600-1582531200@www.noahwebster.org
SUMMARY:MESA Dads & Donuts
DESCRIPTION:The event is divided by last name: A-L\nRemember to order your tickets in advance.
URL:https://www.noahwebster.org/event/mesa-dads-donuts-3/
LOCATION:Mesa Campus\, 7301 E. Baseline Road\, Mesa\, AZ\, 85209\, United States
CATEGORIES:School Activity
END:VEVENT
BEGIN:VEVENT
DTSTART;TZID=UTC:20200225T070000
DTEND;TZID=UTC:20200225T080000
DTSTAMP:20260425T173750
CREATED:20200101T024112Z
LAST-MODIFIED:20200101T024112Z
UID:6334-1582614000-1582617600@www.noahwebster.org
SUMMARY:MESA Dads & Donuts
DESCRIPTION:The event is divided by last name: M-Z\nRemember to order your tickets in advance.
URL:https://www.noahwebster.org/event/mesa-dads-donuts-4/
LOCATION:Mesa Campus\, 7301 E. Baseline Road\, Mesa\, AZ\, 85209\, United States
CATEGORIES:School Activity
END:VEVENT
BEGIN:VEVENT
DTSTART;TZID=UTC:20200225T183000
DTEND;TZID=UTC:20200225T191500
DTSTAMP:20260425T173750
CREATED:20200101T024839Z
LAST-MODIFIED:20200101T024839Z
UID:6339-1582655400-1582658100@www.noahwebster.org
SUMMARY:PIMA 3rd Grade Showcase Night
DESCRIPTION:
URL:https://www.noahwebster.org/event/pima-3rd-grade-showcase-night-4/
CATEGORIES:School Activity
END:VEVENT
BEGIN:VEVENT
DTSTART;TZID=UTC:20200226T070000
DTEND;TZID=UTC:20200226T080000
DTSTAMP:20260425T173750
CREATED:20200101T025313Z
LAST-MODIFIED:20200101T025313Z
UID:6342-1582700400-1582704000@www.noahwebster.org
SUMMARY:PIMA Dads & Donuts
DESCRIPTION:The event is divided by last name: A-L\nRemember to order your tickets in advance.
URL:https://www.noahwebster.org/event/pima-dads-donuts-3/
CATEGORIES:School Activity
END:VEVENT
BEGIN:VEVENT
DTSTART;TZID=UTC:20200227T070000
DTEND;TZID=UTC:20200227T080000
DTSTAMP:20260425T173750
CREATED:20200101T025433Z
LAST-MODIFIED:20200101T025433Z
UID:6343-1582786800-1582790400@www.noahwebster.org
SUMMARY:PIMA Dads & Donuts
DESCRIPTION:The event is divided by last name: M-Z\nRemember to order your tickets in advance.
URL:https://www.noahwebster.org/event/pima-dads-donuts-4/
CATEGORIES:School Activity
END:VEVENT
BEGIN:VEVENT
DTSTART;VALUE=DATE:20200228
DTEND;VALUE=DATE:20200229
DTSTAMP:20260425T173750
CREATED:20200101T024740Z
LAST-MODIFIED:20200101T024740Z
UID:6338-1582848000-1582934399@www.noahwebster.org
SUMMARY:MESA APEX Fun Run
DESCRIPTION:
URL:https://www.noahwebster.org/event/mesa-apex-fun-run/
LOCATION:Mesa Campus\, 7301 E. Baseline Road\, Mesa\, AZ\, 85209\, United States
CATEGORIES:School Activity
END:VEVENT
BEGIN:VEVENT
DTSTART;VALUE=DATE:20200228
DTEND;VALUE=DATE:20200229
DTSTAMP:20260425T173750
CREATED:20200101T025539Z
LAST-MODIFIED:20200101T025539Z
UID:6344-1582848000-1582934399@www.noahwebster.org
SUMMARY:PIMA APEX Fun Run
DESCRIPTION:
URL:https://www.noahwebster.org/event/pima-apex-fun-run/
CATEGORIES:School Activity
END:VEVENT
BEGIN:VEVENT
DTSTART;TZID=America/Phoenix:20200303T183000
DTEND;TZID=America/Phoenix:20200303T193000
DTSTAMP:20260425T173750
CREATED:20200220T060650Z
LAST-MODIFIED:20200220T060650Z
UID:6594-1583260200-1583263800@www.noahwebster.org
SUMMARY:MESA Science Fair
DESCRIPTION:
URL:https://www.noahwebster.org/event/mesa-science-fair-2/
LOCATION:Mesa Campus\, 7301 E. Baseline Road\, Mesa\, AZ\, 85209\, United States
CATEGORIES:School Activity
END:VEVENT
BEGIN:VEVENT
DTSTART;TZID=America/Phoenix:20200303T183000
DTEND;TZID=America/Phoenix:20200303T193000
DTSTAMP:20260425T173750
CREATED:20200220T061603Z
LAST-MODIFIED:20200220T061603Z
UID:6599-1583260200-1583263800@www.noahwebster.org
SUMMARY:PIMA Science Fair
DESCRIPTION:
URL:https://www.noahwebster.org/event/pima-science-fair-3/
LOCATION:Pima Campus\, 5399 N. Pima Road\, Scottsdale\, AZ\, 85250\, United States
CATEGORIES:School Activity
END:VEVENT
BEGIN:VEVENT
DTSTART;TZID=America/Phoenix:20200423T090000
DTEND;TZID=America/Phoenix:20200423T093000
DTSTAMP:20260425T173750
CREATED:20200408T051924Z
LAST-MODIFIED:20200408T051924Z
UID:6907-1587632400-1587634200@www.noahwebster.org
SUMMARY:MESA Virtual Coffee with the Principal
DESCRIPTION:Noah Webster Schools would like to invite current Noah Webster parents to visit with the Principal and ask questions via online with Zoom. \nPlease click the link below to join Mrs. Friedermann at Noah Webster Schools-Mesa: \nhttps://us04web.zoom.us/j/553707495?pwd=eHN5Njd5NDNCNkF6a25heUVsMFpXdz09 \nMeeting ID: 553 707 495\nPassword: 025348 \n 
URL:https://www.noahwebster.org/event/mesa-virtual-coffee-with-the-principal/
LOCATION:Mesa Campus\, 7301 E. Baseline Road\, Mesa\, AZ\, 85209\, United States
CATEGORIES:School Activity
END:VEVENT
END:VCALENDAR