BEGIN:VCALENDAR
VERSION:2.0
PRODID:-//Noah Webster - ECPv6.15.20//NONSGML v1.0//EN
CALSCALE:GREGORIAN
METHOD:PUBLISH
X-ORIGINAL-URL:https://www.noahwebster.org
X-WR-CALDESC:Events for Noah Webster
REFRESH-INTERVAL;VALUE=DURATION:PT1H
X-Robots-Tag:noindex
X-PUBLISHED-TTL:PT1H
BEGIN:VTIMEZONE
TZID:America/Phoenix
BEGIN:STANDARD
TZOFFSETFROM:-0700
TZOFFSETTO:-0700
TZNAME:MST
DTSTART:20250101T000000
END:STANDARD
END:VTIMEZONE
BEGIN:VEVENT
DTSTART;TZID=America/Phoenix:20260218T070000
DTEND;TZID=America/Phoenix:20260218T080000
DTSTAMP:20260421T093524
CREATED:20250916T210002Z
LAST-MODIFIED:20250916T210002Z
UID:11154-1771398000-1771401600@www.noahwebster.org
SUMMARY:MESA Dads & Donuts
DESCRIPTION:
URL:https://www.noahwebster.org/event/mesa-dads-donuts-8/
LOCATION:Mesa Campus\, 7301 E. Baseline Road\, Mesa\, AZ\, 85209\, United States
CATEGORIES:School Activity
END:VEVENT
BEGIN:VEVENT
DTSTART;TZID=America/Phoenix:20260219T070000
DTEND;TZID=America/Phoenix:20260219T080000
DTSTAMP:20260421T093524
CREATED:20250916T210048Z
LAST-MODIFIED:20250916T210048Z
UID:11155-1771484400-1771488000@www.noahwebster.org
SUMMARY:PIMA Dads & Donuts
DESCRIPTION:
URL:https://www.noahwebster.org/event/pima-dads-donuts-8/
LOCATION:Pima Campus\, 5399 N. Pima Road\, Scottsdale\, AZ\, 85250\, United States
CATEGORIES:School Activity
END:VEVENT
BEGIN:VEVENT
DTSTART;TZID=America/Phoenix:20260219T180000
DTEND;TZID=America/Phoenix:20260219T190000
DTSTAMP:20260421T093524
CREATED:20250916T211138Z
LAST-MODIFIED:20251027T222714Z
UID:11157-1771524000-1771527600@www.noahwebster.org
SUMMARY:MESA 3rd Grade Showcase Night
DESCRIPTION:
URL:https://www.noahwebster.org/event/mesa-3rd-grade-showcase-night-5/
LOCATION:Mesa Campus\, 7301 E. Baseline Road\, Mesa\, AZ\, 85209\, United States
CATEGORIES:School Activity
END:VEVENT
BEGIN:VEVENT
DTSTART;TZID=America/Phoenix:20260224T180000
DTEND;TZID=America/Phoenix:20260224T190000
DTSTAMP:20260421T093524
CREATED:20250916T211243Z
LAST-MODIFIED:20251027T222839Z
UID:11158-1771956000-1771959600@www.noahwebster.org
SUMMARY:MESA Science Fair
DESCRIPTION:
URL:https://www.noahwebster.org/event/mesa-science-fair-6/
LOCATION:Mesa Campus\, 7301 E. Baseline Road\, Mesa\, AZ\, 85209\, United States
CATEGORIES:School Activity
END:VEVENT
BEGIN:VEVENT
DTSTART;TZID=America/Phoenix:20260224T180000
DTEND;TZID=America/Phoenix:20260224T190000
DTSTAMP:20260421T093524
CREATED:20250916T211810Z
LAST-MODIFIED:20251027T222906Z
UID:11159-1771956000-1771959600@www.noahwebster.org
SUMMARY:PIMA Science Fair
DESCRIPTION:
URL:https://www.noahwebster.org/event/pima-science-fair-6/
LOCATION:Pima Campus\, 5399 N. Pima Road\, Scottsdale\, AZ\, 85250\, United States
CATEGORIES:School Activity
END:VEVENT
BEGIN:VEVENT
DTSTART;VALUE=DATE:20260227
DTEND;VALUE=DATE:20260228
DTSTAMP:20260421T093524
CREATED:20250916T212014Z
LAST-MODIFIED:20250916T212014Z
UID:11161-1772150400-1772236799@www.noahwebster.org
SUMMARY:MESA APEX Fun Run
DESCRIPTION:
URL:https://www.noahwebster.org/event/mesa-apex-fun-run-5/
LOCATION:Mesa Campus\, 7301 E. Baseline Road\, Mesa\, AZ\, 85209\, United States
CATEGORIES:School Activity
END:VEVENT
BEGIN:VEVENT
DTSTART;VALUE=DATE:20260227
DTEND;VALUE=DATE:20260228
DTSTAMP:20260421T093524
CREATED:20250916T212050Z
LAST-MODIFIED:20250916T212050Z
UID:11162-1772150400-1772236799@www.noahwebster.org
SUMMARY:PIMA APEX Fun Run
DESCRIPTION:
URL:https://www.noahwebster.org/event/pima-apex-fun-run-5/
LOCATION:Pima Campus\, 5399 N. Pima Road\, Scottsdale\, AZ\, 85250\, United States
CATEGORIES:School Activity
END:VEVENT
END:VCALENDAR