BEGIN:VCALENDAR
VERSION:2.0
PRODID:-//Noah Webster - ECPv6.15.20//NONSGML v1.0//EN
CALSCALE:GREGORIAN
METHOD:PUBLISH
X-WR-CALNAME:Noah Webster
X-ORIGINAL-URL:https://www.noahwebster.org
X-WR-CALDESC:Events for Noah Webster
REFRESH-INTERVAL;VALUE=DURATION:PT1H
X-Robots-Tag:noindex
X-PUBLISHED-TTL:PT1H
BEGIN:VTIMEZONE
TZID:UTC
BEGIN:STANDARD
TZOFFSETFROM:+0000
TZOFFSETTO:+0000
TZNAME:UTC
DTSTART:20170101T000000
END:STANDARD
END:VTIMEZONE
BEGIN:VEVENT
DTSTART;TZID=UTC:20181017T100000
DTEND;TZID=UTC:20181017T100000
DTSTAMP:20260421T131537
CREATED:20180817T010740Z
LAST-MODIFIED:20180817T010740Z
UID:4993-1539770400-1539770400@www.noahwebster.org
SUMMARY:PIMA Welcome Wednesday
DESCRIPTION:Come take a tour of the campus\, interact with Administrators and receive Admission information. If you can’t make it at 10:00 am\, contact us to schedule a private tour.
URL:https://www.noahwebster.org/event/pima-welcome-wednesday-131/
LOCATION:Pima Campus\, 5399 N. Pima Road\, Scottsdale\, AZ\, 85250\, United States
CATEGORIES:General
END:VEVENT
BEGIN:VEVENT
DTSTART;TZID=UTC:20181017T163000
DTEND;TZID=UTC:20181017T163000
DTSTAMP:20260421T131537
CREATED:20181016T043214Z
LAST-MODIFIED:20181016T043214Z
UID:5556-1539793800-1539793800@www.noahwebster.org
SUMMARY:NWS-MESA Board Meeting
DESCRIPTION:Please click HERE to view the Board Meeting Notification.
URL:https://www.noahwebster.org/event/nws-mesa-board-meeting-27/
LOCATION:Noah Webster Schools Corporate Offices\, 5399 N. Pima Road\, Scottsdale\, AZ\, 85250\, United States
CATEGORIES:General
END:VEVENT
BEGIN:VEVENT
DTSTART;TZID=UTC:20181017T163000
DTEND;TZID=UTC:20181017T163000
DTSTAMP:20260421T131537
CREATED:20181016T043407Z
LAST-MODIFIED:20181016T043407Z
UID:5558-1539793800-1539793800@www.noahwebster.org
SUMMARY:NWS-PIMA Board Meeting
DESCRIPTION:Please click HERE to view the Board Meeting Notification.
URL:https://www.noahwebster.org/event/nws-pima-board-meeting-34/
LOCATION:Noah Webster Schools Corporate Offices\, 5399 N. Pima Road\, Scottsdale\, AZ\, 85250\, United States
CATEGORIES:General
END:VEVENT
BEGIN:VEVENT
DTSTART;TZID=UTC:20181024T100000
DTEND;TZID=UTC:20181024T100000
DTSTAMP:20260421T131537
CREATED:20180817T005800Z
LAST-MODIFIED:20180817T005800Z
UID:4971-1540375200-1540375200@www.noahwebster.org
SUMMARY:MESA Welcome Wednesday
DESCRIPTION:Come take a tour of the campus\, interact with Administrators and receive Admission information. If you can’t make it at 10:00 am\, contact us to schedule a private tour.
URL:https://www.noahwebster.org/event/mesa-welcome-wednesday-127/
LOCATION:Mesa Campus\, 7301 E. Baseline Road\, Mesa\, AZ\, 85209\, United States
CATEGORIES:General
END:VEVENT
BEGIN:VEVENT
DTSTART;TZID=UTC:20181024T100000
DTEND;TZID=UTC:20181024T100000
DTSTAMP:20260421T131537
CREATED:20180817T010553Z
LAST-MODIFIED:20180817T010553Z
UID:4991-1540375200-1540375200@www.noahwebster.org
SUMMARY:PIMA Welcome Wednesday
DESCRIPTION:Come take a tour of the campus\, interact with Administrators and receive Admission information. If you can’t make it at 10:00 am\, contact us to schedule a private tour.
URL:https://www.noahwebster.org/event/pima-welcome-wednesday-130/
LOCATION:Pima Campus\, 5399 N. Pima Road\, Scottsdale\, AZ\, 85250\, United States
CATEGORIES:General
END:VEVENT
BEGIN:VEVENT
DTSTART;TZID=UTC:20181031T100000
DTEND;TZID=UTC:20181031T100000
DTSTAMP:20260421T131537
CREATED:20180817T005838Z
LAST-MODIFIED:20180817T005838Z
UID:4973-1540980000-1540980000@www.noahwebster.org
SUMMARY:MESA Welcome Wednesday
DESCRIPTION:Come take a tour of the campus\, interact with Administrators and receive Admission information. If you can’t make it at 10:00 am\, contact us to schedule a private tour.
URL:https://www.noahwebster.org/event/mesa-welcome-wednesday-128/
LOCATION:Mesa Campus\, 7301 E. Baseline Road\, Mesa\, AZ\, 85209\, United States
CATEGORIES:General
END:VEVENT
BEGIN:VEVENT
DTSTART;TZID=UTC:20181031T100000
DTEND;TZID=UTC:20181031T100000
DTSTAMP:20260421T131537
CREATED:20180817T010830Z
LAST-MODIFIED:20180817T010830Z
UID:4995-1540980000-1540980000@www.noahwebster.org
SUMMARY:PIMA Welcome Wednesday
DESCRIPTION:Come take a tour of the campus\, interact with Administrators and receive Admission information. If you can’t make it at 10:00 am\, contact us to schedule a private tour.
URL:https://www.noahwebster.org/event/pima-welcome-wednesday-132/
LOCATION:Pima Campus\, 5399 N. Pima Road\, Scottsdale\, AZ\, 85250\, United States
CATEGORIES:General
END:VEVENT
BEGIN:VEVENT
DTSTART;TZID=UTC:20181107T100000
DTEND;TZID=UTC:20181107T100000
DTSTAMP:20260421T131537
CREATED:20180817T005925Z
LAST-MODIFIED:20180817T005925Z
UID:4975-1541584800-1541584800@www.noahwebster.org
SUMMARY:MESA Welcome Wednesday
DESCRIPTION:Come take a tour of the campus\, interact with Administrators and receive Admission information. If you can’t make it at 10:00 am\, contact us to schedule a private tour.
URL:https://www.noahwebster.org/event/mesa-welcome-wednesday-129/
LOCATION:Mesa Campus\, 7301 E. Baseline Road\, Mesa\, AZ\, 85209\, United States
CATEGORIES:General
END:VEVENT
BEGIN:VEVENT
DTSTART;TZID=UTC:20181107T100000
DTEND;TZID=UTC:20181107T100000
DTSTAMP:20260421T131537
CREATED:20180817T010914Z
LAST-MODIFIED:20180817T010914Z
UID:4997-1541584800-1541584800@www.noahwebster.org
SUMMARY:PIMA Welcome Wednesday
DESCRIPTION:Come take a tour of the campus\, interact with Administrators and receive Admission information. If you can’t make it at 10:00 am\, contact us to schedule a private tour.
URL:https://www.noahwebster.org/event/pima-welcome-wednesday-133/
LOCATION:Pima Campus\, 5399 N. Pima Road\, Scottsdale\, AZ\, 85250\, United States
CATEGORIES:General
END:VEVENT
BEGIN:VEVENT
DTSTART;TZID=UTC:20181113T163000
DTEND;TZID=UTC:20181113T163000
DTSTAMP:20260421T131537
CREATED:20181110T070934Z
LAST-MODIFIED:20181110T070934Z
UID:5630-1542126600-1542126600@www.noahwebster.org
SUMMARY:NWS-MESA Board Meeting
DESCRIPTION:Please click HERE for the Board Meeting Notification.
URL:https://www.noahwebster.org/event/nws-mesa-board-meeting-28/
LOCATION:Noah Webster Schools Corporate Offices\, 5399 N. Pima Road\, Scottsdale\, AZ\, 85250\, United States
CATEGORIES:General
END:VEVENT
BEGIN:VEVENT
DTSTART;TZID=UTC:20181113T163000
DTEND;TZID=UTC:20181113T163000
DTSTAMP:20260421T131537
CREATED:20181110T071051Z
LAST-MODIFIED:20181110T071051Z
UID:5632-1542126600-1542126600@www.noahwebster.org
SUMMARY:NWS-PIMA Board Meeting
DESCRIPTION:Please click HERE for the Board Meeting Notification.
URL:https://www.noahwebster.org/event/nws-pima-board-meeting-35/
LOCATION:Noah Webster Schools Corporate Offices\, 5399 N. Pima Road\, Scottsdale\, AZ\, 85250\, United States
CATEGORIES:General
END:VEVENT
BEGIN:VEVENT
DTSTART;TZID=UTC:20181114T100000
DTEND;TZID=UTC:20181114T100000
DTSTAMP:20260421T131537
CREATED:20180817T010004Z
LAST-MODIFIED:20180817T010004Z
UID:4977-1542189600-1542189600@www.noahwebster.org
SUMMARY:MESA Welcome Wednesday
DESCRIPTION:Come take a tour of the campus\, interact with Administrators and receive Admission information. If you can’t make it at 10:00 am\, contact us to schedule a private tour.
URL:https://www.noahwebster.org/event/mesa-welcome-wednesday-130/
LOCATION:Mesa Campus\, 7301 E. Baseline Road\, Mesa\, AZ\, 85209\, United States
CATEGORIES:General
END:VEVENT
BEGIN:VEVENT
DTSTART;TZID=UTC:20181114T100000
DTEND;TZID=UTC:20181114T100000
DTSTAMP:20260421T131537
CREATED:20180817T011011Z
LAST-MODIFIED:20180817T011011Z
UID:4999-1542189600-1542189600@www.noahwebster.org
SUMMARY:PIMA Welcome Wednesday
DESCRIPTION:Come take a tour of the campus\, interact with Administrators and receive Admission information. If you can’t make it at 10:00 am\, contact us to schedule a private tour.
URL:https://www.noahwebster.org/event/pima-welcome-wednesday-134/
LOCATION:Pima Campus\, 5399 N. Pima Road\, Scottsdale\, AZ\, 85250\, United States
CATEGORIES:General
END:VEVENT
BEGIN:VEVENT
DTSTART;TZID=UTC:20181128T100000
DTEND;TZID=UTC:20181128T100000
DTSTAMP:20260421T131537
CREATED:20180817T010046Z
LAST-MODIFIED:20180817T010046Z
UID:4979-1543399200-1543399200@www.noahwebster.org
SUMMARY:MESA Welcome Wednesday
DESCRIPTION:Come take a tour of the campus\, interact with Administrators and receive Admission information. If you can’t make it at 10:00 am\, contact us to schedule a private tour.
URL:https://www.noahwebster.org/event/mesa-welcome-wednesday-131/
LOCATION:Mesa Campus\, 7301 E. Baseline Road\, Mesa\, AZ\, 85209\, United States
CATEGORIES:General
END:VEVENT
BEGIN:VEVENT
DTSTART;TZID=UTC:20181128T103000
DTEND;TZID=UTC:20181128T103000
DTSTAMP:20260421T131537
CREATED:20180817T011102Z
LAST-MODIFIED:20180817T011102Z
UID:5001-1543401000-1543401000@www.noahwebster.org
SUMMARY:PIMA Welcome Wednesday
DESCRIPTION:Come take a tour of the campus\, interact with Administrators and receive Admission information. If you can’t make it at 10:00 am\, contact us to schedule a private tour.
URL:https://www.noahwebster.org/event/pima-welcome-wednesday-135/
LOCATION:Pima Campus\, 5399 N. Pima Road\, Scottsdale\, AZ\, 85250\, United States
CATEGORIES:General
END:VEVENT
BEGIN:VEVENT
DTSTART;TZID=UTC:20181205T100000
DTEND;TZID=UTC:20181205T100000
DTSTAMP:20260421T131537
CREATED:20180817T010133Z
LAST-MODIFIED:20180817T010133Z
UID:4981-1544004000-1544004000@www.noahwebster.org
SUMMARY:MESA Welcome Wednesday
DESCRIPTION:Come take a tour of the campus\, interact with Administrators and receive Admission information. If you can’t make it at 10:00 am\, contact us to schedule a private tour.
URL:https://www.noahwebster.org/event/mesa-welcome-wednesday-132/
LOCATION:Mesa Campus\, 7301 E. Baseline Road\, Mesa\, AZ\, 85209\, United States
CATEGORIES:General
END:VEVENT
BEGIN:VEVENT
DTSTART;TZID=UTC:20181205T100000
DTEND;TZID=UTC:20181205T100000
DTSTAMP:20260421T131537
CREATED:20180817T011154Z
LAST-MODIFIED:20180817T011154Z
UID:5003-1544004000-1544004000@www.noahwebster.org
SUMMARY:PIMA Welcome Wednesday
DESCRIPTION:Come take a tour of the campus\, interact with Administrators and receive Admission information. If you can’t make it at 10:00 am\, contact us to schedule a private tour.
URL:https://www.noahwebster.org/event/pima-welcome-wednesday-136/
LOCATION:Pima Campus\, 5399 N. Pima Road\, Scottsdale\, AZ\, 85250\, United States
CATEGORIES:General
END:VEVENT
BEGIN:VEVENT
DTSTART;VALUE=DATE:20181210
DTEND;VALUE=DATE:20181213
DTSTAMP:20260421T131537
CREATED:20180810T224437Z
LAST-MODIFIED:20180810T224437Z
UID:4746-1544400000-1544659199@www.noahwebster.org
SUMMARY:MESA Galileo Benchmark Testing
DESCRIPTION:
URL:https://www.noahwebster.org/event/mesa-galileo-benchmark-testing-2/
LOCATION:Mesa Campus\, 7301 E. Baseline Road\, Mesa\, AZ\, 85209\, United States
CATEGORIES:General
END:VEVENT
BEGIN:VEVENT
DTSTART;VALUE=DATE:20181210
DTEND;VALUE=DATE:20181213
DTSTAMP:20260421T131537
CREATED:20180810T224536Z
LAST-MODIFIED:20180810T224536Z
UID:4748-1544400000-1544659199@www.noahwebster.org
SUMMARY:PIMA Galileo Benchmark Testing
DESCRIPTION:
URL:https://www.noahwebster.org/event/pima-galileo-benchmark-testing-2/
LOCATION:Pima Campus\, 5399 N. Pima Road\, Scottsdale\, AZ\, 85250\, United States
CATEGORIES:General
END:VEVENT
BEGIN:VEVENT
DTSTART;TZID=UTC:20181211T163000
DTEND;TZID=UTC:20181211T163000
DTSTAMP:20260421T131537
CREATED:20181206T015538Z
LAST-MODIFIED:20181206T015538Z
UID:5658-1544545800-1544545800@www.noahwebster.org
SUMMARY:NWS-MESA Board Meeting
DESCRIPTION:Please click HERE for the Board Meting Notification.
URL:https://www.noahwebster.org/event/nws-mesa-board-meeting-29/
LOCATION:Noah Webster Schools Corporate Offices\, 5399 N. Pima Road\, Scottsdale\, AZ\, 85250\, United States
CATEGORIES:General
END:VEVENT
BEGIN:VEVENT
DTSTART;TZID=UTC:20181211T163000
DTEND;TZID=UTC:20181211T163000
DTSTAMP:20260421T131537
CREATED:20181206T015715Z
LAST-MODIFIED:20181206T015715Z
UID:5660-1544545800-1544545800@www.noahwebster.org
SUMMARY:NWS-PIMA Board Meeting
DESCRIPTION:Please click HERE to view the Board Meeting Notification.
URL:https://www.noahwebster.org/event/nws-pima-board-meeting-36/
LOCATION:Noah Webster Schools Corporate Offices\, 5399 N. Pima Road\, Scottsdale\, AZ\, 85250\, United States
CATEGORIES:General
END:VEVENT
BEGIN:VEVENT
DTSTART;TZID=UTC:20181212T100000
DTEND;TZID=UTC:20181212T100000
DTSTAMP:20260421T131537
CREATED:20180817T010213Z
LAST-MODIFIED:20180817T010213Z
UID:4983-1544608800-1544608800@www.noahwebster.org
SUMMARY:MESA Welcome Wednesday
DESCRIPTION:Come take a tour of the campus\, interact with Administrators and receive Admission information. If you can’t make it at 10:00 am\, contact us to schedule a private tour.
URL:https://www.noahwebster.org/event/mesa-welcome-wednesday-133/
LOCATION:Mesa Campus\, 7301 E. Baseline Road\, Mesa\, AZ\, 85209\, United States
CATEGORIES:General
END:VEVENT
BEGIN:VEVENT
DTSTART;TZID=UTC:20181212T100000
DTEND;TZID=UTC:20181212T100000
DTSTAMP:20260421T131537
CREATED:20180817T011244Z
LAST-MODIFIED:20180817T011244Z
UID:5005-1544608800-1544608800@www.noahwebster.org
SUMMARY:PIMA Welcome Wednesday
DESCRIPTION:Come take a tour of the campus\, interact with Administrators and receive Admission information. If you can’t make it at 10:00 am\, contact us to schedule a private tour.
URL:https://www.noahwebster.org/event/pima-welcome-wednesday-137/
LOCATION:Pima Campus\, 5399 N. Pima Road\, Scottsdale\, AZ\, 85250\, United States
CATEGORIES:General
END:VEVENT
BEGIN:VEVENT
DTSTART;TZID=UTC:20181219T100000
DTEND;TZID=UTC:20181219T100000
DTSTAMP:20260421T131537
CREATED:20180817T010256Z
LAST-MODIFIED:20180817T010256Z
UID:4985-1545213600-1545213600@www.noahwebster.org
SUMMARY:MESA Welcome Wednesday
DESCRIPTION:Come take a tour of the campus\, interact with Administrators and receive Admission information. If you can’t make it at 10:00 am\, contact us to schedule a private tour.
URL:https://www.noahwebster.org/event/mesa-welcome-wednesday-134/
LOCATION:Mesa Campus\, 7301 E. Baseline Road\, Mesa\, AZ\, 85209\, United States
CATEGORIES:General
END:VEVENT
BEGIN:VEVENT
DTSTART;TZID=UTC:20181219T100000
DTEND;TZID=UTC:20181219T100000
DTSTAMP:20260421T131537
CREATED:20180817T011334Z
LAST-MODIFIED:20180817T011334Z
UID:5007-1545213600-1545213600@www.noahwebster.org
SUMMARY:PIMA Welcome Wednesday
DESCRIPTION:Come take a tour of the campus\, interact with Administrators and receive Admission information. If you can’t make it at 10:00 am\, contact us to schedule a private tour.
URL:https://www.noahwebster.org/event/pima-welcome-wednesday-138/
LOCATION:Pima Campus\, 5399 N. Pima Road\, Scottsdale\, AZ\, 85250\, United States
CATEGORIES:General
END:VEVENT
BEGIN:VEVENT
DTSTART;TZID=UTC:20190107T083000
DTEND;TZID=UTC:20190107T083000
DTSTAMP:20260421T131537
CREATED:20180810T225356Z
LAST-MODIFIED:20180810T225356Z
UID:4762-1546849800-1546849800@www.noahwebster.org
SUMMARY:MESA Winter Semester Begins
DESCRIPTION:
URL:https://www.noahwebster.org/event/mesa-winter-semester-begins/
LOCATION:Mesa Campus\, 7301 E. Baseline Road\, Mesa\, AZ\, 85209\, United States
CATEGORIES:General
END:VEVENT
BEGIN:VEVENT
DTSTART;TZID=UTC:20190107T083000
DTEND;TZID=UTC:20190107T083000
DTSTAMP:20260421T131537
CREATED:20180810T231654Z
LAST-MODIFIED:20180810T231654Z
UID:4764-1546849800-1546849800@www.noahwebster.org
SUMMARY:PIMA Winter Semester Begins
DESCRIPTION:
URL:https://www.noahwebster.org/event/pima-winter-semester-begins/
LOCATION:Pima Campus\, 5399 N. Pima Road\, Scottsdale\, AZ\, 85250\, United States
CATEGORIES:General
END:VEVENT
BEGIN:VEVENT
DTSTART;TZID=UTC:20190108T163000
DTEND;TZID=UTC:20190108T163000
DTSTAMP:20260421T131537
CREATED:20190104T045440Z
LAST-MODIFIED:20190104T045440Z
UID:5769-1546965000-1546965000@www.noahwebster.org
SUMMARY:NWS-MESA Board Meeting
DESCRIPTION:Please click HERE to view the Board Meeting Notification.
URL:https://www.noahwebster.org/event/nws-mesa-board-meeting-30/
LOCATION:Noah Webster Schools Corporate Offices\, 5399 N. Pima Road\, Scottsdale\, AZ\, 85250\, United States
CATEGORIES:General
END:VEVENT
BEGIN:VEVENT
DTSTART;TZID=UTC:20190108T163000
DTEND;TZID=UTC:20190108T163000
DTSTAMP:20260421T131537
CREATED:20190104T045550Z
LAST-MODIFIED:20190104T045550Z
UID:5771-1546965000-1546965000@www.noahwebster.org
SUMMARY:NWS-PIMA Board Meeting
DESCRIPTION:Please click HERE to view the Board Meeting Notification.
URL:https://www.noahwebster.org/event/nws-pima-board-meeting-37/
LOCATION:Noah Webster Schools Corporate Offices\, 5399 N. Pima Road\, Scottsdale\, AZ\, 85250\, United States
CATEGORIES:General
END:VEVENT
BEGIN:VEVENT
DTSTART;TZID=UTC:20190109T100000
DTEND;TZID=UTC:20190109T100000
DTSTAMP:20260421T131537
CREATED:20180831T044943Z
LAST-MODIFIED:20180831T044943Z
UID:5159-1547028000-1547028000@www.noahwebster.org
SUMMARY:MESA Welcome Wednesday
DESCRIPTION:Come take a tour of the campus\, interact with Administrators and receive Admission information. If you can’t make it at 10:00 am\, contact us to schedule a private tour.
URL:https://www.noahwebster.org/event/mesa-welcome-wednesday-135/
LOCATION:Mesa Campus\, 7301 E. Baseline Road\, Mesa\, AZ\, 85209\, United States
CATEGORIES:General
END:VEVENT
END:VCALENDAR