BEGIN:VCALENDAR
VERSION:2.0
PRODID:-//Noah Webster - ECPv6.15.20//NONSGML v1.0//EN
CALSCALE:GREGORIAN
METHOD:PUBLISH
X-ORIGINAL-URL:https://www.noahwebster.org
X-WR-CALDESC:Events for Noah Webster
REFRESH-INTERVAL;VALUE=DURATION:PT1H
X-Robots-Tag:noindex
X-PUBLISHED-TTL:PT1H
BEGIN:VTIMEZONE
TZID:America/Phoenix
BEGIN:STANDARD
TZOFFSETFROM:-0700
TZOFFSETTO:-0700
TZNAME:MST
DTSTART:20210101T000000
END:STANDARD
END:VTIMEZONE
BEGIN:VEVENT
DTSTART;VALUE=DATE:20220803
DTEND;VALUE=DATE:20220804
DTSTAMP:20260421T082611
CREATED:20220816T220931Z
LAST-MODIFIED:20220816T220931Z
UID:8641-1659484800-1659571199@www.noahwebster.org
SUMMARY:MESA After School Programs Session 1
DESCRIPTION:Session 1 of After School Programs begins. Sign up forms are available at Open House\, in the front office and online.
URL:https://www.noahwebster.org/event/mesa-after-school-programs-session-1/
LOCATION:Mesa Campus\, 7301 E. Baseline Road\, Mesa\, AZ\, 85209\, United States
CATEGORIES:After School Program
END:VEVENT
BEGIN:VEVENT
DTSTART;TZID=America/Phoenix:20220803T080000
DTEND;TZID=America/Phoenix:20220803T170000
DTSTAMP:20260421T082611
CREATED:20220816T221007Z
LAST-MODIFIED:20220816T221007Z
UID:8642-1659513600-1659546000@www.noahwebster.org
SUMMARY:PIMA After School Programs Session 1
DESCRIPTION:Session 1 of After School Programs begins. Sign up forms are available at Open House\, in the front office and online.
URL:https://www.noahwebster.org/event/pima-after-school-programs-session-1/
LOCATION:Pima Campus\, 5399 N. Pima Road\, Scottsdale\, AZ\, 85250\, United States
CATEGORIES:After School Program
END:VEVENT
END:VCALENDAR