BEGIN:VCALENDAR
VERSION:2.0
PRODID:-//Noah Webster - ECPv6.15.20//NONSGML v1.0//EN
CALSCALE:GREGORIAN
METHOD:PUBLISH
X-WR-CALNAME:Noah Webster
X-ORIGINAL-URL:https://www.noahwebster.org
X-WR-CALDESC:Events for Noah Webster
REFRESH-INTERVAL;VALUE=DURATION:PT1H
X-Robots-Tag:noindex
X-PUBLISHED-TTL:PT1H
BEGIN:VTIMEZONE
TZID:America/Phoenix
BEGIN:STANDARD
TZOFFSETFROM:-0700
TZOFFSETTO:-0700
TZNAME:MST
DTSTART:20240101T000000
END:STANDARD
END:VTIMEZONE
BEGIN:VEVENT
DTSTART;VALUE=DATE:20250901
DTEND;VALUE=DATE:20250902
DTSTAMP:20260421T044946
CREATED:20250624T194744Z
LAST-MODIFIED:20250624T194744Z
UID:10876-1756684800-1756771199@www.noahwebster.org
SUMMARY:Labor Day (No School)
DESCRIPTION:
URL:https://www.noahwebster.org/event/labor-day-no-school-5/
CATEGORIES:Holiday
END:VEVENT
BEGIN:VEVENT
DTSTART;VALUE=DATE:20250903
DTEND;VALUE=DATE:20250904
DTSTAMP:20260421T044946
CREATED:20250624T194426Z
LAST-MODIFIED:20250624T194426Z
UID:10870-1756857600-1756943999@www.noahwebster.org
SUMMARY:MESA Professional Development (Early Dismissal)
DESCRIPTION:
URL:https://www.noahwebster.org/event/mesa-professional-development-early-dismissal-30/
LOCATION:Mesa Campus\, 7301 E. Baseline Road\, Mesa\, AZ\, 85209\, United States
CATEGORIES:Early Dismissal
END:VEVENT
BEGIN:VEVENT
DTSTART;VALUE=DATE:20250903
DTEND;VALUE=DATE:20250904
DTSTAMP:20260421T044946
CREATED:20250624T194630Z
LAST-MODIFIED:20250624T194630Z
UID:10874-1756857600-1756943999@www.noahwebster.org
SUMMARY:PIMA Professional Development (Early Dismissal)
DESCRIPTION:
URL:https://www.noahwebster.org/event/pima-professional-development-early-dismissal-29/
LOCATION:Pima Campus\, 5399 N. Pima Road\, Scottsdale\, AZ\, 85250\, United States
CATEGORIES:Early Dismissal
END:VEVENT
BEGIN:VEVENT
DTSTART;TZID=America/Phoenix:20250904T173000
DTEND;TZID=America/Phoenix:20250904T183000
DTSTAMP:20260421T044946
CREATED:20250806T222518Z
LAST-MODIFIED:20250918T204546Z
UID:10998-1757007000-1757010600@www.noahwebster.org
SUMMARY:MESA Title I Night
DESCRIPTION:
URL:https://www.noahwebster.org/event/mesa-title-i-night/
CATEGORIES:General
END:VEVENT
BEGIN:VEVENT
DTSTART;TZID=America/Phoenix:20250904T173000
DTEND;TZID=America/Phoenix:20250904T183000
DTSTAMP:20260421T044946
CREATED:20250806T222556Z
LAST-MODIFIED:20250903T201256Z
UID:10999-1757007000-1757010600@www.noahwebster.org
SUMMARY:PIMA Title I Night
DESCRIPTION:
URL:https://www.noahwebster.org/event/pima-title-i-night/
CATEGORIES:General
END:VEVENT
BEGIN:VEVENT
DTSTART;VALUE=DATE:20250908
DTEND;VALUE=DATE:20250912
DTSTAMP:20260421T044946
CREATED:20250806T222639Z
LAST-MODIFIED:20250806T222639Z
UID:11000-1757289600-1757635199@www.noahwebster.org
SUMMARY:MESA Scholastic Book Fair
DESCRIPTION:
URL:https://www.noahwebster.org/event/mesa-scholastic-book-fair-17/
LOCATION:Mesa Campus\, 7301 E. Baseline Road\, Mesa\, AZ\, 85209\, United States
CATEGORIES:School Activity
END:VEVENT
BEGIN:VEVENT
DTSTART;TZID=America/Phoenix:20250909T070000
DTEND;TZID=America/Phoenix:20250909T080000
DTSTAMP:20260421T044946
CREATED:20250806T222721Z
LAST-MODIFIED:20250918T204732Z
UID:11001-1757401200-1757404800@www.noahwebster.org
SUMMARY:MESA Breakfast with Grandparents
DESCRIPTION:
URL:https://www.noahwebster.org/event/mesa-breakfast-with-grandparents-3/
LOCATION:Mesa Campus\, 7301 E. Baseline Road\, Mesa\, AZ\, 85209\, United States
CATEGORIES:School Activity
END:VEVENT
BEGIN:VEVENT
DTSTART;TZID=America/Phoenix:20250910T173000
DTEND;TZID=America/Phoenix:20250910T190000
DTSTAMP:20260421T044946
CREATED:20250806T222830Z
LAST-MODIFIED:20250911T224542Z
UID:11002-1757525400-1757530800@www.noahwebster.org
SUMMARY:MESA Storybook Social
DESCRIPTION:Pre-K\, Kindergarten and Band students will perform during the event.
URL:https://www.noahwebster.org/event/mesa-storybook-social/
LOCATION:Mesa Campus\, 7301 E. Baseline Road\, Mesa\, AZ\, 85209\, United States
CATEGORIES:School Activity
END:VEVENT
BEGIN:VEVENT
DTSTART;VALUE=DATE:20250911
DTEND;VALUE=DATE:20250912
DTSTAMP:20260421T044946
CREATED:20250806T222907Z
LAST-MODIFIED:20250806T224327Z
UID:11003-1757548800-1757635199@www.noahwebster.org
SUMMARY:9/11 Education Day
DESCRIPTION:
URL:https://www.noahwebster.org/event/mesa-9-11-education-day/
CATEGORIES:General
END:VEVENT
BEGIN:VEVENT
DTSTART;TZID=America/Phoenix:20250912T083000
DTEND;TZID=America/Phoenix:20250912T090000
DTSTAMP:20260421T044946
CREATED:20250806T223028Z
LAST-MODIFIED:20250918T204724Z
UID:11005-1757665800-1757667600@www.noahwebster.org
SUMMARY:MESA Pep Assembly (PK-3rd Grade)
DESCRIPTION:
URL:https://www.noahwebster.org/event/mesa-pep-assembly-pk-3rd-grade-2/
LOCATION:Mesa Campus\, 7301 E. Baseline Road\, Mesa\, AZ\, 85209\, United States
CATEGORIES:General
END:VEVENT
BEGIN:VEVENT
DTSTART;TZID=America/Phoenix:20250912T133000
DTEND;TZID=America/Phoenix:20250912T141500
DTSTAMP:20260421T044946
CREATED:20250806T223126Z
LAST-MODIFIED:20250918T204720Z
UID:11006-1757683800-1757686500@www.noahwebster.org
SUMMARY:PIMA Pep Assembly (PK-3rd Grade)
DESCRIPTION:
URL:https://www.noahwebster.org/event/pima-pep-assembly-pk-3rd-grade-2/
LOCATION:Pima Campus\, 5399 N. Pima Road\, Scottsdale\, AZ\, 85250\, United States
CATEGORIES:General
END:VEVENT
BEGIN:VEVENT
DTSTART;VALUE=DATE:20250915
DTEND;VALUE=DATE:20250916
DTSTAMP:20260421T044946
CREATED:20250806T223634Z
LAST-MODIFIED:20250911T224755Z
UID:11012-1757894400-1757980799@www.noahwebster.org
SUMMARY:After School Programs: Session 2 Begins
DESCRIPTION:
URL:https://www.noahwebster.org/event/after-school-programs-session-2-begins-4/
CATEGORIES:After School Program
END:VEVENT
BEGIN:VEVENT
DTSTART;VALUE=DATE:20250915
DTEND;VALUE=DATE:20250919
DTSTAMP:20260421T044946
CREATED:20250806T223217Z
LAST-MODIFIED:20250911T224733Z
UID:11007-1757894400-1758239999@www.noahwebster.org
SUMMARY:PIMA Scholastic Book Fair
DESCRIPTION:
URL:https://www.noahwebster.org/event/pima-scholastic-book-fair-17/
LOCATION:Pima Campus\, 5399 N. Pima Road\, Scottsdale\, AZ\, 85250\, United States
CATEGORIES:School Activity
END:VEVENT
BEGIN:VEVENT
DTSTART;TZID=America/Phoenix:20250916T070000
DTEND;TZID=America/Phoenix:20250916T080000
DTSTAMP:20260421T044946
CREATED:20250806T223259Z
LAST-MODIFIED:20250911T224804Z
UID:11008-1758006000-1758009600@www.noahwebster.org
SUMMARY:PIMA Breakfast with Grandparents
DESCRIPTION:
URL:https://www.noahwebster.org/event/pima-breakfast-with-grandparents-3/
LOCATION:Pima Campus\, 5399 N. Pima Road\, Scottsdale\, AZ\, 85250\, United States
CATEGORIES:School Activity
END:VEVENT
BEGIN:VEVENT
DTSTART;VALUE=DATE:20250917
DTEND;VALUE=DATE:20250918
DTSTAMP:20260421T044946
CREATED:20250624T194455Z
LAST-MODIFIED:20250911T224812Z
UID:10871-1758067200-1758153599@www.noahwebster.org
SUMMARY:MESA Professional Development (Early Dismissal)
DESCRIPTION:
URL:https://www.noahwebster.org/event/mesa-professional-development-early-dismissal-31/
LOCATION:Mesa Campus\, 7301 E. Baseline Road\, Mesa\, AZ\, 85209\, United States
CATEGORIES:Early Dismissal
END:VEVENT
BEGIN:VEVENT
DTSTART;VALUE=DATE:20250917
DTEND;VALUE=DATE:20250918
DTSTAMP:20260421T044946
CREATED:20250624T194658Z
LAST-MODIFIED:20250911T224817Z
UID:10875-1758067200-1758153599@www.noahwebster.org
SUMMARY:PIMA Professional Development (Early Dismissal)
DESCRIPTION:
URL:https://www.noahwebster.org/event/pima-professional-development-early-dismissal-30/
LOCATION:Pima Campus\, 5399 N. Pima Road\, Scottsdale\, AZ\, 85250\, United States
CATEGORIES:Early Dismissal
END:VEVENT
BEGIN:VEVENT
DTSTART;TZID=America/Phoenix:20250917T173000
DTEND;TZID=America/Phoenix:20250917T190000
DTSTAMP:20260421T044946
CREATED:20250806T223411Z
LAST-MODIFIED:20250911T224827Z
UID:11009-1758130200-1758135600@www.noahwebster.org
SUMMARY:PIMA Storybook Social
DESCRIPTION:Pre-K\, Kindergarten and 1st grade students will perform at this event.
URL:https://www.noahwebster.org/event/pima-storybook-social/
LOCATION:Pima Campus\, 5399 N. Pima Road\, Scottsdale\, AZ\, 85250\, United States
CATEGORIES:School Activity
END:VEVENT
BEGIN:VEVENT
DTSTART;TZID=America/Phoenix:20250919T083000
DTEND;TZID=America/Phoenix:20250919T090000
DTSTAMP:20260421T044946
CREATED:20250806T223450Z
LAST-MODIFIED:20250911T224839Z
UID:11010-1758270600-1758272400@www.noahwebster.org
SUMMARY:MESA Pep Assembly (4th-8th Grade)
DESCRIPTION:
URL:https://www.noahwebster.org/event/mesa-pep-assembly-4th-8th-grade-2/
LOCATION:Mesa Campus\, 7301 E. Baseline Road\, Mesa\, AZ\, 85209\, United States
CATEGORIES:General
END:VEVENT
BEGIN:VEVENT
DTSTART;TZID=America/Phoenix:20250919T133000
DTEND;TZID=America/Phoenix:20250919T141500
DTSTAMP:20260421T044946
CREATED:20250806T223539Z
LAST-MODIFIED:20250911T224843Z
UID:11011-1758288600-1758291300@www.noahwebster.org
SUMMARY:PIMA Pep Assembly (4th-8th Grade)
DESCRIPTION:
URL:https://www.noahwebster.org/event/pima-pep-assembly-4th-8th-grade-2/
LOCATION:Pima Campus\, 5399 N. Pima Road\, Scottsdale\, AZ\, 85250\, United States
CATEGORIES:General
END:VEVENT
BEGIN:VEVENT
DTSTART;VALUE=DATE:20250925
DTEND;VALUE=DATE:20250926
DTSTAMP:20260421T044946
CREATED:20250806T224228Z
LAST-MODIFIED:20250911T224920Z
UID:11014-1758758400-1758844799@www.noahwebster.org
SUMMARY:Sandra Day O'Connor Civics Celebration Day
DESCRIPTION:
URL:https://www.noahwebster.org/event/sandra-day-oconnor-civics-celebration-day-3/
CATEGORIES:General
END:VEVENT
BEGIN:VEVENT
DTSTART;TZID=America/Phoenix:20250926T090000
DTEND;TZID=America/Phoenix:20250926T133000
DTSTAMP:20260421T044946
CREATED:20250903T210237Z
LAST-MODIFIED:20250918T204700Z
UID:11106-1758877200-1758893400@www.noahwebster.org
SUMMARY:MESA 5th Gr Field Trip
DESCRIPTION:Phoenix Art Museum
URL:https://www.noahwebster.org/event/mesa-5th-gr-field-trip-10/
LOCATION:Phoenix Art Museum
CATEGORIES:Field Trip
END:VEVENT
BEGIN:VEVENT
DTSTART;TZID=America/Phoenix:20250930T085000
DTEND;TZID=America/Phoenix:20250930T140000
DTSTAMP:20260421T044946
CREATED:20250911T223537Z
LAST-MODIFIED:20250911T224942Z
UID:11114-1759222200-1759240800@www.noahwebster.org
SUMMARY:MESA 6th Gr Field Trip
DESCRIPTION:Main Event
URL:https://www.noahwebster.org/event/mesa-6th-gr-field-trip-9/
LOCATION:Main Event
CATEGORIES:Field Trip
END:VEVENT
END:VCALENDAR