BEGIN:VCALENDAR
VERSION:2.0
PRODID:-//Noah Webster - ECPv6.15.20//NONSGML v1.0//EN
CALSCALE:GREGORIAN
METHOD:PUBLISH
X-ORIGINAL-URL:https://www.noahwebster.org
X-WR-CALDESC:Events for Noah Webster
REFRESH-INTERVAL;VALUE=DURATION:PT1H
X-Robots-Tag:noindex
X-PUBLISHED-TTL:PT1H
BEGIN:VTIMEZONE
TZID:America/Phoenix
BEGIN:STANDARD
TZOFFSETFROM:-0700
TZOFFSETTO:-0700
TZNAME:MST
DTSTART:20240101T000000
END:STANDARD
END:VTIMEZONE
BEGIN:VEVENT
DTSTART;VALUE=DATE:20250806
DTEND;VALUE=DATE:20250807
DTSTAMP:20260423T024049
CREATED:20250624T194330Z
LAST-MODIFIED:20250624T194330Z
UID:10868-1754438400-1754524799@www.noahwebster.org
SUMMARY:MESA Professional Development (Early Dismissal)
DESCRIPTION:
URL:https://www.noahwebster.org/event/mesa-professional-development-early-dismissal-28/
LOCATION:Mesa Campus\, 7301 E. Baseline Road\, Mesa\, AZ\, 85209\, United States
CATEGORIES:Early Dismissal
END:VEVENT
BEGIN:VEVENT
DTSTART;VALUE=DATE:20250806
DTEND;VALUE=DATE:20250807
DTSTAMP:20260423T024049
CREATED:20250624T194537Z
LAST-MODIFIED:20250624T194537Z
UID:10872-1754438400-1754524799@www.noahwebster.org
SUMMARY:PIMA Professional Development (Early Dismissal)
DESCRIPTION:
URL:https://www.noahwebster.org/event/pima-professional-development-early-dismissal-27/
LOCATION:Pima Campus\, 5399 N. Pima Road\, Scottsdale\, AZ\, 85250\, United States
CATEGORIES:Early Dismissal
END:VEVENT
BEGIN:VEVENT
DTSTART;TZID=America/Phoenix:20250814T173000
DTEND;TZID=America/Phoenix:20250814T183000
DTSTAMP:20260423T024049
CREATED:20250811T230155Z
LAST-MODIFIED:20250811T230155Z
UID:11024-1755192600-1755196200@www.noahwebster.org
SUMMARY:MESA Scouting America Info Night
DESCRIPTION:
URL:https://www.noahwebster.org/event/mesa-scouting-america-info-night/
LOCATION:Mesa Campus\, 7301 E. Baseline Road\, Mesa\, AZ\, 85209\, United States
CATEGORIES:General
END:VEVENT
BEGIN:VEVENT
DTSTART;TZID=America/Phoenix:20250815T083000
DTEND;TZID=America/Phoenix:20250815T090000
DTSTAMP:20260423T024049
CREATED:20250806T221827Z
LAST-MODIFIED:20250806T221827Z
UID:10989-1755246600-1755248400@www.noahwebster.org
SUMMARY:MESA Pep Assembly (PK - 3rd Grade)
DESCRIPTION:
URL:https://www.noahwebster.org/event/mesa-pep-assembly-pk-3rd-grade/
LOCATION:Mesa Campus\, 7301 E. Baseline Road\, Mesa\, AZ\, 85209\, United States
CATEGORIES:General
END:VEVENT
BEGIN:VEVENT
DTSTART;TZID=America/Phoenix:20250815T133000
DTEND;TZID=America/Phoenix:20250815T141500
DTSTAMP:20260423T024049
CREATED:20250806T221923Z
LAST-MODIFIED:20250814T225553Z
UID:10990-1755264600-1755267300@www.noahwebster.org
SUMMARY:PIMA Pep Assembly (PK-3rd Grade)
DESCRIPTION:
URL:https://www.noahwebster.org/event/pima-pep-assembly-pk-3rd-grade/
LOCATION:Pima Campus\, 5399 N. Pima Road\, Scottsdale\, AZ\, 85250\, United States
CATEGORIES:General
END:VEVENT
BEGIN:VEVENT
DTSTART;VALUE=DATE:20250818
DTEND;VALUE=DATE:20250823
DTSTAMP:20260423T024049
CREATED:20250806T222002Z
LAST-MODIFIED:20250806T222002Z
UID:10991-1755475200-1755907199@www.noahwebster.org
SUMMARY:MESA Spirit Week
DESCRIPTION:
URL:https://www.noahwebster.org/event/mesa-spirit-week-28/
LOCATION:Mesa Campus\, 7301 E. Baseline Road\, Mesa\, AZ\, 85209\, United States
CATEGORIES:School Activity
END:VEVENT
BEGIN:VEVENT
DTSTART;VALUE=DATE:20250818
DTEND;VALUE=DATE:20250823
DTSTAMP:20260423T024049
CREATED:20250806T222032Z
LAST-MODIFIED:20250806T222032Z
UID:10992-1755475200-1755907199@www.noahwebster.org
SUMMARY:PIMA Spirit Week
DESCRIPTION:
URL:https://www.noahwebster.org/event/pima-spirit-week-30/
LOCATION:Pima Campus\, 5399 N. Pima Road\, Scottsdale\, AZ\, 85250\, United States
CATEGORIES:School Activity
END:VEVENT
BEGIN:VEVENT
DTSTART;TZID=America/Phoenix:20250819T173000
DTEND;TZID=America/Phoenix:20250819T183000
DTSTAMP:20260423T024049
CREATED:20250806T222247Z
LAST-MODIFIED:20250806T222247Z
UID:10995-1755624600-1755628200@www.noahwebster.org
SUMMARY:PIMA Scouting America Recruit Night
DESCRIPTION:
URL:https://www.noahwebster.org/event/pima-scouting-america-recruit-night/
LOCATION:Pima Campus\, 5399 N. Pima Road\, Scottsdale\, AZ\, 85250\, United States
CATEGORIES:General
END:VEVENT
BEGIN:VEVENT
DTSTART;VALUE=DATE:20250820
DTEND;VALUE=DATE:20250821
DTSTAMP:20260423T024049
CREATED:20250624T194358Z
LAST-MODIFIED:20250624T194358Z
UID:10869-1755648000-1755734399@www.noahwebster.org
SUMMARY:MESA Professional Development (Early Dismissal)
DESCRIPTION:
URL:https://www.noahwebster.org/event/mesa-professional-development-early-dismissal-29/
LOCATION:Mesa Campus\, 7301 E. Baseline Road\, Mesa\, AZ\, 85209\, United States
CATEGORIES:Early Dismissal
END:VEVENT
BEGIN:VEVENT
DTSTART;VALUE=DATE:20250820
DTEND;VALUE=DATE:20250821
DTSTAMP:20260423T024049
CREATED:20250624T194603Z
LAST-MODIFIED:20250624T194603Z
UID:10873-1755648000-1755734399@www.noahwebster.org
SUMMARY:PIMA Professional Development (Early Dismissal)
DESCRIPTION:
URL:https://www.noahwebster.org/event/pima-professional-development-early-dismissal-28/
LOCATION:Pima Campus\, 5399 N. Pima Road\, Scottsdale\, AZ\, 85250\, United States
CATEGORIES:Early Dismissal
END:VEVENT
BEGIN:VEVENT
DTSTART;TZID=America/Phoenix:20250822T083000
DTEND;TZID=America/Phoenix:20250822T090000
DTSTAMP:20260423T024049
CREATED:20250806T222126Z
LAST-MODIFIED:20250806T222126Z
UID:10993-1755851400-1755853200@www.noahwebster.org
SUMMARY:MESA Pep Assembly (4th-8th Grade)
DESCRIPTION:
URL:https://www.noahwebster.org/event/mesa-pep-assembly-4th-8th-grade/
LOCATION:Pima Campus\, 5399 N. Pima Road\, Scottsdale\, AZ\, 85250\, United States
CATEGORIES:General
END:VEVENT
BEGIN:VEVENT
DTSTART;TZID=America/Phoenix:20250822T133000
DTEND;TZID=America/Phoenix:20250822T141500
DTSTAMP:20260423T024049
CREATED:20250806T222159Z
LAST-MODIFIED:20250814T225638Z
UID:10994-1755869400-1755872100@www.noahwebster.org
SUMMARY:PIMA Pep Assembly (4th-8th Grade)
DESCRIPTION:
URL:https://www.noahwebster.org/event/pima-pep-assembly-4th-8th-grade/
LOCATION:Pima Campus\, 5399 N. Pima Road\, Scottsdale\, AZ\, 85250\, United States
CATEGORIES:General
END:VEVENT
BEGIN:VEVENT
DTSTART;VALUE=DATE:20250826
DTEND;VALUE=DATE:20250827
DTSTAMP:20260423T024049
CREATED:20250806T222410Z
LAST-MODIFIED:20250806T222410Z
UID:10997-1756166400-1756252799@www.noahwebster.org
SUMMARY:MESA Fall Picture Day
DESCRIPTION:
URL:https://www.noahwebster.org/event/mesa-fall-picture-day-3/
LOCATION:Mesa Campus\, 7301 E. Baseline Road\, Mesa\, AZ\, 85209\, United States
CATEGORIES:General
END:VEVENT
BEGIN:VEVENT
DTSTART;TZID=America/Phoenix:20250827T163000
DTEND;TZID=America/Phoenix:20250827T163000
DTSTAMP:20260423T024049
CREATED:20250826T215056Z
LAST-MODIFIED:20250826T215056Z
UID:11080-1756312200-1756312200@www.noahwebster.org
SUMMARY:NWS-Mesa Board Meeting
DESCRIPTION:Please click HERE to view the Board Meeting Notification and Agenda. This meeting will be held virtually.
URL:https://www.noahwebster.org/event/nws-mesa-board-meeting-85/
CATEGORIES:General
END:VEVENT
BEGIN:VEVENT
DTSTART;TZID=America/Phoenix:20250827T163000
DTEND;TZID=America/Phoenix:20250827T163000
DTSTAMP:20260423T024049
CREATED:20250826T215232Z
LAST-MODIFIED:20250826T215232Z
UID:11081-1756312200-1756312200@www.noahwebster.org
SUMMARY:NWS-Pima Board Meeting
DESCRIPTION:Please click HERE to view the Board Meeting Notification and Agenda.  This meeting will be held virtually.
URL:https://www.noahwebster.org/event/nws-pima-board-meeting-92/
CATEGORIES:General
END:VEVENT
END:VCALENDAR