BEGIN:VCALENDAR
VERSION:2.0
PRODID:-//Noah Webster - ECPv6.15.20//NONSGML v1.0//EN
CALSCALE:GREGORIAN
METHOD:PUBLISH
X-ORIGINAL-URL:https://www.noahwebster.org
X-WR-CALDESC:Events for Noah Webster
REFRESH-INTERVAL;VALUE=DURATION:PT1H
X-Robots-Tag:noindex
X-PUBLISHED-TTL:PT1H
BEGIN:VTIMEZONE
TZID:UTC
BEGIN:STANDARD
TZOFFSETFROM:+0000
TZOFFSETTO:+0000
TZNAME:UTC
DTSTART:20180101T000000
END:STANDARD
END:VTIMEZONE
BEGIN:VTIMEZONE
TZID:America/Phoenix
BEGIN:STANDARD
TZOFFSETFROM:-0700
TZOFFSETTO:-0700
TZNAME:MST
DTSTART:20190101T000000
END:STANDARD
END:VTIMEZONE
BEGIN:VEVENT
DTSTART;VALUE=DATE:20191223
DTEND;VALUE=DATE:20200104
DTSTAMP:20260420T203849
CREATED:20200101T000546Z
LAST-MODIFIED:20200101T000546Z
UID:6280-1577059200-1578095999@www.noahwebster.org
SUMMARY:MESA Winter Break
DESCRIPTION:
URL:https://www.noahwebster.org/event/mesa-winter-break/
LOCATION:Mesa Campus\, 7301 E. Baseline Road\, Mesa\, AZ\, 85209\, United States
CATEGORIES:Holiday
END:VEVENT
BEGIN:VEVENT
DTSTART;VALUE=DATE:20191223
DTEND;VALUE=DATE:20200104
DTSTAMP:20260420T203849
CREATED:20200101T001429Z
LAST-MODIFIED:20200101T001429Z
UID:6281-1577059200-1578095999@www.noahwebster.org
SUMMARY:PIMA Winter Break
DESCRIPTION:
URL:https://www.noahwebster.org/event/pima-winter-break/
CATEGORIES:Holiday
END:VEVENT
BEGIN:VEVENT
DTSTART;TZID=UTC:20200108T100000
DTEND;TZID=UTC:20200108T100000
DTSTAMP:20260420T203849
CREATED:20200101T002354Z
LAST-MODIFIED:20200101T002354Z
UID:6283-1578477600-1578477600@www.noahwebster.org
SUMMARY:MESA Tour with the Principal
DESCRIPTION:Come take a tour of the campus\, interact with the Principal and receive Admission information. If you are unavailable at 10:00 a.m.\, please check our calendar for upcoming Open Campus Nights.
URL:https://www.noahwebster.org/event/mesa-tour-with-the-principal/
LOCATION:Mesa Campus\, 7301 E. Baseline Road\, Mesa\, AZ\, 85209\, United States
CATEGORIES:General
END:VEVENT
BEGIN:VEVENT
DTSTART;TZID=UTC:20200108T100000
DTEND;TZID=UTC:20200108T100000
DTSTAMP:20260420T203849
CREATED:20200101T003806Z
LAST-MODIFIED:20200101T003806Z
UID:6289-1578477600-1578477600@www.noahwebster.org
SUMMARY:PIMA Tour with the Principal
DESCRIPTION:Come take a tour of the campus\, interact with the Principal and receive Admission information. If you are unavailable at 10:00 a.m.\, please check our calendar for upcoming Open Campus Nights.
URL:https://www.noahwebster.org/event/pima-tour-with-the-principal/
CATEGORIES:General
END:VEVENT
BEGIN:VEVENT
DTSTART;TZID=UTC:20200113T083000
DTEND;TZID=UTC:20200113T120000
DTSTAMP:20260420T203849
CREATED:20200101T005001Z
LAST-MODIFIED:20200101T005001Z
UID:6296-1578904200-1578916800@www.noahwebster.org
SUMMARY:MESA Field Days (1 of 2)
DESCRIPTION:
URL:https://www.noahwebster.org/event/mesa-field-days-1-of-2/
LOCATION:Mesa Campus\, 7301 E. Baseline Road\, Mesa\, AZ\, 85209\, United States
CATEGORIES:School Activity
END:VEVENT
BEGIN:VEVENT
DTSTART;TZID=UTC:20200114T083000
DTEND;TZID=UTC:20200114T120000
DTSTAMP:20260420T203849
CREATED:20200101T005138Z
LAST-MODIFIED:20200101T005138Z
UID:6297-1578990600-1579003200@www.noahwebster.org
SUMMARY:MESA Field Days (2 of 2)
DESCRIPTION:
URL:https://www.noahwebster.org/event/mesa-field-days-2-of-2/
LOCATION:Mesa Campus\, 7301 E. Baseline Road\, Mesa\, AZ\, 85209\, United States
CATEGORIES:School Activity
END:VEVENT
BEGIN:VEVENT
DTSTART;TZID=UTC:20200114T163000
DTEND;TZID=UTC:20200114T180000
DTSTAMP:20260420T203849
CREATED:20200101T013441Z
LAST-MODIFIED:20200101T013441Z
UID:6314-1579019400-1579024800@www.noahwebster.org
SUMMARY:PIMA Open Campus Night
DESCRIPTION:Come tour the school\, talk with administrators and receive admission information.  If you can’t make it\, schedule a tour by calling 480-772-6149.   \nNoah Webster Schools- Pima\n5399 N. Pima Road\nScottsdale\, AZ 85250\n480-291-6900
URL:https://www.noahwebster.org/event/pima-open-campus-night-36/
CATEGORIES:General
END:VEVENT
BEGIN:VEVENT
DTSTART;VALUE=DATE:20200115
DTEND;VALUE=DATE:20200116
DTSTAMP:20260420T203849
CREATED:20200101T005335Z
LAST-MODIFIED:20200101T005335Z
UID:6298-1579046400-1579132799@www.noahwebster.org
SUMMARY:MESA Professional Development Day (Early Dismissal)
DESCRIPTION:
URL:https://www.noahwebster.org/event/mesa-professional-development-day-early-dismissal-21/
LOCATION:Mesa Campus\, 7301 E. Baseline Road\, Mesa\, AZ\, 85209\, United States
CATEGORIES:Early Dismissal
END:VEVENT
BEGIN:VEVENT
DTSTART;VALUE=DATE:20200115
DTEND;VALUE=DATE:20200116
DTSTAMP:20260420T203849
CREATED:20200101T013600Z
LAST-MODIFIED:20200101T013600Z
UID:6315-1579046400-1579132799@www.noahwebster.org
SUMMARY:PIMA Professional Development Day (Early Dismissal)
DESCRIPTION:
URL:https://www.noahwebster.org/event/pima-professional-development-day-early-dismissal-31/
CATEGORIES:Early Dismissal
END:VEVENT
BEGIN:VEVENT
DTSTART;TZID=UTC:20200115T100000
DTEND;TZID=UTC:20200115T100000
DTSTAMP:20260420T203849
CREATED:20200101T002529Z
LAST-MODIFIED:20200101T002529Z
UID:6284-1579082400-1579082400@www.noahwebster.org
SUMMARY:MESA Tour with the Principal
DESCRIPTION:Come take a tour of the campus\, interact with the Principal and receive Admission information. If you are unavailable at 10:00 a.m.\, please check our calendar for upcoming Open Campus Nights.
URL:https://www.noahwebster.org/event/mesa-tour-with-the-principal-2/
LOCATION:Mesa Campus\, 7301 E. Baseline Road\, Mesa\, AZ\, 85209\, United States
CATEGORIES:General
END:VEVENT
BEGIN:VEVENT
DTSTART;TZID=UTC:20200115T100000
DTEND;TZID=UTC:20200115T100000
DTSTAMP:20260420T203849
CREATED:20200101T003908Z
LAST-MODIFIED:20200101T003908Z
UID:6117-1579082400-1579082400@www.noahwebster.org
SUMMARY:PIMA Tour with the Principal
DESCRIPTION:Come take a tour of the campus\, interact with the Principal and receive Admission information. If you are unavailable at 10:00 a.m.\, please check our calendar for upcoming Open Campus Nights.
URL:https://www.noahwebster.org/event/pima-tour-with-the-principal-2/
CATEGORIES:General
END:VEVENT
BEGIN:VEVENT
DTSTART;TZID=UTC:20200116T083000
DTEND;TZID=UTC:20200116T120000
DTSTAMP:20260420T203849
CREATED:20200101T013703Z
LAST-MODIFIED:20200101T013703Z
UID:6316-1579163400-1579176000@www.noahwebster.org
SUMMARY:PIMA Field Days (1 of 2)
DESCRIPTION:
URL:https://www.noahwebster.org/event/pima-field-days-1-of-2/
CATEGORIES:School Activity
END:VEVENT
BEGIN:VEVENT
DTSTART;TZID=UTC:20200116T163000
DTEND;TZID=UTC:20200116T180000
DTSTAMP:20260420T203849
CREATED:20200101T010009Z
LAST-MODIFIED:20200101T010009Z
UID:6299-1579192200-1579197600@www.noahwebster.org
SUMMARY:MESA Open Campus Night
DESCRIPTION:Come tour the school\, talk with administrators and receive admission information.  If you can’t make it\, schedule a tour by calling 480-772-6149.   \nNoah Webster Schools- Mesa\n7301 E. Baseline Road\nMesa\, AZ 85209\n480-986-2335
URL:https://www.noahwebster.org/event/mesa-open-campus-night-39/
LOCATION:Mesa Campus\, 7301 E. Baseline Road\, Mesa\, AZ\, 85209\, United States
CATEGORIES:General
END:VEVENT
BEGIN:VEVENT
DTSTART;TZID=UTC:20200117T083000
DTEND;TZID=UTC:20200117T120000
DTSTAMP:20260420T203849
CREATED:20200101T014059Z
LAST-MODIFIED:20200101T014059Z
UID:6317-1579249800-1579262400@www.noahwebster.org
SUMMARY:PIMA Field Days (2 of 2)
DESCRIPTION:
URL:https://www.noahwebster.org/event/pima-field-days-2-of-2/
CATEGORIES:School Activity
END:VEVENT
BEGIN:VEVENT
DTSTART;TZID=UTC:20200117T084500
DTEND;TZID=UTC:20200117T133000
DTSTAMP:20260420T203849
CREATED:20200101T001609Z
LAST-MODIFIED:20200101T001609Z
UID:6282-1579250700-1579267800@www.noahwebster.org
SUMMARY:MESA 5th Grade Field Trip
DESCRIPTION:Phoenix Art Museum
URL:https://www.noahwebster.org/event/mesa-5th-grade-field-trip-9/
LOCATION:Phoenix Art Museum
CATEGORIES:Field Trip
END:VEVENT
BEGIN:VEVENT
DTSTART;VALUE=DATE:20200120
DTEND;VALUE=DATE:20200121
DTSTAMP:20260420T203849
CREATED:20200101T010200Z
LAST-MODIFIED:20200101T010200Z
UID:6300-1579478400-1579564799@www.noahwebster.org
SUMMARY:MESA Civil Rights Day (No School)
DESCRIPTION:
URL:https://www.noahwebster.org/event/mesa-civil-rights-day-no-school-4/
LOCATION:Mesa Campus\, 7301 E. Baseline Road\, Mesa\, AZ\, 85209\, United States
CATEGORIES:Holiday
END:VEVENT
BEGIN:VEVENT
DTSTART;VALUE=DATE:20200120
DTEND;VALUE=DATE:20200121
DTSTAMP:20260420T203849
CREATED:20200101T010306Z
LAST-MODIFIED:20200101T010306Z
UID:6301-1579478400-1579564799@www.noahwebster.org
SUMMARY:PIMA Civil Rights Day (No School)
DESCRIPTION:
URL:https://www.noahwebster.org/event/pima-civil-rights-day-no-school-5/
CATEGORIES:Holiday
END:VEVENT
BEGIN:VEVENT
DTSTART;VALUE=DATE:20200121
DTEND;VALUE=DATE:20200125
DTSTAMP:20260420T203849
CREATED:20200101T010435Z
LAST-MODIFIED:20200101T010435Z
UID:6302-1579564800-1579910399@www.noahwebster.org
SUMMARY:MESA Spirit Week
DESCRIPTION:
URL:https://www.noahwebster.org/event/mesa-spirit-week-9/
LOCATION:Mesa Campus\, 7301 E. Baseline Road\, Mesa\, AZ\, 85209\, United States
CATEGORIES:School Activity
END:VEVENT
BEGIN:VEVENT
DTSTART;VALUE=DATE:20200121
DTEND;VALUE=DATE:20200125
DTSTAMP:20260420T203849
CREATED:20200101T014240Z
LAST-MODIFIED:20200101T014240Z
UID:6318-1579564800-1579910399@www.noahwebster.org
SUMMARY:PIMA Spirit Week
DESCRIPTION:
URL:https://www.noahwebster.org/event/pima-spirit-week-11/
CATEGORIES:School Activity
END:VEVENT
BEGIN:VEVENT
DTSTART;TZID=UTC:20200122T100000
DTEND;TZID=UTC:20200122T100000
DTSTAMP:20260420T203849
CREATED:20200101T003000Z
LAST-MODIFIED:20200101T003000Z
UID:6285-1579687200-1579687200@www.noahwebster.org
SUMMARY:MESA Tour with the Principal
DESCRIPTION:Come take a tour of the campus\, interact with the Principal and receive Admission information. If you are unavailable at 10:00 a.m.\, please check our calendar for upcoming Open Campus Nights.
URL:https://www.noahwebster.org/event/mesa-tour-with-the-principal-3/
LOCATION:Mesa Campus\, 7301 E. Baseline Road\, Mesa\, AZ\, 85209\, United States
CATEGORIES:General
END:VEVENT
BEGIN:VEVENT
DTSTART;TZID=UTC:20200122T100000
DTEND;TZID=UTC:20200122T100000
DTSTAMP:20260420T203849
CREATED:20200101T004108Z
LAST-MODIFIED:20200101T004108Z
UID:6290-1579687200-1579687200@www.noahwebster.org
SUMMARY:PIMA Tour with the Principal
DESCRIPTION:Come take a tour of the campus\, interact with the Principal and receive Admission information. If you are unavailable at 10:00 a.m.\, please check our calendar for upcoming Open Campus Nights.
URL:https://www.noahwebster.org/event/pima-tour-with-the-principal-3/
CATEGORIES:General
END:VEVENT
BEGIN:VEVENT
DTSTART;TZID=UTC:20200123T090000
DTEND;TZID=UTC:20200123T093000
DTSTAMP:20260420T203849
CREATED:20200101T010949Z
LAST-MODIFIED:20200101T010949Z
UID:6150-1579770000-1579771800@www.noahwebster.org
SUMMARY:MESA Coffee with the Principal
DESCRIPTION:
URL:https://www.noahwebster.org/event/mesa-coffee-with-the-principal/
LOCATION:Mesa Campus\, 7301 E. Baseline Road\, Mesa\, AZ\, 85209\, United States
CATEGORIES:General
END:VEVENT
BEGIN:VEVENT
DTSTART;TZID=UTC:20200123T090000
DTEND;TZID=UTC:20200123T093000
DTSTAMP:20260420T203849
CREATED:20200101T014442Z
LAST-MODIFIED:20200101T014442Z
UID:6319-1579770000-1579771800@www.noahwebster.org
SUMMARY:PIMA Coffee with the Principal
DESCRIPTION:
URL:https://www.noahwebster.org/event/pima-coffee-with-the-principal/
CATEGORIES:General
END:VEVENT
BEGIN:VEVENT
DTSTART;VALUE=DATE:20200127
DTEND;VALUE=DATE:20200128
DTSTAMP:20260420T203849
CREATED:20200101T011738Z
LAST-MODIFIED:20200101T011738Z
UID:6307-1580083200-1580169599@www.noahwebster.org
SUMMARY:MESA Spring Pictures (1 of 2)
DESCRIPTION:Please note: There is no absentee/make-up day for Spring Pictures.
URL:https://www.noahwebster.org/event/mesa-spring-pictures-2-of-2/
LOCATION:Mesa Campus\, 7301 E. Baseline Road\, Mesa\, AZ\, 85209\, United States
CATEGORIES:General
END:VEVENT
BEGIN:VEVENT
DTSTART;TZID=UTC:20200127T183000
DTEND;TZID=UTC:20200127T191500
DTSTAMP:20260420T203849
CREATED:20200101T011129Z
LAST-MODIFIED:20200101T011129Z
UID:6304-1580149800-1580152500@www.noahwebster.org
SUMMARY:MESA 6th Grade Showcase Night
DESCRIPTION:
URL:https://www.noahwebster.org/event/mesa-6th-grade-showcase-night-4/
LOCATION:Mesa Campus\, 7301 E. Baseline Road\, Mesa\, AZ\, 85209\, United States
CATEGORIES:School Activity
END:VEVENT
BEGIN:VEVENT
DTSTART;VALUE=DATE:20200128
DTEND;VALUE=DATE:20200129
DTSTAMP:20260420T203849
CREATED:20200101T011537Z
LAST-MODIFIED:20200101T011537Z
UID:6305-1580169600-1580255999@www.noahwebster.org
SUMMARY:MESA Spring Pictures (2 of 2)
DESCRIPTION:Please note: There is no absentee/make up day for Spring Pictures.
URL:https://www.noahwebster.org/event/mesa-spring-pictures-1-of-2/
LOCATION:Mesa Campus\, 7301 E. Baseline Road\, Mesa\, AZ\, 85209\, United States
CATEGORIES:General
END:VEVENT
BEGIN:VEVENT
DTSTART;TZID=America/Phoenix:20200128T090000
DTEND;TZID=America/Phoenix:20200128T113000
DTSTAMP:20260420T203849
CREATED:20200221T213453Z
LAST-MODIFIED:20200221T213453Z
UID:6738-1580202000-1580211000@www.noahwebster.org
SUMMARY:PIMA 5th/6th Grade Field Trip
DESCRIPTION:Arizona Mobile Education: Plant Growth
URL:https://www.noahwebster.org/event/pima-5th-6th-grade-field-trip/
LOCATION:Pima Campus\, 5399 N. Pima Road\, Scottsdale\, AZ\, 85250\, United States
CATEGORIES:Field Trip
END:VEVENT
BEGIN:VEVENT
DTSTART;VALUE=DATE:20200129
DTEND;VALUE=DATE:20200130
DTSTAMP:20260420T203849
CREATED:20200101T011639Z
LAST-MODIFIED:20200101T011639Z
UID:6306-1580256000-1580342399@www.noahwebster.org
SUMMARY:MESA Professional Development Day (Early Dismissal)
DESCRIPTION:
URL:https://www.noahwebster.org/event/mesa-professional-development-day-early-dismissal-22/
LOCATION:Mesa Campus\, 7301 E. Baseline Road\, Mesa\, AZ\, 85209\, United States
CATEGORIES:Early Dismissal
END:VEVENT
BEGIN:VEVENT
DTSTART;VALUE=DATE:20200129
DTEND;VALUE=DATE:20200130
DTSTAMP:20260420T203849
CREATED:20200101T014844Z
LAST-MODIFIED:20200101T014844Z
UID:6187-1580256000-1580342399@www.noahwebster.org
SUMMARY:PIMA Professional Development Day (Early Dismissal)
DESCRIPTION:
URL:https://www.noahwebster.org/event/pima-professional-development-day-early-dismissal-32/
CATEGORIES:Early Dismissal
END:VEVENT
BEGIN:VEVENT
DTSTART;TZID=UTC:20200129T100000
DTEND;TZID=UTC:20200129T100000
DTSTAMP:20260420T203849
CREATED:20200101T003104Z
LAST-MODIFIED:20200101T003104Z
UID:6286-1580292000-1580292000@www.noahwebster.org
SUMMARY:MESA Tour with the Principal
DESCRIPTION:Come take a tour of the campus\, interact with the Principal and receive Admission information. If you are unavailable at 10:00 a.m.\, please check our calendar for upcoming Open Campus Nights.
URL:https://www.noahwebster.org/event/mesa-tour-with-the-principal-4/
LOCATION:Mesa Campus\, 7301 E. Baseline Road\, Mesa\, AZ\, 85209\, United States
CATEGORIES:General
END:VEVENT
END:VCALENDAR