BEGIN:VCALENDAR
VERSION:2.0
PRODID:-//Noah Webster - ECPv6.15.20//NONSGML v1.0//EN
CALSCALE:GREGORIAN
METHOD:PUBLISH
X-ORIGINAL-URL:https://www.noahwebster.org
X-WR-CALDESC:Events for Noah Webster
REFRESH-INTERVAL;VALUE=DURATION:PT1H
X-Robots-Tag:noindex
X-PUBLISHED-TTL:PT1H
BEGIN:VTIMEZONE
TZID:America/Phoenix
BEGIN:STANDARD
TZOFFSETFROM:-0700
TZOFFSETTO:-0700
TZNAME:MST
DTSTART:20250101T000000
END:STANDARD
END:VTIMEZONE
BEGIN:VEVENT
DTSTART;VALUE=DATE:20260106
DTEND;VALUE=DATE:20260107
DTSTAMP:20260420T032851
CREATED:20250916T203831Z
LAST-MODIFIED:20250918T205414Z
UID:11138-1767657600-1767743999@www.noahwebster.org
SUMMARY:After School Programs: Session 4 Begins
DESCRIPTION:
URL:https://www.noahwebster.org/event/after-school-programs-session-4-begins-4/
LOCATION:AZ
CATEGORIES:After School Program
END:VEVENT
BEGIN:VEVENT
DTSTART;VALUE=DATE:20260107
DTEND;VALUE=DATE:20260108
DTSTAMP:20260420T032851
CREATED:20250624T203534Z
LAST-MODIFIED:20250918T205421Z
UID:10903-1767744000-1767830399@www.noahwebster.org
SUMMARY:MESA Professional Development (Early Dismissal)
DESCRIPTION:
URL:https://www.noahwebster.org/event/mesa-professional-development-early-dismissal-39/
LOCATION:Mesa Campus\, 7301 E. Baseline Road\, Mesa\, AZ\, 85209\, United States
CATEGORIES:Early Dismissal
END:VEVENT
BEGIN:VEVENT
DTSTART;VALUE=DATE:20260107
DTEND;VALUE=DATE:20260108
DTSTAMP:20260420T032851
CREATED:20250624T203558Z
LAST-MODIFIED:20250918T205424Z
UID:10904-1767744000-1767830399@www.noahwebster.org
SUMMARY:PIMA Professional Development (Early Dismissal)
DESCRIPTION:
URL:https://www.noahwebster.org/event/pima-professional-development-early-dismissal-38/
LOCATION:Pima Campus\, 5399 N. Pima Road\, Scottsdale\, AZ\, 85250\, United States
CATEGORIES:Early Dismissal
END:VEVENT
BEGIN:VEVENT
DTSTART;VALUE=DATE:20260112
DTEND;VALUE=DATE:20260117
DTSTAMP:20260420T032851
CREATED:20250916T204525Z
LAST-MODIFIED:20250918T205433Z
UID:11141-1768176000-1768607999@www.noahwebster.org
SUMMARY:MESA Spirit Week
DESCRIPTION:
URL:https://www.noahwebster.org/event/mesa-spirit-week-30/
LOCATION:Mesa Campus\, 7301 E. Baseline Road\, Mesa\, AZ\, 85209\, United States
CATEGORIES:School Activity
END:VEVENT
BEGIN:VEVENT
DTSTART;VALUE=DATE:20260112
DTEND;VALUE=DATE:20260117
DTSTAMP:20260420T032851
CREATED:20250916T204559Z
LAST-MODIFIED:20250918T205436Z
UID:11142-1768176000-1768607999@www.noahwebster.org
SUMMARY:PIMA Spirit Week
DESCRIPTION:
URL:https://www.noahwebster.org/event/pima-spirit-week-32/
LOCATION:Pima Campus\, 5399 N. Pima Road\, Scottsdale\, AZ\, 85250\, United States
CATEGORIES:School Activity
END:VEVENT
BEGIN:VEVENT
DTSTART;TZID=America/Phoenix:20260113T094000
DTEND;TZID=America/Phoenix:20260113T121500
DTSTAMP:20260420T032851
CREATED:20260108T170534Z
LAST-MODIFIED:20260108T170534Z
UID:11408-1768297200-1768306500@www.noahwebster.org
SUMMARY:PIMA 3rd/4th Gr Field Trip
DESCRIPTION:Butterfly Wonderland
URL:https://www.noahwebster.org/event/pima-3rd-4th-gr-field-trip-2/
LOCATION:Butterfly Wonderland\, 9500 East Vía de Ventura\, Scottsdale\, AZ\, 85256\, United States
CATEGORIES:Field Trip
END:VEVENT
BEGIN:VEVENT
DTSTART;TZID=America/Phoenix:20260113T180000
DTEND;TZID=America/Phoenix:20260113T190000
DTSTAMP:20260420T032851
CREATED:20250916T200913Z
LAST-MODIFIED:20251028T174517Z
UID:11120-1768327200-1768330800@www.noahwebster.org
SUMMARY:MESA Spelling Bee: Semi-Finals
DESCRIPTION:
URL:https://www.noahwebster.org/event/mesa-semi-finals-spelling-bee/
LOCATION:Mesa Campus\, 7301 E. Baseline Road\, Mesa\, AZ\, 85209\, United States
CATEGORIES:School Activity
END:VEVENT
BEGIN:VEVENT
DTSTART;TZID=America/Phoenix:20260113T180000
DTEND;TZID=America/Phoenix:20260113T190000
DTSTAMP:20260420T032851
CREATED:20250916T201048Z
LAST-MODIFIED:20251028T174610Z
UID:11121-1768327200-1768330800@www.noahwebster.org
SUMMARY:PIMA Spelling Bee: Semi-Finals
DESCRIPTION:
URL:https://www.noahwebster.org/event/pima-spelling-bee-semi-finals-8/
LOCATION:Pima Campus\, 5399 N. Pima Road\, Scottsdale\, AZ\, 85250\, United States
CATEGORIES:School Activity
END:VEVENT
BEGIN:VEVENT
DTSTART;TZID=America/Phoenix:20260114T173000
DTEND;TZID=America/Phoenix:20260114T183000
DTSTAMP:20260420T032851
CREATED:20260108T165006Z
LAST-MODIFIED:20260108T165258Z
UID:11404-1768411800-1768415400@www.noahwebster.org
SUMMARY:Leman Academy Family Welcome Night
DESCRIPTION:
URL:https://www.noahwebster.org/event/leman-academy-family-welcome-night/
LOCATION:Mesa Campus\, 7301 E. Baseline Road\, Mesa\, AZ\, 85209\, United States
CATEGORIES:General
END:VEVENT
BEGIN:VEVENT
DTSTART;TZID=America/Phoenix:20260115T180000
DTEND;TZID=America/Phoenix:20260115T190000
DTSTAMP:20260420T032851
CREATED:20250916T201153Z
LAST-MODIFIED:20251028T174639Z
UID:11122-1768500000-1768503600@www.noahwebster.org
SUMMARY:NWS Spelling Bee: Finals
DESCRIPTION:The Spelling Bee Finals will take place at Noah Webster Schools-Pima.
URL:https://www.noahwebster.org/event/nws-spelling-bee-finals/
LOCATION:Pima Campus\, 5399 N. Pima Road\, Scottsdale\, AZ\, 85250\, United States
CATEGORIES:School Activity
END:VEVENT
BEGIN:VEVENT
DTSTART;TZID=America/Phoenix:20260116T083000
DTEND;TZID=America/Phoenix:20260116T090000
DTSTAMP:20260420T032851
CREATED:20250916T204702Z
LAST-MODIFIED:20250918T205444Z
UID:11143-1768552200-1768554000@www.noahwebster.org
SUMMARY:MESA Pep Assembly (PK-3rd Grade)
DESCRIPTION:
URL:https://www.noahwebster.org/event/mesa-pep-assembly-pk-3rd-grade-6/
LOCATION:Mesa Campus\, 7301 E. Baseline Road\, Mesa\, AZ\, 85209\, United States
CATEGORIES:General
END:VEVENT
BEGIN:VEVENT
DTSTART;TZID=America/Phoenix:20260116T133000
DTEND;TZID=America/Phoenix:20260116T141500
DTSTAMP:20260420T032851
CREATED:20250916T204806Z
LAST-MODIFIED:20250918T205448Z
UID:11144-1768570200-1768572900@www.noahwebster.org
SUMMARY:PIMA Pep Assembly (PK-3rd Grade)
DESCRIPTION:
URL:https://www.noahwebster.org/event/pima-pep-assembly-pk-3rd-grade-5/
LOCATION:Pima Campus\, 5399 N. Pima Road\, Scottsdale\, AZ\, 85250\, United States
CATEGORIES:General
END:VEVENT
BEGIN:VEVENT
DTSTART;VALUE=DATE:20260119
DTEND;VALUE=DATE:20260120
DTSTAMP:20260420T032851
CREATED:20250624T203634Z
LAST-MODIFIED:20250918T205456Z
UID:10905-1768780800-1768867199@www.noahwebster.org
SUMMARY:Civil Rights Day (No School)
DESCRIPTION:
URL:https://www.noahwebster.org/event/civil-rights-day-no-school-4/
LOCATION:AZ
CATEGORIES:Holiday
END:VEVENT
BEGIN:VEVENT
DTSTART;TZID=America/Phoenix:20260120T100000
DTEND;TZID=America/Phoenix:20260120T140000
DTSTAMP:20260420T032851
CREATED:20260106T212943Z
LAST-MODIFIED:20260106T212954Z
UID:11400-1768903200-1768917600@www.noahwebster.org
SUMMARY:MESA KG Field Trip
DESCRIPTION:McCormick Railroad Park
URL:https://www.noahwebster.org/event/mesa-kg-field-trip-11/
LOCATION:McCormick Train Park
CATEGORIES:Field Trip
END:VEVENT
BEGIN:VEVENT
DTSTART;TZID=America/Phoenix:20260120T100000
DTEND;TZID=America/Phoenix:20260120T140000
DTSTAMP:20260420T032851
CREATED:20260108T165513Z
LAST-MODIFIED:20260108T165513Z
UID:11406-1768903200-1768917600@www.noahwebster.org
SUMMARY:PIMA KG Field Trip
DESCRIPTION:McCormick Railroad Park
URL:https://www.noahwebster.org/event/pima-kg-field-trip-12/
LOCATION:McCormick Train Park
CATEGORIES:Field Trip
END:VEVENT
BEGIN:VEVENT
DTSTART;VALUE=DATE:20260121
DTEND;VALUE=DATE:20260122
DTSTAMP:20260420T032851
CREATED:20250624T203710Z
LAST-MODIFIED:20250918T205503Z
UID:10906-1768953600-1769039999@www.noahwebster.org
SUMMARY:MESA Professional Development (Early Dismissal)
DESCRIPTION:
URL:https://www.noahwebster.org/event/mesa-professional-development-early-dismissal-40/
LOCATION:Mesa Campus\, 7301 E. Baseline Road\, Mesa\, AZ\, 85209\, United States
CATEGORIES:Early Dismissal
END:VEVENT
BEGIN:VEVENT
DTSTART;VALUE=DATE:20260121
DTEND;VALUE=DATE:20260122
DTSTAMP:20260420T032851
CREATED:20250624T203754Z
LAST-MODIFIED:20250918T205517Z
UID:10907-1768953600-1769039999@www.noahwebster.org
SUMMARY:PIMA Professional Development (Early Dismissal)
DESCRIPTION:
URL:https://www.noahwebster.org/event/pima-professional-development-early-dismissal-39/
LOCATION:Pima Campus\, 5399 N. Pima Road\, Scottsdale\, AZ\, 85250\, United States
CATEGORIES:Early Dismissal
END:VEVENT
BEGIN:VEVENT
DTSTART;TZID=America/Phoenix:20260121T173000
DTEND;TZID=America/Phoenix:20260121T193000
DTSTAMP:20260420T032851
CREATED:20250916T205248Z
LAST-MODIFIED:20250918T205524Z
UID:11149-1769016600-1769023800@www.noahwebster.org
SUMMARY:PIMA Showcase Night (KG-8th Grades)
DESCRIPTION:
URL:https://www.noahwebster.org/event/pima-showcase-night-kg-8th-grades/
LOCATION:Pima Campus\, 5399 N. Pima Road\, Scottsdale\, AZ\, 85250\, United States
CATEGORIES:School Activity
END:VEVENT
BEGIN:VEVENT
DTSTART;TZID=America/Phoenix:20260121T180000
DTEND;TZID=America/Phoenix:20260121T183000
DTSTAMP:20260420T032851
CREATED:20251104T182651Z
LAST-MODIFIED:20251104T182651Z
UID:11334-1769018400-1769020200@www.noahwebster.org
SUMMARY:MESA Scouting America Night
DESCRIPTION:
URL:https://www.noahwebster.org/event/mesa-scouting-america-night/
LOCATION:Mesa Campus\, 7301 E. Baseline Road\, Mesa\, AZ\, 85209\, United States
CATEGORIES:General
END:VEVENT
BEGIN:VEVENT
DTSTART;TZID=America/Phoenix:20260122T085000
DTEND;TZID=America/Phoenix:20260122T140000
DTSTAMP:20260420T032851
CREATED:20260106T212849Z
LAST-MODIFIED:20260106T212849Z
UID:11399-1769071800-1769090400@www.noahwebster.org
SUMMARY:MESA 6th Gr Field Trip
DESCRIPTION:ASU Gammage
URL:https://www.noahwebster.org/event/mesa-6th-gr-field-trip-10/
LOCATION:Arizona State University
CATEGORIES:Field Trip
END:VEVENT
BEGIN:VEVENT
DTSTART;TZID=America/Phoenix:20260123T083000
DTEND;TZID=America/Phoenix:20260123T090000
DTSTAMP:20260420T032851
CREATED:20250916T204851Z
LAST-MODIFIED:20250918T205534Z
UID:11145-1769157000-1769158800@www.noahwebster.org
SUMMARY:MESA Pep Assembly (4th-8th Grade)
DESCRIPTION:
URL:https://www.noahwebster.org/event/mesa-pep-assembly-4th-8th-grade-5/
LOCATION:Mesa Campus\, 7301 E. Baseline Road\, Mesa\, AZ\, 85209\, United States
CATEGORIES:General
END:VEVENT
BEGIN:VEVENT
DTSTART;TZID=America/Phoenix:20260123T133000
DTEND;TZID=America/Phoenix:20260123T141500
DTSTAMP:20260420T032851
CREATED:20250916T205003Z
LAST-MODIFIED:20250918T205539Z
UID:11146-1769175000-1769177700@www.noahwebster.org
SUMMARY:PIMA Pep Assembly (4th-8th Grade)
DESCRIPTION:
URL:https://www.noahwebster.org/event/pima-pep-assembly-4th-8th-grade-6/
LOCATION:Pima Campus\, 5399 N. Pima Road\, Scottsdale\, AZ\, 85250\, United States
CATEGORIES:General
END:VEVENT
BEGIN:VEVENT
DTSTART;TZID=America/Phoenix:20260203T090000
DTEND;TZID=America/Phoenix:20260203T140000
DTSTAMP:20260420T032851
CREATED:20251113T214527Z
LAST-MODIFIED:20251113T214527Z
UID:11355-1770109200-1770127200@www.noahwebster.org
SUMMARY:PIMA 1st Gr Field Trip
DESCRIPTION:Phoenix Zoo
URL:https://www.noahwebster.org/event/pima-1st-gr-field-trip-11/
LOCATION:Phoenix Zoo
CATEGORIES:Field Trip
END:VEVENT
BEGIN:VEVENT
DTSTART;VALUE=DATE:20260204
DTEND;VALUE=DATE:20260205
DTSTAMP:20260420T032851
CREATED:20250624T204211Z
LAST-MODIFIED:20250624T204211Z
UID:10908-1770163200-1770249599@www.noahwebster.org
SUMMARY:MESA Professional Development (Early Dismissal)
DESCRIPTION:
URL:https://www.noahwebster.org/event/mesa-professional-development-early-dismissal-41/
LOCATION:Mesa Campus\, 7301 E. Baseline Road\, Mesa\, AZ\, 85209\, United States
CATEGORIES:Early Dismissal
END:VEVENT
BEGIN:VEVENT
DTSTART;VALUE=DATE:20260204
DTEND;VALUE=DATE:20260205
DTSTAMP:20260420T032851
CREATED:20250624T204259Z
LAST-MODIFIED:20250624T204259Z
UID:10909-1770163200-1770249599@www.noahwebster.org
SUMMARY:PIMA Professional Development (Early Dismissal)
DESCRIPTION:
URL:https://www.noahwebster.org/event/pima-professional-development-early-dismissal-40/
LOCATION:Pima Campus\, 5399 N. Pima Road\, Scottsdale\, AZ\, 85250\, United States
CATEGORIES:Early Dismissal
END:VEVENT
BEGIN:VEVENT
DTSTART;TZID=America/Phoenix:20260205T163000
DTEND;TZID=America/Phoenix:20260205T163000
DTSTAMP:20260420T032851
CREATED:20260203T153900Z
LAST-MODIFIED:20260203T153900Z
UID:11440-1770309000-1770309000@www.noahwebster.org
SUMMARY:NWS-Mesa Board Meeting
DESCRIPTION:Please click HERE to view the Board Meeting Notification and Agenda.  This meeting will be held virtually.
URL:https://www.noahwebster.org/event/nws-mesa-board-meeting-87/
LOCATION:AZ
CATEGORIES:General
END:VEVENT
BEGIN:VEVENT
DTSTART;TZID=America/Phoenix:20260205T163000
DTEND;TZID=America/Phoenix:20260205T163000
DTSTAMP:20260420T032851
CREATED:20260203T153947Z
LAST-MODIFIED:20260203T153947Z
UID:11441-1770309000-1770309000@www.noahwebster.org
SUMMARY:NWS-Pima Board Meeting
DESCRIPTION:Please click HERE to view the Board Meeting Notification and Agenda.  This meeting will be held virtually.
URL:https://www.noahwebster.org/event/nws-pima-board-meeting-94/
LOCATION:AZ
CATEGORIES:General
END:VEVENT
BEGIN:VEVENT
DTSTART;TZID=America/Phoenix:20260206T083000
DTEND;TZID=America/Phoenix:20260206T090000
DTSTAMP:20260420T032851
CREATED:20250916T205611Z
LAST-MODIFIED:20250916T205611Z
UID:11150-1770366600-1770368400@www.noahwebster.org
SUMMARY:MESA Pep Assembly (PK-3rd Grade)
DESCRIPTION:
URL:https://www.noahwebster.org/event/mesa-pep-assembly-pk-3rd-grade-7/
LOCATION:Mesa Campus\, 7301 E. Baseline Road\, Mesa\, AZ\, 85209\, United States
CATEGORIES:General
END:VEVENT
BEGIN:VEVENT
DTSTART;TZID=America/Phoenix:20260206T133000
DTEND;TZID=America/Phoenix:20260206T141500
DTSTAMP:20260420T032851
CREATED:20250916T205705Z
LAST-MODIFIED:20250916T205705Z
UID:11151-1770384600-1770387300@www.noahwebster.org
SUMMARY:PIMA Pep Assembly (PK-3rd Grade)
DESCRIPTION:
URL:https://www.noahwebster.org/event/pima-pep-assembly-pk-3rd-grade-6/
LOCATION:Pima Campus\, 5399 N. Pima Road\, Scottsdale\, AZ\, 85250\, United States
CATEGORIES:General
END:VEVENT
BEGIN:VEVENT
DTSTART;TZID=America/Phoenix:20260212T130000
DTEND;TZID=America/Phoenix:20260212T170000
DTSTAMP:20260420T032851
CREATED:20250624T204431Z
LAST-MODIFIED:20250624T204431Z
UID:10910-1770901200-1770915600@www.noahwebster.org
SUMMARY:MESA Parent Teacher Conferences (Early Dismissal)
DESCRIPTION:
URL:https://www.noahwebster.org/event/mesa-parent-teacher-conferences-early-dismissal-27/
LOCATION:Mesa Campus\, 7301 E. Baseline Road\, Mesa\, AZ\, 85209\, United States
CATEGORIES:Early Dismissal
END:VEVENT
END:VCALENDAR