BEGIN:VCALENDAR
VERSION:2.0
PRODID:-//Noah Webster - ECPv6.15.20//NONSGML v1.0//EN
CALSCALE:GREGORIAN
METHOD:PUBLISH
X-ORIGINAL-URL:https://www.noahwebster.org
X-WR-CALDESC:Events for Noah Webster
REFRESH-INTERVAL;VALUE=DURATION:PT1H
X-Robots-Tag:noindex
X-PUBLISHED-TTL:PT1H
BEGIN:VTIMEZONE
TZID:America/Phoenix
BEGIN:STANDARD
TZOFFSETFROM:-0700
TZOFFSETTO:-0700
TZNAME:MST
DTSTART:20240101T000000
END:STANDARD
END:VTIMEZONE
BEGIN:VEVENT
DTSTART;VALUE=DATE:20251015
DTEND;VALUE=DATE:20251016
DTSTAMP:20260423T114545
CREATED:20250624T195207Z
LAST-MODIFIED:20250925T184201Z
UID:10880-1760486400-1760572799@www.noahwebster.org
SUMMARY:MESA Professional Development (Early Dismissal)
DESCRIPTION:
URL:https://www.noahwebster.org/event/mesa-professional-development-early-dismissal-33/
LOCATION:Mesa Campus\, 7301 E. Baseline Road\, Mesa\, AZ\, 85209\, United States
CATEGORIES:Early Dismissal
END:VEVENT
BEGIN:VEVENT
DTSTART;VALUE=DATE:20251015
DTEND;VALUE=DATE:20251016
DTSTAMP:20260423T114545
CREATED:20250624T195316Z
LAST-MODIFIED:20250925T184205Z
UID:10881-1760486400-1760572799@www.noahwebster.org
SUMMARY:PIMA Professional Development (Early Dismissal)
DESCRIPTION:
URL:https://www.noahwebster.org/event/pima-professional-development-early-dismissal-32/
LOCATION:Pima Campus\, 5399 N. Pima Road\, Scottsdale\, AZ\, 85250\, United States
CATEGORIES:Early Dismissal
END:VEVENT
BEGIN:VEVENT
DTSTART;TZID=America/Phoenix:20251016T084500
DTEND;TZID=America/Phoenix:20251016T140000
DTSTAMP:20260423T114545
CREATED:20250903T210335Z
LAST-MODIFIED:20250925T184306Z
UID:11107-1760604300-1760623200@www.noahwebster.org
SUMMARY:MESA 4th Gr Field Trip
DESCRIPTION:Jake’s Unlimited
URL:https://www.noahwebster.org/event/mesa-4th-gr-field-trip-13/
LOCATION:Jake’s Unlimited
CATEGORIES:Field Trip
END:VEVENT
BEGIN:VEVENT
DTSTART;VALUE=DATE:20251017
DTEND;VALUE=DATE:20251018
DTSTAMP:20260423T114545
CREATED:20250806T224816Z
LAST-MODIFIED:20250911T225049Z
UID:11016-1760659200-1760745599@www.noahwebster.org
SUMMARY:PIMA Fall Picture Day
DESCRIPTION:
URL:https://www.noahwebster.org/event/pima-fall-picture-day-3/
LOCATION:Pima Campus\, 5399 N. Pima Road\, Scottsdale\, AZ\, 85250\, United States
CATEGORIES:General
END:VEVENT
BEGIN:VEVENT
DTSTART;TZID=America/Phoenix:20251017T083000
DTEND;TZID=America/Phoenix:20251017T090000
DTSTAMP:20260423T114545
CREATED:20250806T224933Z
LAST-MODIFIED:20250911T225056Z
UID:11017-1760689800-1760691600@www.noahwebster.org
SUMMARY:MESA Pep Assembly (PK-3rd Grade)
DESCRIPTION:
URL:https://www.noahwebster.org/event/mesa-pep-assembly-pk-3rd-grade-3/
LOCATION:Mesa Campus\, 7301 E. Baseline Road\, Mesa\, AZ\, 85209\, United States
CATEGORIES:General
END:VEVENT
BEGIN:VEVENT
DTSTART;TZID=America/Phoenix:20251017T133000
DTEND;TZID=America/Phoenix:20251017T141500
DTSTAMP:20260423T114545
CREATED:20250806T225026Z
LAST-MODIFIED:20250911T225104Z
UID:11018-1760707800-1760710500@www.noahwebster.org
SUMMARY:PIMA Pep Assembly (PK-3rd Grade)
DESCRIPTION:
URL:https://www.noahwebster.org/event/pima-pep-assembly-4th-8th-grade-3/
LOCATION:Pima Campus\, 5399 N. Pima Road\, Scottsdale\, AZ\, 85250\, United States
CATEGORIES:General
END:VEVENT
BEGIN:VEVENT
DTSTART;TZID=America/Phoenix:20251022T084500
DTEND;TZID=America/Phoenix:20251022T133000
DTSTAMP:20260423T114545
CREATED:20250918T203031Z
LAST-MODIFIED:20250925T184327Z
UID:11192-1761122700-1761139800@www.noahwebster.org
SUMMARY:MESA 2nd Gr Field Trip
DESCRIPTION:AZ Science Center
URL:https://www.noahwebster.org/event/mesa-2nd-gr-field-trip-9/
LOCATION:Arizona Science Center
CATEGORIES:Field Trip
END:VEVENT
BEGIN:VEVENT
DTSTART;TZID=America/Phoenix:20251023T130000
DTEND;TZID=America/Phoenix:20251023T170000
DTSTAMP:20260423T114545
CREATED:20250624T195449Z
LAST-MODIFIED:20250911T225120Z
UID:10882-1761224400-1761238800@www.noahwebster.org
SUMMARY:MESA Parent Teacher Conferences (Early Dismissal)
DESCRIPTION:
URL:https://www.noahwebster.org/event/mesa-parent-teacher-conferences-early-dismissal-25/
LOCATION:Mesa Campus\, 7301 E. Baseline Road\, Mesa\, AZ\, 85209\, United States
CATEGORIES:Early Dismissal
END:VEVENT
BEGIN:VEVENT
DTSTART;TZID=America/Phoenix:20251023T130000
DTEND;TZID=America/Phoenix:20251023T170000
DTSTAMP:20260423T114545
CREATED:20250624T195655Z
LAST-MODIFIED:20250911T225125Z
UID:10884-1761224400-1761238800@www.noahwebster.org
SUMMARY:PIMA Parent Teacher Conferences (Early Dismissal)
DESCRIPTION:
URL:https://www.noahwebster.org/event/pima-parent-teacher-conferences-early-dismissal-27/
LOCATION:Pima Campus\, 5399 N. Pima Road\, Scottsdale\, AZ\, 85250\, United States
CATEGORIES:Early Dismissal
END:VEVENT
BEGIN:VEVENT
DTSTART;TZID=America/Phoenix:20251024T130000
DTEND;TZID=America/Phoenix:20251024T170000
DTSTAMP:20260423T114545
CREATED:20250624T195539Z
LAST-MODIFIED:20250911T225150Z
UID:10883-1761310800-1761325200@www.noahwebster.org
SUMMARY:MESA Parent Teacher Conferences (Early Dismissal)
DESCRIPTION:
URL:https://www.noahwebster.org/event/mesa-parent-teacher-conferences-early-dismissal-26/
LOCATION:Mesa Campus\, 7301 E. Baseline Road\, Mesa\, AZ\, 85209\, United States
CATEGORIES:Early Dismissal
END:VEVENT
BEGIN:VEVENT
DTSTART;TZID=America/Phoenix:20251024T130000
DTEND;TZID=America/Phoenix:20251024T170000
DTSTAMP:20260423T114545
CREATED:20250624T195737Z
LAST-MODIFIED:20250911T225155Z
UID:10885-1761310800-1761325200@www.noahwebster.org
SUMMARY:PIMA Parent Teacher Conferences (Early Dismissal)
DESCRIPTION:
URL:https://www.noahwebster.org/event/pima-parent-teacher-conferences-early-dismissal-28/
LOCATION:Pima Campus\, 5399 N. Pima Road\, Scottsdale\, AZ\, 85250\, United States
CATEGORIES:Early Dismissal
END:VEVENT
BEGIN:VEVENT
DTSTART;TZID=America/Phoenix:20251028T170000
DTEND;TZID=America/Phoenix:20251028T170000
DTSTAMP:20260423T114545
CREATED:20251027T202336Z
LAST-MODIFIED:20251027T202344Z
UID:11313-1761670800-1761670800@www.noahwebster.org
SUMMARY:MESA After Care Closes at 5:00 pm
DESCRIPTION:Please plan accordingly to avoid late pick up fees.
URL:https://www.noahwebster.org/event/mesa-after-care-closes-at-500-pm-4/
LOCATION:Mesa Campus\, 7301 E. Baseline Road\, Mesa\, AZ\, 85209\, United States
CATEGORIES:General
END:VEVENT
BEGIN:VEVENT
DTSTART;TZID=America/Phoenix:20251028T173000
DTEND;TZID=America/Phoenix:20251028T193000
DTSTAMP:20260423T114545
CREATED:20250806T230121Z
LAST-MODIFIED:20250806T230121Z
UID:11021-1761672600-1761679800@www.noahwebster.org
SUMMARY:MESA Boo Fest
DESCRIPTION:
URL:https://www.noahwebster.org/event/mesa-boo-fest-2/
LOCATION:Mesa Campus\, 7301 E. Baseline Road\, Mesa\, AZ\, 85209\, United States
CATEGORIES:School Activity
END:VEVENT
BEGIN:VEVENT
DTSTART;TZID=America/Phoenix:20251029T084500
DTEND;TZID=America/Phoenix:20251029T140000
DTSTAMP:20260423T114545
CREATED:20250911T223638Z
LAST-MODIFIED:20250925T184343Z
UID:11115-1761727500-1761746400@www.noahwebster.org
SUMMARY:MESA 3rd Gr Field Trip
DESCRIPTION:Butterfly Wonderland
URL:https://www.noahwebster.org/event/mesa-3rd-gr-field-trip-14/
LOCATION:Butterfly Wonderland\, 9500 East Vía de Ventura\, Scottsdale\, AZ\, 85256\, United States
CATEGORIES:Field Trip
END:VEVENT
BEGIN:VEVENT
DTSTART;TZID=America/Phoenix:20251029T170000
DTEND;TZID=America/Phoenix:20251029T170000
DTSTAMP:20260423T114545
CREATED:20251027T202420Z
LAST-MODIFIED:20251027T202420Z
UID:11314-1761757200-1761757200@www.noahwebster.org
SUMMARY:PIMA After Care Closes at 5:00 pm
DESCRIPTION:Please plan accordingly to avoid late pick up fees.
URL:https://www.noahwebster.org/event/pima-after-care-closes-at-500-pm-4/
LOCATION:Pima Campus\, 5399 N. Pima Road\, Scottsdale\, AZ\, 85250\, United States
CATEGORIES:General
END:VEVENT
BEGIN:VEVENT
DTSTART;TZID=America/Phoenix:20251029T173000
DTEND;TZID=America/Phoenix:20251029T193000
DTSTAMP:20260423T114545
CREATED:20250806T230159Z
LAST-MODIFIED:20250806T230159Z
UID:11022-1761759000-1761766200@www.noahwebster.org
SUMMARY:PIMA Boo Fest
DESCRIPTION:
URL:https://www.noahwebster.org/event/pima-boo-fest-2/
LOCATION:Pima Campus\, 5399 N. Pima Road\, Scottsdale\, AZ\, 85250\, United States
CATEGORIES:School Activity
END:VEVENT
BEGIN:VEVENT
DTSTART;TZID=America/Phoenix:20251030T103000
DTEND;TZID=America/Phoenix:20251030T140000
DTSTAMP:20260423T114545
CREATED:20250903T210452Z
LAST-MODIFIED:20250925T184353Z
UID:11108-1761820200-1761832800@www.noahwebster.org
SUMMARY:MESA KG Field Trip
DESCRIPTION:Organ Stop Pizza
URL:https://www.noahwebster.org/event/mesa-kg-field-trip-10/
LOCATION:Organ Stop Pizza
CATEGORIES:Field Trip
END:VEVENT
BEGIN:VEVENT
DTSTART;TZID=America/Phoenix:20251030T104500
DTEND;TZID=America/Phoenix:20251030T140000
DTSTAMP:20260423T114545
CREATED:20250903T210558Z
LAST-MODIFIED:20250903T210558Z
UID:11109-1761821100-1761832800@www.noahwebster.org
SUMMARY:PIMA KG Field Trip
DESCRIPTION:Organ Stop Pizza
URL:https://www.noahwebster.org/event/pima-kg-field-trip-11/
LOCATION:Organ Stop Pizza
CATEGORIES:Field Trip
END:VEVENT
BEGIN:VEVENT
DTSTART;TZID=America/Phoenix:20251031T083000
DTEND;TZID=America/Phoenix:20251031T090000
DTSTAMP:20260423T114545
CREATED:20250806T225109Z
LAST-MODIFIED:20251024T154607Z
UID:11019-1761899400-1761901200@www.noahwebster.org
SUMMARY:MESA Pep Assembly (4th-8th Grade)
DESCRIPTION:
URL:https://www.noahwebster.org/event/mesa-pep-assembly-4th-8th-grade-3/
LOCATION:Mesa Campus\, 7301 E. Baseline Road\, Mesa\, AZ\, 85209\, United States
CATEGORIES:General
END:VEVENT
BEGIN:VEVENT
DTSTART;TZID=America/Phoenix:20251031T083000
DTEND;TZID=America/Phoenix:20251031T090000
DTSTAMP:20260423T114545
CREATED:20250806T225149Z
LAST-MODIFIED:20251024T154951Z
UID:11020-1761899400-1761901200@www.noahwebster.org
SUMMARY:PIMA Pep Assembly (4th-8th Grade)
DESCRIPTION:
URL:https://www.noahwebster.org/event/pima-pep-assembly-4th-8th-grade-4/
LOCATION:Pima Campus\, 5399 N. Pima Road\, Scottsdale\, AZ\, 85250\, United States
CATEGORIES:General
END:VEVENT
BEGIN:VEVENT
DTSTART;VALUE=DATE:20251103
DTEND;VALUE=DATE:20251104
DTSTAMP:20260423T114545
CREATED:20250911T230928Z
LAST-MODIFIED:20250911T230928Z
UID:11118-1762128000-1762214399@www.noahwebster.org
SUMMARY:After School Programs: Session 3 Begins
DESCRIPTION:
URL:https://www.noahwebster.org/event/after-school-programs-session-3-begins-4/
LOCATION:AZ
CATEGORIES:After School Program
END:VEVENT
BEGIN:VEVENT
DTSTART;VALUE=DATE:20251103
DTEND;VALUE=DATE:20251108
DTSTAMP:20260423T114545
CREATED:20250911T230731Z
LAST-MODIFIED:20250911T230752Z
UID:11116-1762128000-1762559999@www.noahwebster.org
SUMMARY:MESA Spirit Week
DESCRIPTION:
URL:https://www.noahwebster.org/event/mesa-spirit-week-29/
LOCATION:Mesa Campus\, 7301 E. Baseline Road\, Mesa\, AZ\, 85209\, United States
CATEGORIES:School Activity
END:VEVENT
BEGIN:VEVENT
DTSTART;VALUE=DATE:20251103
DTEND;VALUE=DATE:20251108
DTSTAMP:20260423T114545
CREATED:20250911T230826Z
LAST-MODIFIED:20250911T230826Z
UID:11117-1762128000-1762559999@www.noahwebster.org
SUMMARY:PIMA Spirit Week
DESCRIPTION:
URL:https://www.noahwebster.org/event/pima-spirit-week-31/
LOCATION:Pima Campus\, 5399 N. Pima Road\, Scottsdale\, AZ\, 85250\, United States
CATEGORIES:School Activity
END:VEVENT
BEGIN:VEVENT
DTSTART;VALUE=DATE:20251105
DTEND;VALUE=DATE:20251106
DTSTAMP:20260423T114545
CREATED:20250624T195809Z
LAST-MODIFIED:20250925T184431Z
UID:10886-1762300800-1762387199@www.noahwebster.org
SUMMARY:MESA Professional Development (Early Dismissal)
DESCRIPTION:
URL:https://www.noahwebster.org/event/mesa-professional-development-early-dismissal-34/
LOCATION:Mesa Campus\, 7301 E. Baseline Road\, Mesa\, AZ\, 85209\, United States
CATEGORIES:Early Dismissal
END:VEVENT
BEGIN:VEVENT
DTSTART;VALUE=DATE:20251105
DTEND;VALUE=DATE:20251106
DTSTAMP:20260423T114545
CREATED:20250624T195905Z
LAST-MODIFIED:20250925T184442Z
UID:10888-1762300800-1762387199@www.noahwebster.org
SUMMARY:PIMA Professional Development (Early Dismissal)
DESCRIPTION:
URL:https://www.noahwebster.org/event/pima-professional-development-early-dismissal-33/
LOCATION:Pima Campus\, 5399 N. Pima Road\, Scottsdale\, AZ\, 85250\, United States
CATEGORIES:Early Dismissal
END:VEVENT
BEGIN:VEVENT
DTSTART;TZID=America/Phoenix:20251106T173000
DTEND;TZID=America/Phoenix:20251106T183000
DTSTAMP:20260423T114545
CREATED:20250911T231103Z
LAST-MODIFIED:20250925T184735Z
UID:11119-1762450200-1762453800@www.noahwebster.org
SUMMARY:MESA 3rd & 4th Gr Musical
DESCRIPTION:
URL:https://www.noahwebster.org/event/mesa-3rd-4th-gr-musical/
LOCATION:Mesa Campus\, 7301 E. Baseline Road\, Mesa\, AZ\, 85209\, United States
CATEGORIES:Music
END:VEVENT
BEGIN:VEVENT
DTSTART;TZID=America/Phoenix:20251107T083000
DTEND;TZID=America/Phoenix:20251107T090000
DTSTAMP:20260423T114545
CREATED:20250916T201642Z
LAST-MODIFIED:20250925T184802Z
UID:11126-1762504200-1762506000@www.noahwebster.org
SUMMARY:MESA Pep Assembly (PK-3rd Grade)
DESCRIPTION:
URL:https://www.noahwebster.org/event/mesa-pep-assembly-pk-3rd-grade-4/
LOCATION:Mesa Campus\, 7301 E. Baseline Road\, Mesa\, AZ\, 85209\, United States
CATEGORIES:General
END:VEVENT
BEGIN:VEVENT
DTSTART;TZID=America/Phoenix:20251107T133000
DTEND;TZID=America/Phoenix:20251107T141500
DTSTAMP:20260423T114545
CREATED:20250916T201722Z
LAST-MODIFIED:20250925T184805Z
UID:11127-1762522200-1762524900@www.noahwebster.org
SUMMARY:PIMA Pep Assembly (PK-3rd Grade)
DESCRIPTION:
URL:https://www.noahwebster.org/event/pima-pep-assembly-pk-3rd-grade-3/
LOCATION:Pima Campus\, 5399 N. Pima Road\, Scottsdale\, AZ\, 85250\, United States
CATEGORIES:General
END:VEVENT
BEGIN:VEVENT
DTSTART;VALUE=DATE:20251111
DTEND;VALUE=DATE:20251112
DTSTAMP:20260423T114545
CREATED:20250624T200026Z
LAST-MODIFIED:20250925T184629Z
UID:10890-1762819200-1762905599@www.noahwebster.org
SUMMARY:Veteran's Day (No School)
DESCRIPTION:
URL:https://www.noahwebster.org/event/veterans-day-no-school-5/
LOCATION:AZ
CATEGORIES:Holiday
END:VEVENT
BEGIN:VEVENT
DTSTART;TZID=America/Phoenix:20251112T091500
DTEND;TZID=America/Phoenix:20251112T133000
DTSTAMP:20260423T114545
CREATED:20251105T173613Z
LAST-MODIFIED:20251105T173613Z
UID:11335-1762938900-1762954200@www.noahwebster.org
SUMMARY:PIMA 1st/2nd Gr Field Trip
DESCRIPTION:Herberger Theater
URL:https://www.noahwebster.org/event/pima-1st-2nd-gr-field-trip/
LOCATION:Herberger Theater\, 222 East Monroe Street\, Phoenix\, AZ\, 85004\, United States
CATEGORIES:Field Trip
END:VEVENT
END:VCALENDAR