BEGIN:VCALENDAR
VERSION:2.0
PRODID:-//Noah Webster - ECPv6.15.20//NONSGML v1.0//EN
CALSCALE:GREGORIAN
METHOD:PUBLISH
X-ORIGINAL-URL:https://www.noahwebster.org
X-WR-CALDESC:Events for Noah Webster
REFRESH-INTERVAL;VALUE=DURATION:PT1H
X-Robots-Tag:noindex
X-PUBLISHED-TTL:PT1H
BEGIN:VTIMEZONE
TZID:UTC
BEGIN:STANDARD
TZOFFSETFROM:+0000
TZOFFSETTO:+0000
TZNAME:UTC
DTSTART:20190101T000000
END:STANDARD
END:VTIMEZONE
BEGIN:VTIMEZONE
TZID:America/Phoenix
BEGIN:STANDARD
TZOFFSETFROM:-0700
TZOFFSETTO:-0700
TZNAME:MST
DTSTART:20190101T000000
END:STANDARD
END:VTIMEZONE
BEGIN:VEVENT
DTSTART;VALUE=DATE:20200226
DTEND;VALUE=DATE:20200227
DTSTAMP:20260420T205500
CREATED:20200101T024427Z
LAST-MODIFIED:20200101T024427Z
UID:6336-1582675200-1582761599@www.noahwebster.org
SUMMARY:MESA Professional Development Day (Early Dismissal)
DESCRIPTION:
URL:https://www.noahwebster.org/event/mesa-professional-development-day-early-dismissal-23/
LOCATION:Mesa Campus\, 7301 E. Baseline Road\, Mesa\, AZ\, 85209\, United States
CATEGORIES:Early Dismissal
END:VEVENT
BEGIN:VEVENT
DTSTART;VALUE=DATE:20200226
DTEND;VALUE=DATE:20200227
DTSTAMP:20260420T205500
CREATED:20200101T024945Z
LAST-MODIFIED:20200101T024945Z
UID:6340-1582675200-1582761599@www.noahwebster.org
SUMMARY:PIMA Professional Development Day (Early Dismisal)
DESCRIPTION:
URL:https://www.noahwebster.org/event/pima-professional-development-day-early-dismisal/
CATEGORIES:Early Dismissal
END:VEVENT
BEGIN:VEVENT
DTSTART;TZID=UTC:20200226T070000
DTEND;TZID=UTC:20200226T080000
DTSTAMP:20260420T205500
CREATED:20200101T025313Z
LAST-MODIFIED:20200101T025313Z
UID:6342-1582700400-1582704000@www.noahwebster.org
SUMMARY:PIMA Dads & Donuts
DESCRIPTION:The event is divided by last name: A-L\nRemember to order your tickets in advance.
URL:https://www.noahwebster.org/event/pima-dads-donuts-3/
CATEGORIES:School Activity
END:VEVENT
BEGIN:VEVENT
DTSTART;TZID=UTC:20200226T100000
DTEND;TZID=UTC:20200226T100000
DTSTAMP:20260420T205500
CREATED:20200101T003707Z
LAST-MODIFIED:20200220T055342Z
UID:6288-1582711200-1582711200@www.noahwebster.org
SUMMARY:MESA Tour with the Principal
DESCRIPTION:Come take a tour of the campus\, interact with the Principal and receive Admission information. If you are unavailable at 10:00 a.m.\, please check our calendar for upcoming New Family Nights.
URL:https://www.noahwebster.org/event/mesa-tour-with-the-principal-8/
LOCATION:Mesa Campus\, 7301 E. Baseline Road\, Mesa\, AZ\, 85209\, United States
CATEGORIES:General
END:VEVENT
BEGIN:VEVENT
DTSTART;TZID=UTC:20200226T100000
DTEND;TZID=UTC:20200226T100000
DTSTAMP:20260420T205500
CREATED:20200101T004704Z
LAST-MODIFIED:20200220T055417Z
UID:6294-1582711200-1582711200@www.noahwebster.org
SUMMARY:PIMA Tour with the Principal
DESCRIPTION:Come take a tour of the campus\, interact with the Principal and receive Admission information. If you are unavailable at 10:00 a.m.\, please check our calendar for upcoming New Family Nights.
URL:https://www.noahwebster.org/event/pima-tour-with-the-principal-7/
CATEGORIES:General
END:VEVENT
BEGIN:VEVENT
DTSTART;TZID=UTC:20200227T070000
DTEND;TZID=UTC:20200227T080000
DTSTAMP:20260420T205500
CREATED:20200101T025433Z
LAST-MODIFIED:20200101T025433Z
UID:6343-1582786800-1582790400@www.noahwebster.org
SUMMARY:PIMA Dads & Donuts
DESCRIPTION:The event is divided by last name: M-Z\nRemember to order your tickets in advance.
URL:https://www.noahwebster.org/event/pima-dads-donuts-4/
CATEGORIES:School Activity
END:VEVENT
BEGIN:VEVENT
DTSTART;TZID=America/Phoenix:20200227T093000
DTEND;TZID=America/Phoenix:20200227T120000
DTSTAMP:20260420T205500
CREATED:20200221T213544Z
LAST-MODIFIED:20200221T213544Z
UID:6739-1582795800-1582804800@www.noahwebster.org
SUMMARY:PIMA 3rd Grade Field Trip
DESCRIPTION:Arizona Mobile Education: Arizona State Flag
URL:https://www.noahwebster.org/event/pima-3rd-grade-field-trip-5/
LOCATION:Pima Campus\, 5399 N. Pima Road\, Scottsdale\, AZ\, 85250\, United States
CATEGORIES:Field Trip
END:VEVENT
BEGIN:VEVENT
DTSTART;TZID=UTC:20200227T163000
DTEND;TZID=UTC:20200227T180000
DTSTAMP:20260420T205500
CREATED:20200101T025128Z
LAST-MODIFIED:20200220T054142Z
UID:6341-1582821000-1582826400@www.noahwebster.org
SUMMARY:PIMA New Family Night
DESCRIPTION:Come tour the school\, talk with administrators and receive admission information. If you can’t make it\, schedule a tour by calling 480-772-6149. \nNoah Webster Schools- Pima\n5399 N. Pima Road\nScottsdale\, AZ 85250\n480-291-6900
URL:https://www.noahwebster.org/event/pima-open-campus-night-43/
CATEGORIES:General
END:VEVENT
BEGIN:VEVENT
DTSTART;VALUE=DATE:20200228
DTEND;VALUE=DATE:20200229
DTSTAMP:20260420T205500
CREATED:20200101T024740Z
LAST-MODIFIED:20200101T024740Z
UID:6338-1582848000-1582934399@www.noahwebster.org
SUMMARY:MESA APEX Fun Run
DESCRIPTION:
URL:https://www.noahwebster.org/event/mesa-apex-fun-run/
LOCATION:Mesa Campus\, 7301 E. Baseline Road\, Mesa\, AZ\, 85209\, United States
CATEGORIES:School Activity
END:VEVENT
BEGIN:VEVENT
DTSTART;VALUE=DATE:20200228
DTEND;VALUE=DATE:20200229
DTSTAMP:20260420T205500
CREATED:20200101T025539Z
LAST-MODIFIED:20200101T025539Z
UID:6344-1582848000-1582934399@www.noahwebster.org
SUMMARY:PIMA APEX Fun Run
DESCRIPTION:
URL:https://www.noahwebster.org/event/pima-apex-fun-run/
CATEGORIES:School Activity
END:VEVENT
BEGIN:VEVENT
DTSTART;TZID=America/Phoenix:20200303T183000
DTEND;TZID=America/Phoenix:20200303T193000
DTSTAMP:20260420T205500
CREATED:20200220T060650Z
LAST-MODIFIED:20200220T060650Z
UID:6594-1583260200-1583263800@www.noahwebster.org
SUMMARY:MESA Science Fair
DESCRIPTION:
URL:https://www.noahwebster.org/event/mesa-science-fair-2/
LOCATION:Mesa Campus\, 7301 E. Baseline Road\, Mesa\, AZ\, 85209\, United States
CATEGORIES:School Activity
END:VEVENT
BEGIN:VEVENT
DTSTART;TZID=America/Phoenix:20200303T183000
DTEND;TZID=America/Phoenix:20200303T193000
DTSTAMP:20260420T205500
CREATED:20200220T061603Z
LAST-MODIFIED:20200220T061603Z
UID:6599-1583260200-1583263800@www.noahwebster.org
SUMMARY:PIMA Science Fair
DESCRIPTION:
URL:https://www.noahwebster.org/event/pima-science-fair-3/
LOCATION:Pima Campus\, 5399 N. Pima Road\, Scottsdale\, AZ\, 85250\, United States
CATEGORIES:School Activity
END:VEVENT
BEGIN:VEVENT
DTSTART;TZID=America/Phoenix:20200304T100000
DTEND;TZID=America/Phoenix:20200304T100000
DTSTAMP:20260420T205500
CREATED:20200220T055549Z
LAST-MODIFIED:20200220T055549Z
UID:6586-1583316000-1583316000@www.noahwebster.org
SUMMARY:Mesa Tour with the Principal
DESCRIPTION:Come take a tour of the campus\, interact with the Principal and receive Admission information. If you are unavailable at 10:00 a.m.\, please check our calendar for upcoming New Family Nights.
URL:https://www.noahwebster.org/event/mesa-tour-with-the-principal-9/
LOCATION:Mesa Campus\, 7301 E. Baseline Road\, Mesa\, AZ\, 85209\, United States
CATEGORIES:General
END:VEVENT
BEGIN:VEVENT
DTSTART;TZID=America/Phoenix:20200304T100000
DTEND;TZID=America/Phoenix:20200304T100000
DTSTAMP:20260420T205500
CREATED:20200220T060008Z
LAST-MODIFIED:20200220T060008Z
UID:6590-1583316000-1583316000@www.noahwebster.org
SUMMARY:PIMA Tour with the Principal
DESCRIPTION:Come take a tour of the campus\, interact with the Principal and receive Admission information. If you are unavailable at 10:00 a.m.\, please check our calendar for upcoming New Family Nights.
URL:https://www.noahwebster.org/event/pima-tour-with-the-principal-9/
LOCATION:Pima Campus\, 5399 N. Pima Road\, Scottsdale\, AZ\, 85250\, United States
CATEGORIES:General
END:VEVENT
BEGIN:VEVENT
DTSTART;TZID=America/Phoenix:20200304T183000
DTEND;TZID=America/Phoenix:20200304T193000
DTSTAMP:20260420T205500
CREATED:20200220T060932Z
LAST-MODIFIED:20200220T192703Z
UID:6596-1583346600-1583350200@www.noahwebster.org
SUMMARY:MESA 2nd Grade Musical (1 of 2)
DESCRIPTION:Classes Performing: Hein & Stiltner
URL:https://www.noahwebster.org/event/mesa-2nd-grade-musical-1-of-2-3/
LOCATION:Mesa Campus\, 7301 E. Baseline Road\, Mesa\, AZ\, 85209\, United States
CATEGORIES:Music
END:VEVENT
BEGIN:VEVENT
DTSTART;TZID=America/Phoenix:20200304T183000
DTEND;TZID=America/Phoenix:20200304T193000
DTSTAMP:20260420T205500
CREATED:20200220T061705Z
LAST-MODIFIED:20200220T061705Z
UID:6600-1583346600-1583350200@www.noahwebster.org
SUMMARY:PIMA 3rd Grade Musical
DESCRIPTION:
URL:https://www.noahwebster.org/event/pima-3rd-grade-musical-4/
LOCATION:Pima Campus\, 5399 N. Pima Road\, Scottsdale\, AZ\, 85250\, United States
CATEGORIES:Music
END:VEVENT
BEGIN:VEVENT
DTSTART;TZID=America/Phoenix:20200305T090000
DTEND;TZID=America/Phoenix:20200305T140000
DTSTAMP:20260420T205500
CREATED:20200220T061242Z
LAST-MODIFIED:20200220T061242Z
UID:6598-1583398800-1583416800@www.noahwebster.org
SUMMARY:MESA Kindergarten Field Trip
DESCRIPTION:Phoenix Zoo
URL:https://www.noahwebster.org/event/mesa-kindergarten-field-trip-6/
LOCATION:Phoenix Zoo
CATEGORIES:Field Trip
END:VEVENT
BEGIN:VEVENT
DTSTART;TZID=America/Phoenix:20200305T183000
DTEND;TZID=America/Phoenix:20200305T193000
DTSTAMP:20260420T205500
CREATED:20200220T061055Z
LAST-MODIFIED:20200220T192736Z
UID:6597-1583433000-1583436600@www.noahwebster.org
SUMMARY:MESA 2nd Grade Musical (2 of 2)
DESCRIPTION:Classes Performing: Mitchell & Thacker
URL:https://www.noahwebster.org/event/mesa-2nd-grade-musical-2-of-2-3/
LOCATION:Mesa Campus\, 7301 E. Baseline Road\, Mesa\, AZ\, 85209\, United States
CATEGORIES:Music
END:VEVENT
BEGIN:VEVENT
DTSTART;VALUE=DATE:20200309
DTEND;VALUE=DATE:20200314
DTSTAMP:20260420T205500
CREATED:20200220T193535Z
LAST-MODIFIED:20200220T193535Z
UID:6604-1583712000-1584143999@www.noahwebster.org
SUMMARY:MESA Spring Break (No School)
DESCRIPTION:
URL:https://www.noahwebster.org/event/mesa-spring-break-no-school-4/
LOCATION:Mesa Campus\, 7301 E. Baseline Road\, Mesa\, AZ\, 85209\, United States
CATEGORIES:Holiday
END:VEVENT
BEGIN:VEVENT
DTSTART;VALUE=DATE:20200309
DTEND;VALUE=DATE:20200314
DTSTAMP:20260420T205500
CREATED:20200220T193616Z
LAST-MODIFIED:20200220T193616Z
UID:6605-1583712000-1584143999@www.noahwebster.org
SUMMARY:PIMA Spring Break (No School)
DESCRIPTION:
URL:https://www.noahwebster.org/event/pima-spring-break-no-school-5/
LOCATION:Pima Campus\, 5399 N. Pima Road\, Scottsdale\, AZ\, 85250\, United States
CATEGORIES:Holiday
END:VEVENT
BEGIN:VEVENT
DTSTART;TZID=America/Phoenix:20200314T110000
DTEND;TZID=America/Phoenix:20200314T110000
DTSTAMP:20260420T205501
CREATED:20200314T185235Z
LAST-MODIFIED:20200316T184614Z
UID:6810-1584183600-1584183600@www.noahwebster.org
SUMMARY:NWS-Mesa Emergency Board Meeting
DESCRIPTION:Please click HERE to view the board meeting notification and agenda.
URL:https://www.noahwebster.org/event/nws-mesa-emergency-board-meeting/
LOCATION:Noah Webster Schools Corporate Offices\, 5399 N. Pima Road\, Scottsdale\, AZ\, 85250\, United States
CATEGORIES:General
END:VEVENT
BEGIN:VEVENT
DTSTART;TZID=America/Phoenix:20200314T110000
DTEND;TZID=America/Phoenix:20200314T110000
DTSTAMP:20260420T205501
CREATED:20200314T185438Z
LAST-MODIFIED:20200316T184532Z
UID:6811-1584183600-1584183600@www.noahwebster.org
SUMMARY:NWS-Pima Emergency Board Meeting
DESCRIPTION:Please click HERE to view the board meeting notification and agenda.
URL:https://www.noahwebster.org/event/nws-pima-emergency-board-meeting/
LOCATION:Noah Webster Schools Corporate Offices\, 5399 N. Pima Road\, Scottsdale\, AZ\, 85250\, United States
CATEGORIES:General
END:VEVENT
BEGIN:VEVENT
DTSTART;VALUE=DATE:20200316
DTEND;VALUE=DATE:20200522
DTSTAMP:20260420T205501
CREATED:20200315T174318Z
LAST-MODIFIED:20200401T215332Z
UID:6816-1584316800-1590105599@www.noahwebster.org
SUMMARY:NWS-Mesa School Closed
DESCRIPTION:Due to COVID-19\, Noah Webster Schools-Mesa is currently closed through the end of the 2019-2020 school year. \nTo view the School Closure Letter\, please click HERE. \n 
URL:https://www.noahwebster.org/event/mesa-school-closed/
LOCATION:Mesa Campus\, 7301 E. Baseline Road\, Mesa\, AZ\, 85209\, United States
CATEGORIES:General
END:VEVENT
BEGIN:VEVENT
DTSTART;VALUE=DATE:20200316
DTEND;VALUE=DATE:20200522
DTSTAMP:20260420T205501
CREATED:20200315T174459Z
LAST-MODIFIED:20200401T215358Z
UID:6817-1584316800-1590105599@www.noahwebster.org
SUMMARY:NWS-Pima School Closed
DESCRIPTION:Due to COVID-19\, Noah Webster Schools-Pima is currently closed through the end of the 2019-2020 school year. \nTo view the School Closure Letter\, please click HERE.
URL:https://www.noahwebster.org/event/nws-pima-school-closed/
LOCATION:Pima Campus\, 5399 N. Pima Road\, Scottsdale\, AZ\, 85250\, United States
CATEGORIES:General
END:VEVENT
BEGIN:VEVENT
DTSTART;TZID=America/Phoenix:20200320T130000
DTEND;TZID=America/Phoenix:20200320T130000
DTSTAMP:20260420T205501
CREATED:20200318T180524Z
LAST-MODIFIED:20200318T191825Z
UID:6840-1584709200-1584709200@www.noahwebster.org
SUMMARY:NWS-Mesa Emergency Board Meeting
DESCRIPTION:Please click HERE to view the Board Meeting Notification and Agenda.
URL:https://www.noahwebster.org/event/nws-mesa-emergency-board-meeting-2/
LOCATION:Noah Webster Schools Corporate Offices\, 5399 N. Pima Road\, Scottsdale\, AZ\, 85250\, United States
CATEGORIES:General
END:VEVENT
BEGIN:VEVENT
DTSTART;TZID=America/Phoenix:20200320T130000
DTEND;TZID=America/Phoenix:20200320T170000
DTSTAMP:20260420T205501
CREATED:20200318T180629Z
LAST-MODIFIED:20200318T191902Z
UID:6841-1584709200-1584723600@www.noahwebster.org
SUMMARY:NWS-Pima Emergency Board Meeting
DESCRIPTION:Please click HERE to view the Board Meeting Notification and Agenda.
URL:https://www.noahwebster.org/event/nws-pima-emergency-board-meeting-2/
LOCATION:Noah Webster Schools Corporate Offices\, 5399 N. Pima Road\, Scottsdale\, AZ\, 85250\, United States
CATEGORIES:General
END:VEVENT
BEGIN:VEVENT
DTSTART;TZID=America/Phoenix:20200401T100000
DTEND;TZID=America/Phoenix:20200401T100000
DTSTAMP:20260420T205501
CREATED:20200326T053758Z
LAST-MODIFIED:20200603T162422Z
UID:6875-1585735200-1585735200@www.noahwebster.org
SUMMARY:MESA Virtual Tour with the Principal
DESCRIPTION:Noah Webster Schools would like to invite you to interact with the Principal and receive Admission information via online with Zoom. \nPlease click the link below to join Mrs. Friedermann at Noah Webster Schools-Mesa: \nhttps://us04web.zoom.us/j/496666123?pwd=M3JZVzd0dS9FQythelM4Y0pLcUtEZz09
URL:https://www.noahwebster.org/event/mesa-virtual-tour-with-the-principal/
LOCATION:Mesa Campus\, 7301 E. Baseline Road\, Mesa\, AZ\, 85209\, United States
CATEGORIES:New Family Virtual Tours
END:VEVENT
BEGIN:VEVENT
DTSTART;TZID=America/Phoenix:20200401T100000
DTEND;TZID=America/Phoenix:20200401T100000
DTSTAMP:20260420T205501
CREATED:20200326T054242Z
LAST-MODIFIED:20200603T162411Z
UID:6879-1585735200-1585735200@www.noahwebster.org
SUMMARY:PIMA Virtual Tour with the Principal
DESCRIPTION:Noah Webster Schools would like to invite you to interact with the Principal and receive Admission information via online with Zoom. \nPlease click the link below to join Mr. Rodenbaugh at Noah Webster Schools-Pima: \nhttps://us04web.zoom.us/j/805957014
URL:https://www.noahwebster.org/event/pima-virtual-tour-with-the-principal/
LOCATION:Pima Campus\, 5399 N. Pima Road\, Scottsdale\, AZ\, 85250\, United States
CATEGORIES:New Family Virtual Tours
END:VEVENT
BEGIN:VEVENT
DTSTART;TZID=America/Phoenix:20200408T100000
DTEND;TZID=America/Phoenix:20200408T100000
DTSTAMP:20260420T205501
CREATED:20200326T053950Z
LAST-MODIFIED:20200603T162405Z
UID:6876-1586340000-1586340000@www.noahwebster.org
SUMMARY:MESA Virtual Tour with the Principal
DESCRIPTION:Noah Webster Schools would like to invite you to interact with the Principal and receive Admission information via online with Zoom. \nPlease click the link below to join Mrs. Friedermann at Noah Webster Schools-Mesa: \nhttps://us04web.zoom.us/j/909050545?pwd=ell0R2ZMaitmejRCamIyYkc3Rlppdz09
URL:https://www.noahwebster.org/event/mesa-virtual-tour-with-the-principal-2/
LOCATION:Mesa Campus\, 7301 E. Baseline Road\, Mesa\, AZ\, 85209\, United States
CATEGORIES:New Family Virtual Tours
END:VEVENT
BEGIN:VEVENT
DTSTART;TZID=America/Phoenix:20200408T100000
DTEND;TZID=America/Phoenix:20200408T100000
DTSTAMP:20260420T205501
CREATED:20200326T054401Z
LAST-MODIFIED:20200603T162356Z
UID:6880-1586340000-1586340000@www.noahwebster.org
SUMMARY:PIMA Virtual Tour with the Principal
DESCRIPTION:Noah Webster Schools would like to invite you to interact with the Principal and receive Admission information via online with Zoom. \nPlease click the link below to join Mr. Rodenbaugh at Noah Webster Schools-Pima: \nhttps://us04web.zoom.us/j/805957014
URL:https://www.noahwebster.org/event/pima-virtual-tour-with-the-principal-2/
LOCATION:Pima Campus\, 5399 N. Pima Road\, Scottsdale\, AZ\, 85250\, United States
CATEGORIES:New Family Virtual Tours
END:VEVENT
END:VCALENDAR