BEGIN:VCALENDAR
VERSION:2.0
PRODID:-//Noah Webster - ECPv6.15.20//NONSGML v1.0//EN
CALSCALE:GREGORIAN
METHOD:PUBLISH
X-ORIGINAL-URL:https://www.noahwebster.org
X-WR-CALDESC:Events for Noah Webster
REFRESH-INTERVAL;VALUE=DURATION:PT1H
X-Robots-Tag:noindex
X-PUBLISHED-TTL:PT1H
BEGIN:VTIMEZONE
TZID:UTC
BEGIN:STANDARD
TZOFFSETFROM:+0000
TZOFFSETTO:+0000
TZNAME:UTC
DTSTART:20180101T000000
END:STANDARD
END:VTIMEZONE
BEGIN:VEVENT
DTSTART;TZID=UTC:20190417T100000
DTEND;TZID=UTC:20190417T100000
DTSTAMP:20260424T134415
CREATED:20180831T223031Z
LAST-MODIFIED:20180831T223031Z
UID:5209-1555495200-1555495200@www.noahwebster.org
SUMMARY:MESA Welcome Wednesday
DESCRIPTION:Come take a tour of the campus\, interact with Administrators and receive Admission information. If you can’t make it at 10:00 am\, contact us to schedule a private tour.
URL:https://www.noahwebster.org/event/mesa-welcome-wednesday-148/
LOCATION:Mesa Campus\, 7301 E. Baseline Road\, Mesa\, AZ\, 85209\, United States
CATEGORIES:General
END:VEVENT
BEGIN:VEVENT
DTSTART;TZID=UTC:20190417T100000
DTEND;TZID=UTC:20190417T100000
DTSTAMP:20260424T134415
CREATED:20180831T223602Z
LAST-MODIFIED:20180831T223602Z
UID:5219-1555495200-1555495200@www.noahwebster.org
SUMMARY:PIMA Welcome Wednesday
DESCRIPTION:Come take a tour of the campus\, interact with Administrators and receive Admission information. If you can’t make it at 10:00 am\, contact us to schedule a private tour.
URL:https://www.noahwebster.org/event/pima-welcome-wednesday-153/
LOCATION:Pima Campus\, 5399 N. Pima Road\, Scottsdale\, AZ\, 85250\, United States
CATEGORIES:General
END:VEVENT
BEGIN:VEVENT
DTSTART;TZID=UTC:20190417T170000
DTEND;TZID=UTC:20190417T190000
DTSTAMP:20260424T134415
CREATED:20180831T225918Z
LAST-MODIFIED:20180831T225918Z
UID:5249-1555520400-1555527600@www.noahwebster.org
SUMMARY:PIMA Open Campus Night
DESCRIPTION:Come tour the school\, talk with administrators and receive admission information.  If you can’t make it\, schedule a private tour by calling 480-772-6149.   \nNoah Webster Schools- Pima\n5399 N. Pima Road\nScottsdale\, AZ 85250\n480-291-6900
URL:https://www.noahwebster.org/event/pima-open-campus-night-41/
LOCATION:Pima Campus\, 5399 N. Pima Road\, Scottsdale\, AZ\, 85250\, United States
CATEGORIES:General
END:VEVENT
BEGIN:VEVENT
DTSTART;TZID=UTC:20190417T180000
DTEND;TZID=UTC:20190417T180000
DTSTAMP:20260424T134415
CREATED:20190410T223302Z
LAST-MODIFIED:20190410T223302Z
UID:5966-1555524000-1555524000@www.noahwebster.org
SUMMARY:PIMA Title VI Parent Committee Meeting
DESCRIPTION:Please click HERE to view the Meeting Notification.
URL:https://www.noahwebster.org/event/pima-title-vi-parent-committee-meeting/
LOCATION:Pima Campus\, 5399 N. Pima Road\, Scottsdale\, AZ\, 85250\, United States
CATEGORIES:General
END:VEVENT
BEGIN:VEVENT
DTSTART;TZID=UTC:20190417T183000
DTEND;TZID=UTC:20190417T193000
DTSTAMP:20260424T134415
CREATED:20180901T003425Z
LAST-MODIFIED:20180901T003425Z
UID:5368-1555525800-1555529400@www.noahwebster.org
SUMMARY:MESA Art Night
DESCRIPTION:
URL:https://www.noahwebster.org/event/mesa-art-night-4/
LOCATION:Mesa Campus\, 7301 E. Baseline Road\, Mesa\, AZ\, 85209\, United States
CATEGORIES:School Activity
END:VEVENT
BEGIN:VEVENT
DTSTART;VALUE=DATE:20190419
DTEND;VALUE=DATE:20190420
DTSTAMP:20260424T134415
CREATED:20180822T021813Z
LAST-MODIFIED:20180822T021813Z
UID:5078-1555632000-1555718399@www.noahwebster.org
SUMMARY:MESA Spring Holiday (No School)
DESCRIPTION:
URL:https://www.noahwebster.org/event/mesa-spring-holiday-no-school-3/
LOCATION:Mesa Campus\, 7301 E. Baseline Road\, Mesa\, AZ\, 85209\, United States
CATEGORIES:Holiday
END:VEVENT
BEGIN:VEVENT
DTSTART;VALUE=DATE:20190419
DTEND;VALUE=DATE:20190420
DTSTAMP:20260424T134415
CREATED:20180822T021919Z
LAST-MODIFIED:20180822T021919Z
UID:5080-1555632000-1555718399@www.noahwebster.org
SUMMARY:PIMA Spring Holiday (No School)
DESCRIPTION:
URL:https://www.noahwebster.org/event/pima-spring-holiday-no-school-4/
LOCATION:Pima Campus\, 5399 N. Pima Road\, Scottsdale\, AZ\, 85250\, United States
CATEGORIES:Holiday
END:VEVENT
BEGIN:VEVENT
DTSTART;TZID=UTC:20190422T103000
DTEND;TZID=UTC:20190422T123000
DTSTAMP:20260424T134415
CREATED:20190330T061334Z
LAST-MODIFIED:20190330T061334Z
UID:5935-1555929000-1555936200@www.noahwebster.org
SUMMARY:MESA 6th Grade Field Trip
DESCRIPTION:Organ Stop Pizza
URL:https://www.noahwebster.org/event/mesa-6th-grade-field-trip-11/
LOCATION:Organ Stop Pizza
CATEGORIES:Field Trip
END:VEVENT
BEGIN:VEVENT
DTSTART;TZID=UTC:20190422T183000
DTEND;TZID=UTC:20190422T193000
DTSTAMP:20260424T134415
CREATED:20180901T003534Z
LAST-MODIFIED:20180901T003534Z
UID:5370-1555957800-1555961400@www.noahwebster.org
SUMMARY:MESA Kindergarten Showcase Night
DESCRIPTION:
URL:https://www.noahwebster.org/event/mesa-kindergarten-showcase-night-2/
LOCATION:Mesa Campus\, 7301 E. Baseline Road\, Mesa\, AZ\, 85209\, United States
CATEGORIES:School Activity
END:VEVENT
BEGIN:VEVENT
DTSTART;TZID=UTC:20190422T183000
DTEND;TZID=UTC:20190422T193000
DTSTAMP:20260424T134415
CREATED:20180901T003626Z
LAST-MODIFIED:20180901T003626Z
UID:5372-1555957800-1555961400@www.noahwebster.org
SUMMARY:PIMA Art Night
DESCRIPTION:
URL:https://www.noahwebster.org/event/pima-art-night-4/
LOCATION:Pima Campus\, 5399 N. Pima Road\, Scottsdale\, AZ\, 85250\, United States
CATEGORIES:School Activity
END:VEVENT
BEGIN:VEVENT
DTSTART;TZID=UTC:20190423T170000
DTEND;TZID=UTC:20190423T190000
DTSTAMP:20260424T134415
CREATED:20180831T230048Z
LAST-MODIFIED:20180831T230048Z
UID:5251-1556038800-1556046000@www.noahwebster.org
SUMMARY:MESA Open Campus Night
DESCRIPTION:Come tour the school\, talk with administrators and receive admission information.  If you can’t make it\, schedule a tour by calling 480-772-6149.   \nNoah Webster Schools- Mesa\n7301 E. Baseline Road\nMesa\, AZ 85209\n480-986-2335
URL:https://www.noahwebster.org/event/mesa-open-campus-night-44/
LOCATION:Mesa Campus\, 7301 E. Baseline Road\, Mesa\, AZ\, 85209\, United States
CATEGORIES:General
END:VEVENT
BEGIN:VEVENT
DTSTART;TZID=UTC:20190423T183000
DTEND;TZID=UTC:20190423T193000
DTSTAMP:20260424T134415
CREATED:20180901T003840Z
LAST-MODIFIED:20180901T003840Z
UID:5376-1556044200-1556047800@www.noahwebster.org
SUMMARY:MESA 1st Grade Musical (1 of 2)
DESCRIPTION:Classes Performing: Flores\, Kalina & Taylor
URL:https://www.noahwebster.org/event/mesa-1st-grade-musical-2-of-2-2/
LOCATION:Mesa Campus\, 7301 E. Baseline Road\, Mesa\, AZ\, 85209\, United States
CATEGORIES:Music
END:VEVENT
BEGIN:VEVENT
DTSTART;TZID=UTC:20190424T090000
DTEND;TZID=UTC:20190424T140000
DTSTAMP:20260424T134415
CREATED:20190213T043433Z
LAST-MODIFIED:20190213T043433Z
UID:5843-1556096400-1556114400@www.noahwebster.org
SUMMARY:MESA 3rd Grade Field Trip
DESCRIPTION:IMAX at Arizona Mills
URL:https://www.noahwebster.org/event/mesa-3rd-grade-field-trip-9/
LOCATION:Arizona Mills IMAX
CATEGORIES:Field Trip
END:VEVENT
BEGIN:VEVENT
DTSTART;TZID=UTC:20190424T100000
DTEND;TZID=UTC:20190424T100000
DTSTAMP:20260424T134415
CREATED:20180831T223121Z
LAST-MODIFIED:20180831T223121Z
UID:5211-1556100000-1556100000@www.noahwebster.org
SUMMARY:MESA Welcome Wednesday
DESCRIPTION:Come take a tour of the campus\, interact with Administrators and receive Admission information. If you can’t make it at 10:00 am\, contact us to schedule a private tour.
URL:https://www.noahwebster.org/event/mesa-welcome-wednesday-149/
LOCATION:Mesa Campus\, 7301 E. Baseline Road\, Mesa\, AZ\, 85209\, United States
CATEGORIES:General
END:VEVENT
BEGIN:VEVENT
DTSTART;TZID=UTC:20190424T100000
DTEND;TZID=UTC:20190424T100000
DTSTAMP:20260424T134415
CREATED:20180831T223441Z
LAST-MODIFIED:20180831T223441Z
UID:5217-1556100000-1556100000@www.noahwebster.org
SUMMARY:PIMA Welcome Wednesday
DESCRIPTION:Come take a tour of the campus\, interact with Administrators and receive Admission information. If you can’t make it at 10:00 am\, contact us to schedule a private tour.
URL:https://www.noahwebster.org/event/pima-welcome-wednesday-152/
LOCATION:Pima Campus\, 5399 N. Pima Road\, Scottsdale\, AZ\, 85250\, United States
CATEGORIES:General
END:VEVENT
BEGIN:VEVENT
DTSTART;TZID=UTC:20190424T103000
DTEND;TZID=UTC:20190424T123000
DTSTAMP:20260424T134415
CREATED:20190329T042702Z
LAST-MODIFIED:20190329T042702Z
UID:5927-1556101800-1556109000@www.noahwebster.org
SUMMARY:PIMA 6th Grade Field Trip
DESCRIPTION:Organ Stop Pizza
URL:https://www.noahwebster.org/event/pima-6th-grade-field-trip-10/
LOCATION:Organ Stop Pizza
CATEGORIES:Field Trip
END:VEVENT
BEGIN:VEVENT
DTSTART;TZID=UTC:20190424T183000
DTEND;TZID=UTC:20190424T193000
DTSTAMP:20260424T134415
CREATED:20180901T003744Z
LAST-MODIFIED:20180901T003744Z
UID:5374-1556130600-1556134200@www.noahwebster.org
SUMMARY:MESA 1st Grade Musical (2 of 2)
DESCRIPTION:Classes Performing: Andrisani & Welch
URL:https://www.noahwebster.org/event/mesa-1st-grade-musical-1-of-2-2/
LOCATION:Mesa Campus\, 7301 E. Baseline Road\, Mesa\, AZ\, 85209\, United States
CATEGORIES:Music
END:VEVENT
BEGIN:VEVENT
DTSTART;TZID=UTC:20190424T183000
DTEND;TZID=UTC:20190424T193000
DTSTAMP:20260424T134415
CREATED:20180901T003932Z
LAST-MODIFIED:20180901T003932Z
UID:5378-1556130600-1556134200@www.noahwebster.org
SUMMARY:PIMA 1st Grade Musical
DESCRIPTION:
URL:https://www.noahwebster.org/event/pima-1st-grade-musical-1-of-2/
LOCATION:Pima Campus\, 5399 N. Pima Road\, Scottsdale\, AZ\, 85250\, United States
CATEGORIES:Music
END:VEVENT
BEGIN:VEVENT
DTSTART;TZID=UTC:20190426T090000
DTEND;TZID=UTC:20190426T124500
DTSTAMP:20260424T134415
CREATED:20190320T013240Z
LAST-MODIFIED:20190320T013240Z
UID:5898-1556269200-1556282700@www.noahwebster.org
SUMMARY:MESA 5th Grade Field Trip
DESCRIPTION:Harkins Theater
URL:https://www.noahwebster.org/event/mesa-5th-grade-field-trip-8/
LOCATION:Harkins Theater
CATEGORIES:Field Trip
END:VEVENT
BEGIN:VEVENT
DTSTART;VALUE=DATE:20190429
DTEND;VALUE=DATE:20190502
DTSTAMP:20260424T134415
CREATED:20190410T055342Z
LAST-MODIFIED:20190410T055342Z
UID:5961-1556496000-1556755199@www.noahwebster.org
SUMMARY:MESA 6th Grade Aspen Creek Field Trip
DESCRIPTION:Please click HERE to download the Parent Letter and Preparing for Your Trip Flyer.
URL:https://www.noahwebster.org/event/6th-grade-aspen-creek-field-trip/
LOCATION:Aspen Creek
CATEGORIES:Field Trip
END:VEVENT
BEGIN:VEVENT
DTSTART;VALUE=DATE:20190429
DTEND;VALUE=DATE:20190502
DTSTAMP:20260424T134415
CREATED:20190410T055532Z
LAST-MODIFIED:20190410T055532Z
UID:5964-1556496000-1556755199@www.noahwebster.org
SUMMARY:PIMA 6th Grade Aspen Creek Field Trip
DESCRIPTION:Please click HERE to download the Parent Letter and Preparing for Your Trip Flyer.
URL:https://www.noahwebster.org/event/pima-6th-grade-aspen-creek-field-trip/
LOCATION:Aspen Creek
CATEGORIES:Field Trip
END:VEVENT
BEGIN:VEVENT
DTSTART;VALUE=DATE:20190429
DTEND;VALUE=DATE:20190504
DTSTAMP:20260424T134415
CREATED:20180901T004129Z
LAST-MODIFIED:20180901T004129Z
UID:5382-1556496000-1556927999@www.noahwebster.org
SUMMARY:MESA Scholastic Book Fair
DESCRIPTION:For more information\, please visit our Book Fair’s website HERE.
URL:https://www.noahwebster.org/event/mesa-scholastic-book-fair-7/
LOCATION:Mesa Campus\, 7301 E. Baseline Road\, Mesa\, AZ\, 85209\, United States
CATEGORIES:School Activity
END:VEVENT
BEGIN:VEVENT
DTSTART;TZID=UTC:20190430T084500
DTEND;TZID=UTC:20190430T130000
DTSTAMP:20260424T134415
CREATED:20190213T043540Z
LAST-MODIFIED:20190213T043540Z
UID:5845-1556613900-1556629200@www.noahwebster.org
SUMMARY:MESA 4th Grade Field Trip (Split)
DESCRIPTION:Classes Attending: Wilson\, Brown & Herrmann
URL:https://www.noahwebster.org/event/mesa-4th-grade-field-trip-split-8/
LOCATION:Arizona State University
CATEGORIES:Field Trip
END:VEVENT
BEGIN:VEVENT
DTSTART;TZID=UTC:20190501T070000
DTEND;TZID=UTC:20190501T080000
DTSTAMP:20260424T134415
CREATED:20180901T004511Z
LAST-MODIFIED:20180901T004511Z
UID:5384-1556694000-1556697600@www.noahwebster.org
SUMMARY:MESA Breakfast with Mom (1 of 2)
DESCRIPTION:The event is divided by last name: A-L\nRemember to order your tickets in advance.
URL:https://www.noahwebster.org/event/mesa-breakfast-with-mom-1-of-2/
LOCATION:Mesa Campus\, 7301 E. Baseline Road\, Mesa\, AZ\, 85209\, United States
CATEGORIES:School Activity
END:VEVENT
BEGIN:VEVENT
DTSTART;TZID=UTC:20190501T100000
DTEND;TZID=UTC:20190501T100000
DTSTAMP:20260424T134415
CREATED:20180831T223739Z
LAST-MODIFIED:20180831T223739Z
UID:5221-1556704800-1556704800@www.noahwebster.org
SUMMARY:MESA Welcome Wednesday
DESCRIPTION:Come take a tour of the campus\, interact with Administrators and receive Admission information. If you can’t make it at 10:00 am\, contact us to schedule a private tour.
URL:https://www.noahwebster.org/event/mesa-welcome-wednesday-150/
LOCATION:Mesa Campus\, 7301 E. Baseline Road\, Mesa\, AZ\, 85209\, United States
CATEGORIES:General
END:VEVENT
BEGIN:VEVENT
DTSTART;TZID=UTC:20190501T100000
DTEND;TZID=UTC:20190501T100000
DTSTAMP:20260424T134415
CREATED:20180831T224014Z
LAST-MODIFIED:20180831T224014Z
UID:5227-1556704800-1556704800@www.noahwebster.org
SUMMARY:PIMA Welcome Wednesday
DESCRIPTION:Come take a tour of the campus\, interact with Administrators and receive Admission information. If you can’t make it at 10:00 am\, contact us to schedule a private tour.
URL:https://www.noahwebster.org/event/pima-welcome-wednesday-154/
LOCATION:Pima Campus\, 5399 N. Pima Road\, Scottsdale\, AZ\, 85250\, United States
CATEGORIES:General
END:VEVENT
BEGIN:VEVENT
DTSTART;TZID=UTC:20190502T070000
DTEND;TZID=UTC:20190502T080000
DTSTAMP:20260424T134415
CREATED:20180901T004709Z
LAST-MODIFIED:20180901T004709Z
UID:5386-1556780400-1556784000@www.noahwebster.org
SUMMARY:MESA Breakfast with Mom (2 of 2)
DESCRIPTION:The event is divided by last name: M-Z\nRemember to order your tickets in advance.
URL:https://www.noahwebster.org/event/mesa-breakfast-with-mom-2-of-2/
LOCATION:Mesa Campus\, 7301 E. Baseline Road\, Mesa\, AZ\, 85209\, United States
CATEGORIES:School Activity
END:VEVENT
BEGIN:VEVENT
DTSTART;TZID=UTC:20190502T084500
DTEND;TZID=UTC:20190502T130000
DTSTAMP:20260424T134415
CREATED:20190213T043639Z
LAST-MODIFIED:20190213T043639Z
UID:5847-1556786700-1556802000@www.noahwebster.org
SUMMARY:MESA 4th Grade Field Trip (Split)
DESCRIPTION:Classes Attending: Pequeno & Greacen
URL:https://www.noahwebster.org/event/mesa-4th-grade-field-trip-split-9/
LOCATION:Arizona State University
CATEGORIES:Field Trip
END:VEVENT
BEGIN:VEVENT
DTSTART;TZID=UTC:20190502T093000
DTEND;TZID=UTC:20190502T140000
DTSTAMP:20260424T134415
CREATED:20190213T043141Z
LAST-MODIFIED:20190213T043141Z
UID:5839-1556789400-1556805600@www.noahwebster.org
SUMMARY:PIMA 2nd Grade Field Trip
DESCRIPTION:OdySea Aquarium
URL:https://www.noahwebster.org/event/pima-2nd-grade-field-trip-6/
LOCATION:OdySea Aquarium
CATEGORIES:Field Trip
END:VEVENT
BEGIN:VEVENT
DTSTART;TZID=UTC:20190502T183000
DTEND;TZID=UTC:20190502T193000
DTSTAMP:20260424T134415
CREATED:20180901T004748Z
LAST-MODIFIED:20180901T004748Z
UID:5388-1556821800-1556825400@www.noahwebster.org
SUMMARY:MESA Talent Show
DESCRIPTION:
URL:https://www.noahwebster.org/event/mesa-talent-show-4/
LOCATION:Mesa Campus\, 7301 E. Baseline Road\, Mesa\, AZ\, 85209\, United States
CATEGORIES:Music
END:VEVENT
END:VCALENDAR