BEGIN:VCALENDAR
VERSION:2.0
PRODID:-//Noah Webster - ECPv6.15.20//NONSGML v1.0//EN
CALSCALE:GREGORIAN
METHOD:PUBLISH
X-ORIGINAL-URL:https://www.noahwebster.org
X-WR-CALDESC:Events for Noah Webster
REFRESH-INTERVAL;VALUE=DURATION:PT1H
X-Robots-Tag:noindex
X-PUBLISHED-TTL:PT1H
BEGIN:VTIMEZONE
TZID:UTC
BEGIN:STANDARD
TZOFFSETFROM:+0000
TZOFFSETTO:+0000
TZNAME:UTC
DTSTART:20180101T000000
END:STANDARD
END:VTIMEZONE
BEGIN:VEVENT
DTSTART;VALUE=DATE:20190327
DTEND;VALUE=DATE:20190328
DTSTAMP:20260424T091026
CREATED:20180822T020930Z
LAST-MODIFIED:20180822T020930Z
UID:5066-1553644800-1553731199@www.noahwebster.org
SUMMARY:PIMA 4th Grade AIMS Testing
DESCRIPTION:
URL:https://www.noahwebster.org/event/pima-4th-grade-aims-testing-2/
LOCATION:Pima Campus\, 5399 N. Pima Road\, Scottsdale\, AZ\, 85250\, United States
CATEGORIES:General
END:VEVENT
BEGIN:VEVENT
DTSTART;TZID=UTC:20190327T100000
DTEND;TZID=UTC:20190327T100000
DTSTAMP:20260424T091026
CREATED:20180831T221913Z
LAST-MODIFIED:20180831T221913Z
UID:5196-1553680800-1553680800@www.noahwebster.org
SUMMARY:MESA Welcome Wednesday
DESCRIPTION:Come take a tour of the campus\, interact with Administrators and receive Admission information. If you can’t make it at 10:00 am\, contact us to schedule a private tour.
URL:https://www.noahwebster.org/event/mesa-welcome-wednesday-145/
LOCATION:Mesa Campus\, 7301 E. Baseline Road\, Mesa\, AZ\, 85209\, United States
CATEGORIES:General
END:VEVENT
BEGIN:VEVENT
DTSTART;TZID=UTC:20190327T100000
DTEND;TZID=UTC:20190327T100000
DTSTAMP:20260424T091026
CREATED:20180831T222348Z
LAST-MODIFIED:20180831T222348Z
UID:5202-1553680800-1553680800@www.noahwebster.org
SUMMARY:PIMA Welcome Wednesday
DESCRIPTION:Come take a tour of the campus\, interact with Administrators and receive Admission information. If you can’t make it at 10:00 am\, contact us to schedule a private tour.
URL:https://www.noahwebster.org/event/pima-welcome-wednesday-149/
LOCATION:Pima Campus\, 5399 N. Pima Road\, Scottsdale\, AZ\, 85250\, United States
CATEGORIES:General
END:VEVENT
BEGIN:VEVENT
DTSTART;TZID=UTC:20190327T183000
DTEND;TZID=UTC:20190327T193000
DTSTAMP:20260424T091026
CREATED:20180901T001700Z
LAST-MODIFIED:20180901T001700Z
UID:5340-1553711400-1553715000@www.noahwebster.org
SUMMARY:MESA Show Choir Performance
DESCRIPTION:
URL:https://www.noahwebster.org/event/mesa-show-choir-performance-11/
LOCATION:Mesa Campus\, 7301 E. Baseline Road\, Mesa\, AZ\, 85209\, United States
CATEGORIES:After School Program
END:VEVENT
BEGIN:VEVENT
DTSTART;TZID=UTC:20190327T183000
DTEND;TZID=UTC:20190327T193000
DTSTAMP:20260424T091026
CREATED:20180901T001804Z
LAST-MODIFIED:20180901T001804Z
UID:5342-1553711400-1553715000@www.noahwebster.org
SUMMARY:PIMA Choir Cats Performance
DESCRIPTION:
URL:https://www.noahwebster.org/event/pima-choir-cats-performance-10/
LOCATION:Pima Campus\, 5399 N. Pima Road\, Scottsdale\, AZ\, 85250\, United States
CATEGORIES:After School Program
END:VEVENT
BEGIN:VEVENT
DTSTART;TZID=UTC:20190328T091500
DTEND;TZID=UTC:20190328T140000
DTSTAMP:20260424T091026
CREATED:20180919T052323Z
LAST-MODIFIED:20180919T052323Z
UID:5507-1553764500-1553781600@www.noahwebster.org
SUMMARY:PIMA 5th Grade Field Trip
DESCRIPTION:AZ Science Center
URL:https://www.noahwebster.org/event/pima-5th-grade-field-trip-8/
LOCATION:Arizona Science Center
CATEGORIES:Field Trip
END:VEVENT
BEGIN:VEVENT
DTSTART;VALUE=DATE:20190401
DTEND;VALUE=DATE:20190402
DTSTAMP:20260424T091026
CREATED:20180901T001958Z
LAST-MODIFIED:20180901T001958Z
UID:5344-1554076800-1554163199@www.noahwebster.org
SUMMARY:MESA Session 6 of ASP Begins
DESCRIPTION:Session 6 of After School Programs Begin
URL:https://www.noahwebster.org/event/mesa-session-6-of-asp-begins/
LOCATION:Mesa Campus\, 7301 E. Baseline Road\, Mesa\, AZ\, 85209\, United States
CATEGORIES:After School Program
END:VEVENT
BEGIN:VEVENT
DTSTART;VALUE=DATE:20190401
DTEND;VALUE=DATE:20190402
DTSTAMP:20260424T091026
CREATED:20180901T002131Z
LAST-MODIFIED:20180901T002131Z
UID:5346-1554076800-1554163199@www.noahwebster.org
SUMMARY:PIMA Session 6 of ASP Begins
DESCRIPTION:Session 6 of After School Programs Begin
URL:https://www.noahwebster.org/event/pima-session-6-of-asp-begins/
LOCATION:Pima Campus\, 5399 N. Pima Road\, Scottsdale\, AZ\, 85250\, United States
CATEGORIES:After School Program
END:VEVENT
BEGIN:VEVENT
DTSTART;VALUE=DATE:20190401
DTEND;VALUE=DATE:20190406
DTSTAMP:20260424T091026
CREATED:20180822T021014Z
LAST-MODIFIED:20180822T021014Z
UID:5068-1554076800-1554508799@www.noahwebster.org
SUMMARY:MESA AzMERIT Testing
DESCRIPTION:
URL:https://www.noahwebster.org/event/mesa-azmerit-testing-3/
LOCATION:Mesa Campus\, 7301 E. Baseline Road\, Mesa\, AZ\, 85209\, United States
CATEGORIES:General
END:VEVENT
BEGIN:VEVENT
DTSTART;TZID=UTC:20190402T170000
DTEND;TZID=UTC:20190402T190000
DTSTAMP:20260424T091026
CREATED:20180831T225706Z
LAST-MODIFIED:20180831T225706Z
UID:5245-1554224400-1554231600@www.noahwebster.org
SUMMARY:PIMA Open Campus Night
DESCRIPTION:Come tour the school\, talk with administrators and receive admission information.  If you can’t make it\, schedule a private tour by calling 480-772-6149.   \nNoah Webster Schools-Pima\n5399 N. Pima Road\nScottsdale\, AZ 85250\n480-291-6900
URL:https://www.noahwebster.org/event/pima-open-campus-night-40/
LOCATION:Pima Campus\, 5399 N. Pima Road\, Scottsdale\, AZ\, 85250\, United States
CATEGORIES:General
END:VEVENT
BEGIN:VEVENT
DTSTART;VALUE=DATE:20190403
DTEND;VALUE=DATE:20190404
DTSTAMP:20260424T091026
CREATED:20180822T021230Z
LAST-MODIFIED:20180822T021230Z
UID:5070-1554249600-1554335999@www.noahwebster.org
SUMMARY:PIMA AzMERIT Testing
DESCRIPTION:
URL:https://www.noahwebster.org/event/pima-azmerit-testing-3/
LOCATION:Pima Campus\, 5399 N. Pima Road\, Scottsdale\, AZ\, 85250\, United States
CATEGORIES:General
END:VEVENT
BEGIN:VEVENT
DTSTART;TZID=UTC:20190403T100000
DTEND;TZID=UTC:20190403T100000
DTSTAMP:20260424T091026
CREATED:20180831T222843Z
LAST-MODIFIED:20180831T222843Z
UID:5205-1554285600-1554285600@www.noahwebster.org
SUMMARY:MESA Welcome Wednesday
DESCRIPTION:Come take a tour of the campus\, interact with Administrators and receive Admission information. If you can’t make it at 10:00 am\, contact us to schedule a private tour.
URL:https://www.noahwebster.org/event/mesa-welcome-wednesday-146/
LOCATION:Mesa Campus\, 7301 E. Baseline Road\, Mesa\, AZ\, 85209\, United States
CATEGORIES:General
END:VEVENT
BEGIN:VEVENT
DTSTART;TZID=UTC:20190403T100000
DTEND;TZID=UTC:20190403T100000
DTSTAMP:20260424T091026
CREATED:20180831T223242Z
LAST-MODIFIED:20180831T223242Z
UID:5213-1554285600-1554285600@www.noahwebster.org
SUMMARY:PIMA Welcome Wednesday
DESCRIPTION:Come take a tour of the campus\, interact with Administrators and receive Admission information. If you can’t make it at 10:00 am\, contact us to schedule a private tour.
URL:https://www.noahwebster.org/event/pima-welcome-wednesday-150/
LOCATION:Pima Campus\, 5399 N. Pima Road\, Scottsdale\, AZ\, 85250\, United States
CATEGORIES:General
END:VEVENT
BEGIN:VEVENT
DTSTART;TZID=UTC:20190403T183000
DTEND;TZID=UTC:20190403T193000
DTSTAMP:20260424T091026
CREATED:20180901T002346Z
LAST-MODIFIED:20180901T002346Z
UID:5348-1554316200-1554319800@www.noahwebster.org
SUMMARY:PIMA 2nd Grade Musical
DESCRIPTION:
URL:https://www.noahwebster.org/event/pima-2nd-grade-musical-1-of-2/
LOCATION:Pima Campus\, 5399 N. Pima Road\, Scottsdale\, AZ\, 85250\, United States
CATEGORIES:Music
END:VEVENT
BEGIN:VEVENT
DTSTART;TZID=UTC:20190404T170000
DTEND;TZID=UTC:20190404T190000
DTSTAMP:20260424T091026
CREATED:20180831T225753Z
LAST-MODIFIED:20180831T225753Z
UID:5247-1554397200-1554404400@www.noahwebster.org
SUMMARY:MESA Open Campus Night
DESCRIPTION:Come tour the school\, talk with administrators and receive admission information.  If you can’t make it\, schedule a private tour by calling 480-772-6149.   \nNoah Webster Schools- Mesa\n7301 E. Baseline Road\nMesa\, AZ 85209\n480-986-2335
URL:https://www.noahwebster.org/event/mesa-open-campus-night-43/
LOCATION:Mesa Campus\, 7301 E. Baseline Road\, Mesa\, AZ\, 85209\, United States
CATEGORIES:General
END:VEVENT
BEGIN:VEVENT
DTSTART;TZID=UTC:20190406T090000
DTEND;TZID=UTC:20190406T130000
DTSTAMP:20260424T091026
CREATED:20180901T035057Z
LAST-MODIFIED:20180901T035057Z
UID:5472-1554541200-1554555600@www.noahwebster.org
SUMMARY:MESA 2019-2020 New Student 1st-6th Grade Testing
DESCRIPTION:
URL:https://www.noahwebster.org/event/mesa-2019-2020-new-student-1st-6th-grade-testing/
LOCATION:Mesa Campus\, 7301 E. Baseline Road\, Mesa\, AZ\, 85209\, United States
CATEGORIES:General
END:VEVENT
BEGIN:VEVENT
DTSTART;TZID=UTC:20190406T090000
DTEND;TZID=UTC:20190406T130000
DTSTAMP:20260424T091026
CREATED:20180901T035203Z
LAST-MODIFIED:20180901T035203Z
UID:5474-1554541200-1554555600@www.noahwebster.org
SUMMARY:PIMA 2019-2020 New Student 1st-6th Grade Testing
DESCRIPTION:
URL:https://www.noahwebster.org/event/pima-2019-2020-new-student-1st-6th-grade-testing/
LOCATION:Pima Campus\, 5399 N. Pima Road\, Scottsdale\, AZ\, 85250\, United States
CATEGORIES:General
END:VEVENT
BEGIN:VEVENT
DTSTART;VALUE=DATE:20190408
DTEND;VALUE=DATE:20190412
DTSTAMP:20260424T091026
CREATED:20180822T021400Z
LAST-MODIFIED:20180822T021400Z
UID:5072-1554681600-1555027199@www.noahwebster.org
SUMMARY:PIMA AzMERIT Testing
DESCRIPTION:
URL:https://www.noahwebster.org/event/pima-azmerit-testing-4/
LOCATION:Pima Campus\, 5399 N. Pima Road\, Scottsdale\, AZ\, 85250\, United States
CATEGORIES:General
END:VEVENT
BEGIN:VEVENT
DTSTART;VALUE=DATE:20190408
DTEND;VALUE=DATE:20190413
DTSTAMP:20260424T091026
CREATED:20180901T002623Z
LAST-MODIFIED:20180901T002623Z
UID:5352-1554681600-1555113599@www.noahwebster.org
SUMMARY:MESA Talent Show Auditions
DESCRIPTION:
URL:https://www.noahwebster.org/event/mesa-talent-show-auditions/
LOCATION:Mesa Campus\, 7301 E. Baseline Road\, Mesa\, AZ\, 85209\, United States
CATEGORIES:Music
END:VEVENT
BEGIN:VEVENT
DTSTART;TZID=UTC:20190410T100000
DTEND;TZID=UTC:20190410T100000
DTSTAMP:20260424T091026
CREATED:20180831T222938Z
LAST-MODIFIED:20180831T222938Z
UID:5207-1554890400-1554890400@www.noahwebster.org
SUMMARY:MESA Welcome Wednesday
DESCRIPTION:Come take a tour of the campus\, interact with Administrators and receive Admission information. If you can’t make it at 10:00 am\, contact us to schedule a private tour.
URL:https://www.noahwebster.org/event/mesa-welcome-wednesday-147/
LOCATION:Mesa Campus\, 7301 E. Baseline Road\, Mesa\, AZ\, 85209\, United States
CATEGORIES:General
END:VEVENT
BEGIN:VEVENT
DTSTART;TZID=UTC:20190410T100000
DTEND;TZID=UTC:20190410T100000
DTSTAMP:20260424T091026
CREATED:20180831T223341Z
LAST-MODIFIED:20180831T223341Z
UID:5215-1554890400-1554890400@www.noahwebster.org
SUMMARY:PIMA Welcome Wednesday
DESCRIPTION:Come take a tour of the campus\, interact with Administrators and receive Admission information. If you can’t make it at 10:00 am\, contact us to schedule a private tour.
URL:https://www.noahwebster.org/event/pima-welcome-wednesday-151/
LOCATION:Pima Campus\, 5399 N. Pima Road\, Scottsdale\, AZ\, 85250\, United States
CATEGORIES:General
END:VEVENT
BEGIN:VEVENT
DTSTART;TZID=UTC:20190410T104500
DTEND;TZID=UTC:20190410T141500
DTSTAMP:20260424T091026
CREATED:20190320T013402Z
LAST-MODIFIED:20190320T013402Z
UID:5901-1554893100-1554905700@www.noahwebster.org
SUMMARY:MESA 2nd Grade Field Trip
DESCRIPTION:Herberger Theater
URL:https://www.noahwebster.org/event/mesa-2nd-grade-field-trip-8/
LOCATION:Herberger Theater\, 222 East Monroe Street\, Phoenix\, AZ\, 85004\, United States
CATEGORIES:Field Trip
END:VEVENT
BEGIN:VEVENT
DTSTART;TZID=UTC:20190410T183000
DTEND;TZID=UTC:20190410T193000
DTSTAMP:20260424T091026
CREATED:20180901T002722Z
LAST-MODIFIED:20180901T002722Z
UID:5354-1554921000-1554924600@www.noahwebster.org
SUMMARY:MESA 3rd Grade Showcase Night (1 of 2)
DESCRIPTION:Classes: Dvorak & Virtue
URL:https://www.noahwebster.org/event/mesa-3rd-grade-showcase-night-1-of-2/
LOCATION:Mesa Campus\, 7301 E. Baseline Road\, Mesa\, AZ\, 85209\, United States
CATEGORIES:School Activity
END:VEVENT
BEGIN:VEVENT
DTSTART;TZID=UTC:20190411T090000
DTEND;TZID=UTC:20190411T133000
DTSTAMP:20260424T091026
CREATED:20181019T040230Z
LAST-MODIFIED:20181019T040230Z
UID:5577-1554973200-1554989400@www.noahwebster.org
SUMMARY:MESA 1st Grade Field Trip
DESCRIPTION:Phoenix Children’s Museum
URL:https://www.noahwebster.org/event/mesa-1st-grade-field-trip-6/
LOCATION:Phoenix Children’s Museum
CATEGORIES:Field Trip
END:VEVENT
BEGIN:VEVENT
DTSTART;TZID=UTC:20190411T183000
DTEND;TZID=UTC:20190411T193000
DTSTAMP:20260424T091026
CREATED:20180901T002844Z
LAST-MODIFIED:20180901T002844Z
UID:5356-1555007400-1555011000@www.noahwebster.org
SUMMARY:MESA 3rd Grade Showcase Night (2 of 2)
DESCRIPTION:Classes: Azeka & Evicci
URL:https://www.noahwebster.org/event/mesa-3rd-grade-showcase-2-of-2/
LOCATION:Mesa Campus\, 7301 E. Baseline Road\, Mesa\, AZ\, 85209\, United States
CATEGORIES:School Activity
END:VEVENT
BEGIN:VEVENT
DTSTART;VALUE=DATE:20190412
DTEND;VALUE=DATE:20190413
DTSTAMP:20260424T091026
CREATED:20180901T002933Z
LAST-MODIFIED:20180901T002933Z
UID:5358-1555027200-1555113599@www.noahwebster.org
SUMMARY:PIMA Community Dental
DESCRIPTION:
URL:https://www.noahwebster.org/event/pima-community-dental/
LOCATION:Pima Campus\, 5399 N. Pima Road\, Scottsdale\, AZ\, 85250\, United States
CATEGORIES:General
END:VEVENT
BEGIN:VEVENT
DTSTART;TZID=UTC:20190413T090000
DTEND;TZID=UTC:20190413T110000
DTSTAMP:20260424T091026
CREATED:20180901T035257Z
LAST-MODIFIED:20180901T035257Z
UID:5476-1555146000-1555153200@www.noahwebster.org
SUMMARY:MESA 2019-2020 New Student Pre-K Testing
DESCRIPTION:
URL:https://www.noahwebster.org/event/mesa-2019-2020-new-student-pre-k-testing/
LOCATION:Mesa Campus\, 7301 E. Baseline Road\, Mesa\, AZ\, 85209\, United States
CATEGORIES:General
END:VEVENT
BEGIN:VEVENT
DTSTART;TZID=UTC:20190413T090000
DTEND;TZID=UTC:20190413T110000
DTSTAMP:20260424T091026
CREATED:20180901T040243Z
LAST-MODIFIED:20180901T040243Z
UID:5480-1555146000-1555153200@www.noahwebster.org
SUMMARY:PIMA 2019-2020 New Student Pre-K Testing
DESCRIPTION:
URL:https://www.noahwebster.org/event/pima-2019-2020-new-student-pre-k-testing/
LOCATION:Pima Campus\, 5399 N. Pima Road\, Scottsdale\, AZ\, 85250\, United States
CATEGORIES:General
END:VEVENT
BEGIN:VEVENT
DTSTART;TZID=UTC:20190413T120000
DTEND;TZID=UTC:20190413T133000
DTSTAMP:20260424T091026
CREATED:20190223T050250Z
LAST-MODIFIED:20190223T050250Z
UID:5859-1555156800-1555162200@www.noahwebster.org
SUMMARY:MESA 2019-2020 New Student Early KG Testing
DESCRIPTION:
URL:https://www.noahwebster.org/event/mesa-2019-2020-new-student-early-kg-testing/
LOCATION:Mesa Campus\, 7301 E. Baseline Road\, Mesa\, AZ\, 85209\, United States
CATEGORIES:General
END:VEVENT
BEGIN:VEVENT
DTSTART;TZID=UTC:20190413T120000
DTEND;TZID=UTC:20190413T133000
DTSTAMP:20260424T091026
CREATED:20190223T050638Z
LAST-MODIFIED:20190223T050638Z
UID:5861-1555156800-1555162200@www.noahwebster.org
SUMMARY:PIMA 2019-2020 New Student Early KG Testing
DESCRIPTION:
URL:https://www.noahwebster.org/event/pima-2019-2020-new-student-early-kg-testing/
LOCATION:Pima Campus\, 5399 N. Pima Road\, Scottsdale\, AZ\, 85250\, United States
CATEGORIES:General
END:VEVENT
END:VCALENDAR