BEGIN:VCALENDAR
VERSION:2.0
PRODID:-//Noah Webster - ECPv6.15.20//NONSGML v1.0//EN
CALSCALE:GREGORIAN
METHOD:PUBLISH
X-WR-CALNAME:Noah Webster
X-ORIGINAL-URL:https://www.noahwebster.org
X-WR-CALDESC:Events for Noah Webster
REFRESH-INTERVAL;VALUE=DURATION:PT1H
X-Robots-Tag:noindex
X-PUBLISHED-TTL:PT1H
BEGIN:VTIMEZONE
TZID:UTC
BEGIN:STANDARD
TZOFFSETFROM:+0000
TZOFFSETTO:+0000
TZNAME:UTC
DTSTART:20180101T000000
END:STANDARD
END:VTIMEZONE
BEGIN:VEVENT
DTSTART;TZID=UTC:20190206T100000
DTEND;TZID=UTC:20190206T100000
DTSTAMP:20260421T181508
CREATED:20180831T050539Z
LAST-MODIFIED:20180831T050539Z
UID:5175-1549447200-1549447200@www.noahwebster.org
SUMMARY:MESA Welcome Wednesday
DESCRIPTION:Come take a tour of the campus\, interact with Administrators and receive Admission information. If you can’t make it at 10:00 am\, contact us to schedule a private tour.
URL:https://www.noahwebster.org/event/mesa-welcome-wednesday-139/
LOCATION:Mesa Campus\, 7301 E. Baseline Road\, Mesa\, AZ\, 85209\, United States
CATEGORIES:General
END:VEVENT
BEGIN:VEVENT
DTSTART;TZID=UTC:20190206T100000
DTEND;TZID=UTC:20190206T100000
DTSTAMP:20260421T181508
CREATED:20180831T051628Z
LAST-MODIFIED:20180831T051628Z
UID:5186-1549447200-1549447200@www.noahwebster.org
SUMMARY:PIMA Welcome Wednesday
DESCRIPTION:Come take a tour of the campus\, interact with Administrators and receive Admission information. If you can’t make it at 10:00 am\, contact us to schedule a private tour.
URL:https://www.noahwebster.org/event/pima-welcome-wednesday-144/
LOCATION:Pima Campus\, 5399 N. Pima Road\, Scottsdale\, AZ\, 85250\, United States
CATEGORIES:General
END:VEVENT
BEGIN:VEVENT
DTSTART;TZID=UTC:20190206T183000
DTEND;TZID=UTC:20190206T193000
DTSTAMP:20260421T181508
CREATED:20180831T231303Z
LAST-MODIFIED:20180831T231303Z
UID:5273-1549477800-1549481400@www.noahwebster.org
SUMMARY:MESA Show Choir Performance
DESCRIPTION:
URL:https://www.noahwebster.org/event/mesa-show-choir-performance-10/
LOCATION:Mesa Campus\, 7301 E. Baseline Road\, Mesa\, AZ\, 85209\, United States
CATEGORIES:After School Program
END:VEVENT
BEGIN:VEVENT
DTSTART;TZID=UTC:20190206T183000
DTEND;TZID=UTC:20190206T193000
DTSTAMP:20260421T181508
CREATED:20180831T231407Z
LAST-MODIFIED:20180831T231407Z
UID:5275-1549477800-1549481400@www.noahwebster.org
SUMMARY:PIMA Choir Cats Performance
DESCRIPTION:
URL:https://www.noahwebster.org/event/pima-choir-cats-performance-9/
LOCATION:Pima Campus\, 5399 N. Pima Road\, Scottsdale\, AZ\, 85250\, United States
CATEGORIES:After School Program
END:VEVENT
BEGIN:VEVENT
DTSTART;VALUE=DATE:20190207
DTEND;VALUE=DATE:20190209
DTSTAMP:20260421T181508
CREATED:20180822T015912Z
LAST-MODIFIED:20180822T015912Z
UID:5044-1549497600-1549670399@www.noahwebster.org
SUMMARY:MESA Parent Teacher Conferences (Early Dismissal)
DESCRIPTION:
URL:https://www.noahwebster.org/event/mesa-parent-teacher-conferences-early-dismissal-6/
LOCATION:Mesa Campus\, 7301 E. Baseline Road\, Mesa\, AZ\, 85209\, United States
CATEGORIES:Early Dismissal
END:VEVENT
BEGIN:VEVENT
DTSTART;VALUE=DATE:20190207
DTEND;VALUE=DATE:20190209
DTSTAMP:20260421T181508
CREATED:20180822T020008Z
LAST-MODIFIED:20180822T020008Z
UID:5046-1549497600-1549670399@www.noahwebster.org
SUMMARY:PIMA Parent Teacher Conferences (Early Dismissal)
DESCRIPTION:
URL:https://www.noahwebster.org/event/pima-parent-teacher-conferences-early-dismissal-10/
LOCATION:Pima Campus\, 5399 N. Pima Road\, Scottsdale\, AZ\, 85250\, United States
CATEGORIES:Early Dismissal
END:VEVENT
BEGIN:VEVENT
DTSTART;TZID=UTC:20190207T183000
DTEND;TZID=UTC:20190207T193000
DTSTAMP:20260421T181508
CREATED:20180831T231557Z
LAST-MODIFIED:20180831T231557Z
UID:5277-1549564200-1549567800@www.noahwebster.org
SUMMARY:PIMA Dance Performance
DESCRIPTION:
URL:https://www.noahwebster.org/event/pima-dance-performance-2/
LOCATION:Pima Campus\, 5399 N. Pima Road\, Scottsdale\, AZ\, 85250\, United States
CATEGORIES:After School Program
END:VEVENT
BEGIN:VEVENT
DTSTART;VALUE=DATE:20190211
DTEND;VALUE=DATE:20190212
DTSTAMP:20260421T181508
CREATED:20180831T232431Z
LAST-MODIFIED:20180831T232431Z
UID:5293-1549843200-1549929599@www.noahwebster.org
SUMMARY:MESA Session 5 of ASP Begins
DESCRIPTION:Session 5 of After School Programs Begin
URL:https://www.noahwebster.org/event/mesa-session-5-of-asp-begins/
LOCATION:Mesa Campus\, 7301 E. Baseline Road\, Mesa\, AZ\, 85209\, United States
CATEGORIES:After School Program
END:VEVENT
BEGIN:VEVENT
DTSTART;VALUE=DATE:20190211
DTEND;VALUE=DATE:20190212
DTSTAMP:20260421T181508
CREATED:20180831T232543Z
LAST-MODIFIED:20180831T232543Z
UID:5295-1549843200-1549929599@www.noahwebster.org
SUMMARY:PIMA Session 5 of ASP Begins
DESCRIPTION:Session 5 of After School Programs Begin
URL:https://www.noahwebster.org/event/pima-session-5-of-asp-begins/
LOCATION:Pima Campus\, 5399 N. Pima Road\, Scottsdale\, AZ\, 85250\, United States
CATEGORIES:After School Program
END:VEVENT
BEGIN:VEVENT
DTSTART;TZID=UTC:20190211T070000
DTEND;TZID=UTC:20190211T080000
DTSTAMP:20260421T181508
CREATED:20180831T231928Z
LAST-MODIFIED:20180831T231928Z
UID:5283-1549868400-1549872000@www.noahwebster.org
SUMMARY:MESA Dads & Donuts (1 of 2)
DESCRIPTION:The event is divided by last name: A-L\nRemember to order your tickets in advance.
URL:https://www.noahwebster.org/event/mesa-dads-donuts-1-of-2/
LOCATION:Mesa Campus\, 7301 E. Baseline Road\, Mesa\, AZ\, 85209\, United States
CATEGORIES:School Activity
END:VEVENT
BEGIN:VEVENT
DTSTART;TZID=UTC:20190211T183000
DTEND;TZID=UTC:20190211T193000
DTSTAMP:20260421T181508
CREATED:20180831T231719Z
LAST-MODIFIED:20180831T231719Z
UID:5279-1549909800-1549913400@www.noahwebster.org
SUMMARY:MESA Drama Performance
DESCRIPTION:
URL:https://www.noahwebster.org/event/mesa-drama-performance-5/
LOCATION:Mesa Campus\, 7301 E. Baseline Road\, Mesa\, AZ\, 85209\, United States
CATEGORIES:After School Program
END:VEVENT
BEGIN:VEVENT
DTSTART;TZID=UTC:20190212T070000
DTEND;TZID=UTC:20190212T080000
DTSTAMP:20260421T181508
CREATED:20180831T232017Z
LAST-MODIFIED:20180831T232017Z
UID:5285-1549954800-1549958400@www.noahwebster.org
SUMMARY:MESA Dads & Donuts (2 of 2)
DESCRIPTION:The event is divided by last name: M-Z\nRemember to order your tickets in advance.
URL:https://www.noahwebster.org/event/mesa-dads-donuts-2-of-2/
LOCATION:Mesa Campus\, 7301 E. Baseline Road\, Mesa\, AZ\, 85209\, United States
CATEGORIES:School Activity
END:VEVENT
BEGIN:VEVENT
DTSTART;TZID=UTC:20190212T170000
DTEND;TZID=UTC:20190212T190000
DTSTAMP:20260421T181508
CREATED:20180831T225326Z
LAST-MODIFIED:20180831T225326Z
UID:5239-1549990800-1549998000@www.noahwebster.org
SUMMARY:PIMA Open Campus Night
DESCRIPTION:Come tour the school\, talk with administrators and receive admission information.  If you can’t make it\, schedule a private tour by calling 480-772-6149.   \nNoah Webster Schools- Pima\n5399 N. Pima Road\nScottsdale\, AZ 85250\n480-291-6900
URL:https://www.noahwebster.org/event/pima-open-campus-night-38/
LOCATION:Pima Campus\, 5399 N. Pima Road\, Scottsdale\, AZ\, 85250\, United States
CATEGORIES:General
END:VEVENT
BEGIN:VEVENT
DTSTART;TZID=UTC:20190213T070000
DTEND;TZID=UTC:20190213T080000
DTSTAMP:20260421T181508
CREATED:20180831T232121Z
LAST-MODIFIED:20180831T232121Z
UID:5287-1550041200-1550044800@www.noahwebster.org
SUMMARY:PIMA Dads & Donuts (1 of 2)
DESCRIPTION:The event is divided by last name: A-L\nRemember to order your tickets in advance.
URL:https://www.noahwebster.org/event/pima-dads-donuts-1-of-2/
LOCATION:Pima Campus\, 5399 N. Pima Road\, Scottsdale\, AZ\, 85250\, United States
CATEGORIES:School Activity
END:VEVENT
BEGIN:VEVENT
DTSTART;TZID=UTC:20190213T100000
DTEND;TZID=UTC:20190213T100000
DTSTAMP:20260421T181508
CREATED:20180831T050631Z
LAST-MODIFIED:20180831T050631Z
UID:5177-1550052000-1550052000@www.noahwebster.org
SUMMARY:MESA Welcome Wednesday
DESCRIPTION:Come take a tour of the campus\, interact with Administrators and receive Admission information. If you can’t make it at 10:00 am\, contact us to schedule a private tour.
URL:https://www.noahwebster.org/event/mesa-welcome-wednesday-140/
LOCATION:Mesa Campus\, 7301 E. Baseline Road\, Mesa\, AZ\, 85209\, United States
CATEGORIES:General
END:VEVENT
BEGIN:VEVENT
DTSTART;TZID=UTC:20190213T100000
DTEND;TZID=UTC:20190213T100000
DTSTAMP:20260421T181508
CREATED:20180831T051740Z
LAST-MODIFIED:20180831T051740Z
UID:5188-1550052000-1550052000@www.noahwebster.org
SUMMARY:PIMA Welcome Wednesday
DESCRIPTION:Come take a tour of the campus\, interact with Administrators and receive Admission information. If you can’t make it at 10:00 am\, contact us to schedule a private tour.
URL:https://www.noahwebster.org/event/pima-welcome-wednesday-145/
LOCATION:Pima Campus\, 5399 N. Pima Road\, Scottsdale\, AZ\, 85250\, United States
CATEGORIES:General
END:VEVENT
BEGIN:VEVENT
DTSTART;TZID=UTC:20190213T183000
DTEND;TZID=UTC:20190213T193000
DTSTAMP:20260421T181508
CREATED:20190119T060657Z
LAST-MODIFIED:20190119T060657Z
UID:5809-1550082600-1550086200@www.noahwebster.org
SUMMARY:MESA Bully Prevention Parents Night
DESCRIPTION:
URL:https://www.noahwebster.org/event/mesa-bully-prevention-parents-night/
LOCATION:Mesa Campus\, 7301 E. Baseline Road\, Mesa\, AZ\, 85209\, United States
CATEGORIES:General
END:VEVENT
BEGIN:VEVENT
DTSTART;TZID=UTC:20190214T070000
DTEND;TZID=UTC:20190214T080000
DTSTAMP:20260421T181508
CREATED:20180831T232335Z
LAST-MODIFIED:20180831T232335Z
UID:5291-1550127600-1550131200@www.noahwebster.org
SUMMARY:PIMA Dads & Donuts (2 of 2)
DESCRIPTION:The event is divided by last name: M-Z\nRemember to order your tickets in advance.
URL:https://www.noahwebster.org/event/pima-dads-donuts-2-of-2/
LOCATION:Pima Campus\, 5399 N. Pima Road\, Scottsdale\, AZ\, 85250\, United States
CATEGORIES:School Activity
END:VEVENT
BEGIN:VEVENT
DTSTART;VALUE=DATE:20190218
DTEND;VALUE=DATE:20190219
DTSTAMP:20260421T181508
CREATED:20180822T020057Z
LAST-MODIFIED:20180822T020057Z
UID:5048-1550448000-1550534399@www.noahwebster.org
SUMMARY:MESA President's Day (No School)
DESCRIPTION:
URL:https://www.noahwebster.org/event/mesa-presidents-day-no-school-3/
LOCATION:Mesa Campus\, 7301 E. Baseline Road\, Mesa\, AZ\, 85209\, United States
CATEGORIES:Holiday
END:VEVENT
BEGIN:VEVENT
DTSTART;VALUE=DATE:20190218
DTEND;VALUE=DATE:20190219
DTSTAMP:20260421T181508
CREATED:20180822T020158Z
LAST-MODIFIED:20180822T020158Z
UID:5050-1550448000-1550534399@www.noahwebster.org
SUMMARY:PIMA President's Day (No School)
DESCRIPTION:
URL:https://www.noahwebster.org/event/pima-presidents-day-no-school-4/
LOCATION:Pima Campus\, 5399 N. Pima Road\, Scottsdale\, AZ\, 85250\, United States
CATEGORIES:Holiday
END:VEVENT
BEGIN:VEVENT
DTSTART;VALUE=DATE:20190219
DTEND;VALUE=DATE:20190222
DTSTAMP:20260421T181508
CREATED:20180822T022545Z
LAST-MODIFIED:20180822T022545Z
UID:5090-1550534400-1550793599@www.noahwebster.org
SUMMARY:MESA Galileo Benchmark Testing
DESCRIPTION:
URL:https://www.noahwebster.org/event/mesa-galileo-benchmark-testing-3/
LOCATION:Mesa Campus\, 7301 E. Baseline Road\, Mesa\, AZ\, 85209\, United States
CATEGORIES:General
END:VEVENT
BEGIN:VEVENT
DTSTART;VALUE=DATE:20190219
DTEND;VALUE=DATE:20190222
DTSTAMP:20260421T181508
CREATED:20180822T022642Z
LAST-MODIFIED:20180822T022642Z
UID:5092-1550534400-1550793599@www.noahwebster.org
SUMMARY:PIMA Galileo Benchmark Testing
DESCRIPTION:
URL:https://www.noahwebster.org/event/pima-galileo-benchmark-testing-3/
LOCATION:Pima Campus\, 5399 N. Pima Road\, Scottsdale\, AZ\, 85250\, United States
CATEGORIES:General
END:VEVENT
BEGIN:VEVENT
DTSTART;TZID=UTC:20190220T100000
DTEND;TZID=UTC:20190220T100000
DTSTAMP:20260421T181508
CREATED:20180831T050733Z
LAST-MODIFIED:20180831T050733Z
UID:5180-1550656800-1550656800@www.noahwebster.org
SUMMARY:MESA Welcome Wednesday
DESCRIPTION:Come take a tour of the campus\, interact with Administrators and receive Admission information. If you can’t make it at 10:00 am\, contact us to schedule a private tour.
URL:https://www.noahwebster.org/event/mesa-welcome-wednesday-141/
LOCATION:Mesa Campus\, 7301 E. Baseline Road\, Mesa\, AZ\, 85209\, United States
CATEGORIES:General
END:VEVENT
BEGIN:VEVENT
DTSTART;TZID=UTC:20190220T100000
DTEND;TZID=UTC:20190220T100000
DTSTAMP:20260421T181508
CREATED:20180831T051507Z
LAST-MODIFIED:20180831T051507Z
UID:5184-1550656800-1550656800@www.noahwebster.org
SUMMARY:PIMA Welcome Wednesday
DESCRIPTION:Come take a tour of the campus\, interact with Administrators and receive Admission information. If you can’t make it at 10:00 am\, contact us to schedule a private tour.
URL:https://www.noahwebster.org/event/pima-welcome-wednesday-143/
LOCATION:Pima Campus\, 5399 N. Pima Road\, Scottsdale\, AZ\, 85250\, United States
CATEGORIES:General
END:VEVENT
BEGIN:VEVENT
DTSTART;TZID=UTC:20190220T183000
DTEND;TZID=UTC:20190220T193000
DTSTAMP:20260421T181508
CREATED:20180831T232209Z
LAST-MODIFIED:20180831T232209Z
UID:5289-1550687400-1550691000@www.noahwebster.org
SUMMARY:PIMA 4th Grade Musical
DESCRIPTION:
URL:https://www.noahwebster.org/event/pima-4th-grade-musical-3/
LOCATION:Pima Campus\, 5399 N. Pima Road\, Scottsdale\, AZ\, 85250\, United States
CATEGORIES:Music
END:VEVENT
BEGIN:VEVENT
DTSTART;TZID=UTC:20190221T183000
DTEND;TZID=UTC:20190221T193000
DTSTAMP:20260421T181508
CREATED:20180831T232641Z
LAST-MODIFIED:20180831T232641Z
UID:5297-1550773800-1550777400@www.noahwebster.org
SUMMARY:MESA 2nd Grade Showcase Night
DESCRIPTION:
URL:https://www.noahwebster.org/event/mesa-2nd-grade-showcase-night-3/
LOCATION:Mesa Campus\, 7301 E. Baseline Road\, Mesa\, AZ\, 85209\, United States
CATEGORIES:School Activity
END:VEVENT
BEGIN:VEVENT
DTSTART;TZID=UTC:20190221T183000
DTEND;TZID=UTC:20190221T193000
DTSTAMP:20260421T181508
CREATED:20180831T232836Z
LAST-MODIFIED:20180831T232836Z
UID:5299-1550773800-1550777400@www.noahwebster.org
SUMMARY:PIMA 2nd Grade Showcase Night
DESCRIPTION:
URL:https://www.noahwebster.org/event/pima-2nd-grade-showcase-night-3/
LOCATION:Pima Campus\, 5399 N. Pima Road\, Scottsdale\, AZ\, 85250\, United States
CATEGORIES:School Activity
END:VEVENT
BEGIN:VEVENT
DTSTART;TZID=UTC:20190222T183000
DTEND;TZID=UTC:20190222T203000
DTSTAMP:20260421T181508
CREATED:20180831T232949Z
LAST-MODIFIED:20180831T232949Z
UID:5301-1550860200-1550867400@www.noahwebster.org
SUMMARY:PIMA 6th Grade Party
DESCRIPTION:
URL:https://www.noahwebster.org/event/pima-6th-grade-party-4/
LOCATION:Pima Campus\, 5399 N. Pima Road\, Scottsdale\, AZ\, 85250\, United States
CATEGORIES:School Activity
END:VEVENT
BEGIN:VEVENT
DTSTART;TZID=UTC:20190225T183000
DTEND;TZID=UTC:20190225T193000
DTSTAMP:20260421T181508
CREATED:20190119T060940Z
LAST-MODIFIED:20190119T060940Z
UID:5811-1551119400-1551123000@www.noahwebster.org
SUMMARY:PIMA Bully Prevention Parents Night
DESCRIPTION:
URL:https://www.noahwebster.org/event/pima-bully-prevention-parents-night/
LOCATION:Pima Campus\, 5399 N. Pima Road\, Scottsdale\, AZ\, 85250\, United States
CATEGORIES:General
END:VEVENT
BEGIN:VEVENT
DTSTART;TZID=UTC:20190226T094500
DTEND;TZID=UTC:20190226T094500
DTSTAMP:20260421T181508
CREATED:20190104T050644Z
LAST-MODIFIED:20190104T050644Z
UID:5775-1551174300-1551174300@www.noahwebster.org
SUMMARY:PIMA Kindergarten Field Trip
DESCRIPTION:OdySea Aquarium
URL:https://www.noahwebster.org/event/pima-kindergarten-field-trip-3/
LOCATION:OdySea Aquarium
CATEGORIES:Field Trip
END:VEVENT
END:VCALENDAR