BEGIN:VCALENDAR
VERSION:2.0
PRODID:-//Noah Webster - ECPv6.15.20//NONSGML v1.0//EN
CALSCALE:GREGORIAN
METHOD:PUBLISH
X-ORIGINAL-URL:https://www.noahwebster.org
X-WR-CALDESC:Events for Noah Webster
REFRESH-INTERVAL;VALUE=DURATION:PT1H
X-Robots-Tag:noindex
X-PUBLISHED-TTL:PT1H
BEGIN:VTIMEZONE
TZID:America/Phoenix
BEGIN:STANDARD
TZOFFSETFROM:-0700
TZOFFSETTO:-0700
TZNAME:MST
DTSTART:20190101T000000
END:STANDARD
END:VTIMEZONE
BEGIN:VEVENT
DTSTART;TZID=America/Phoenix:20200708T163000
DTEND;TZID=America/Phoenix:20200708T163000
DTSTAMP:20260423T205506
CREATED:20200625T181314Z
LAST-MODIFIED:20200707T223045Z
UID:7089-1594225800-1594225800@www.noahwebster.org
SUMMARY:NWS-Mesa Fiscal Year 2021 Budget Adoption Board Meeting
DESCRIPTION:Please click HERE to view the Board Meeting Notification and Agenda. \nPlease click HERE to view the  Fiscal Year 2021 Budget Adoption Public Hearing Notification. \nPlease click HERE to view the Fiscal Year 2021 Proposed Budget Summary.
URL:https://www.noahwebster.org/event/nws-mesa-fiscal-year-2021-budget-adoption-meeting/
LOCATION:Noah Webster Schools Corporate Offices\, 5399 N. Pima Road\, Scottsdale\, AZ\, 85250\, United States
CATEGORIES:General
END:VEVENT
BEGIN:VEVENT
DTSTART;TZID=America/Phoenix:20200708T163000
DTEND;TZID=America/Phoenix:20200708T163000
DTSTAMP:20260423T205506
CREATED:20200625T181612Z
LAST-MODIFIED:20200707T223147Z
UID:7090-1594225800-1594225800@www.noahwebster.org
SUMMARY:NWS-Pima Fiscal Year 2021 Budget Adoption Board Meeting
DESCRIPTION:Please click HERE to view the Board Meeting Notification and Agenda. \nPlease click HERE to view the  Fiscal Year 2021 Budget Adoption Public Hearing Notification. \nPlease click HERE to view the Fiscal Year 2021 Proposed Budget Summary.
URL:https://www.noahwebster.org/event/nws-pima-fiscal-year-2021-budget-adoption-meeting/
LOCATION:Noah Webster Schools Corporate Offices\, 5399 N. Pima Road\, Scottsdale\, AZ\, 85250\, United States
CATEGORIES:General
END:VEVENT
BEGIN:VEVENT
DTSTART;TZID=America/Phoenix:20200708T183000
DTEND;TZID=America/Phoenix:20200708T190000
DTSTAMP:20260423T205506
CREATED:20200625T223252Z
LAST-MODIFIED:20200625T223252Z
UID:7099-1594233000-1594234800@www.noahwebster.org
SUMMARY:Kindergarten Virtual Information Night
DESCRIPTION:Join our principals to learn more about full day Kindergarten program! \nJoin Zoom Meeting\nhttps://us04web.zoom.us/j/78915567664?pwd=N3ZnWGtDZzlmSzk2bkppWkRxSkxJUT09 \nMeeting ID: 789 1556 7664\nPassword: 1BHBKq
URL:https://www.noahwebster.org/event/kindergarten-virtual-information-night/
LOCATION:AZ
CATEGORIES:New Family Virtual Tours
END:VEVENT
BEGIN:VEVENT
DTSTART;TZID=America/Phoenix:20200709T163000
DTEND;TZID=America/Phoenix:20200709T180000
DTSTAMP:20260423T205506
CREATED:20200625T213817Z
LAST-MODIFIED:20200625T213817Z
UID:7091-1594312200-1594317600@www.noahwebster.org
SUMMARY:Mesa-Onsite New Family Night Tours
DESCRIPTION:To sign up for an onsite tour\, please click the link provided.  Please note\, each tour slot will only consist of one family at a time for the safety of our families and staff. \nhttps://www.signupgenius.com/go/60B094DADAF22AAFE3-newfamily8 \nIf you prefer to not have an onsite tour\, please feel free to join the virtual Zoom event on the same day. For virtual times and the Zoom link or if you have any questions\, please email us directly at noahwebsterschools@noahwebster.org
URL:https://www.noahwebster.org/event/mesa-onsite-new-family-night-tours/
LOCATION:AZ
CATEGORIES:New Family Onsite Tours
END:VEVENT
BEGIN:VEVENT
DTSTART;TZID=America/Phoenix:20200709T183000
DTEND;TZID=America/Phoenix:20200709T190000
DTSTAMP:20260423T205506
CREATED:20200624T212222Z
LAST-MODIFIED:20200624T212222Z
UID:7077-1594319400-1594321200@www.noahwebster.org
SUMMARY:Mesa-Virtual New Family Night
DESCRIPTION:Join Zoom Meeting \nhttps://us04web.zoom.us/j/76718788260?pwd=WVBhWUh0VExtYnNDMDhUVlVxUzVIZz09 \nMeeting ID: 767 1878 8260 \nPassword: 3Xz7MW
URL:https://www.noahwebster.org/event/mesa-virtual-new-family-night-5/
LOCATION:AZ
CATEGORIES:New Family Virtual Tours
END:VEVENT
BEGIN:VEVENT
DTSTART;TZID=America/Phoenix:20200714T163000
DTEND;TZID=America/Phoenix:20200714T180000
DTSTAMP:20260423T205506
CREATED:20200625T213957Z
LAST-MODIFIED:20200625T213957Z
UID:7092-1594744200-1594749600@www.noahwebster.org
SUMMARY:Mesa-Onsite New Family Night Tours
DESCRIPTION:To sign up for an onsite tour\, please click the link provided.  Please note\, each tour slot will only consist of one family at a time for the safety of our families and staff. \nhttps://www.signupgenius.com/go/60B094DADAF22AAFE3-newfamily9 \nIf you prefer to not have an onsite tour\, please feel free to join the virtual Zoom event on the same day. For virtual times and the Zoom link or if you have any questions\, please email us directly at noahwebsterschools@noahwebster.org
URL:https://www.noahwebster.org/event/mesa-onsite-new-family-night-tours-2/
LOCATION:AZ
CATEGORIES:New Family Onsite Tours
END:VEVENT
BEGIN:VEVENT
DTSTART;TZID=America/Phoenix:20200714T183000
DTEND;TZID=America/Phoenix:20200714T190000
DTSTAMP:20260423T205506
CREATED:20200624T212351Z
LAST-MODIFIED:20200624T212351Z
UID:7078-1594751400-1594753200@www.noahwebster.org
SUMMARY:Mesa-Virtual New Family Night
DESCRIPTION:Join Zoom Meeting \nhttps://us04web.zoom.us/j/76118967153?pwd=bXlZbGJVRXdnWjF3VEZZd2R4TXdOZz09 \nMeeting ID: 761 1896 7153 \nPassword: 5VZVuq
URL:https://www.noahwebster.org/event/mesa-virtual-new-family-night-6/
LOCATION:AZ
CATEGORIES:New Family Virtual Tours
END:VEVENT
BEGIN:VEVENT
DTSTART;TZID=America/Phoenix:20200715T100000
DTEND;TZID=America/Phoenix:20200715T110000
DTSTAMP:20260423T205506
CREATED:20200624T204406Z
LAST-MODIFIED:20200624T204406Z
UID:7070-1594807200-1594810800@www.noahwebster.org
SUMMARY:Onsite Tour with the Principal
DESCRIPTION:To schedule an onsite tour\, please click one of the two links provided.  Please note\, each tour slot will only consist of one family at a time for the safety of our families and staff. \nMesa Campus Principal Tour– https://www.signupgenius.com/go/60B094DADAF22AAFE3-tour \nPima Campus Principal Tour– https://www.signupgenius.com/go/60B094DADAF22AAFE3-tour1 \nIf you prefer to not have an onsite tour\, please feel free to join the virtual Zoom event on the same day. For virtual times and the Zoom link or if you have any questions\, please email us directly at noahwebsterschools@noahwebster.org
URL:https://www.noahwebster.org/event/onsite-tour-with-the-principal-2/
LOCATION:AZ
CATEGORIES:New Family Onsite Tours
END:VEVENT
BEGIN:VEVENT
DTSTART;TZID=America/Phoenix:20200715T110000
DTEND;TZID=America/Phoenix:20200715T113000
DTSTAMP:20260423T205506
CREATED:20200624T204722Z
LAST-MODIFIED:20200624T204722Z
UID:7073-1594810800-1594812600@www.noahwebster.org
SUMMARY:Virtual Tour with the Principal
DESCRIPTION:Noah Webster Schools would like to invite you to interact with the Principal and receive admission information via online with Zoom. \nPlease click one of the links below to join a virtual tour. \nMESA Campus with Principal Friedermann: https://us04web.zoom.us/j/909050545?pwd=ell0R2ZMaitmejRCamIyYkc3Rlppdz09 \nPIMA Campus with Principal Rodenbaugh: https://us04web.zoom.us/j/805957014
URL:https://www.noahwebster.org/event/virtual-tour-with-the-principal-2/
LOCATION:AZ
CATEGORIES:New Family Virtual Tours
END:VEVENT
BEGIN:VEVENT
DTSTART;TZID=America/Phoenix:20200715T183000
DTEND;TZID=America/Phoenix:20200715T190000
DTSTAMP:20260423T205506
CREATED:20200625T223353Z
LAST-MODIFIED:20200625T223353Z
UID:7101-1594837800-1594839600@www.noahwebster.org
SUMMARY:Kindergarten Virtual Information Night
DESCRIPTION:Join our principals to learn more about full day Kindergarten program! \nJoin Zoom Meeting\nhttps://us04web.zoom.us/j/78915567664?pwd=N3ZnWGtDZzlmSzk2bkppWkRxSkxJUT09 \nMeeting ID: 789 1556 7664\nPassword: 1BHBKq
URL:https://www.noahwebster.org/event/kindergarten-virtual-information-night-2/
LOCATION:AZ
CATEGORIES:New Family Virtual Tours
END:VEVENT
BEGIN:VEVENT
DTSTART;TZID=America/Phoenix:20200716T163000
DTEND;TZID=America/Phoenix:20200716T180000
DTSTAMP:20260423T205506
CREATED:20200625T214602Z
LAST-MODIFIED:20200625T214602Z
UID:7096-1594917000-1594922400@www.noahwebster.org
SUMMARY:Pima-Onsite New Family Night Tours
DESCRIPTION:To sign up for an onsite tour\, please click the link provided.  Please note\, each tour slot will only consist of one family at a time for the safety of our families and staff. \nhttps://www.signupgenius.com/go/60B094DADAF22AAFE3-newfamily13 \nIf you prefer to not have an onsite tour\, please feel free to join the virtual Zoom event on the same day. For virtual times and the Zoom link or if you have any questions\, please email us directly at noahwebsterschools@noahwebster.org
URL:https://www.noahwebster.org/event/pima-onsite-new-family-night-tours-2/
LOCATION:AZ
CATEGORIES:New Family Onsite Tours
END:VEVENT
BEGIN:VEVENT
DTSTART;TZID=America/Phoenix:20200716T183000
DTEND;TZID=America/Phoenix:20200716T190000
DTSTAMP:20260423T205506
CREATED:20200624T212502Z
LAST-MODIFIED:20200624T212502Z
UID:7079-1594924200-1594926000@www.noahwebster.org
SUMMARY:Pima-Virtual New Family Night
DESCRIPTION:Join Zoom Meeting \nhttps://us04web.zoom.us/j/76554966646?pwd=OHVYWVgzcm1uajRBYTVEMmFYQzIxUT09 \nMeeting ID: 765 5496 6646 \nPassword: 6nyuWb
URL:https://www.noahwebster.org/event/pima-virtual-new-family-night-6/
LOCATION:AZ
CATEGORIES:New Family Virtual Tours
END:VEVENT
BEGIN:VEVENT
DTSTART;TZID=America/Phoenix:20200721T163000
DTEND;TZID=America/Phoenix:20200721T180000
DTSTAMP:20260423T205506
CREATED:20200625T214732Z
LAST-MODIFIED:20200625T214732Z
UID:7097-1595349000-1595354400@www.noahwebster.org
SUMMARY:Pima-Onsite New Family Night Tours
DESCRIPTION:To sign up for an onsite tour\, please click the link provided.  Please note\, each tour slot will only consist of one family at a time for the safety of our families and staff. \nhttps://www.signupgenius.com/go/60B094DADAF22AAFE3-newfamily14 \nIf you prefer to not have an onsite tour\, please feel free to join the virtual Zoom event on the same day. For virtual times and the Zoom link or if you have any questions\, please email us directly at noahwebsterschools@noahwebster.org
URL:https://www.noahwebster.org/event/pima-onsite-new-family-night-tours-3/
LOCATION:AZ
CATEGORIES:New Family Onsite Tours
END:VEVENT
BEGIN:VEVENT
DTSTART;TZID=America/Phoenix:20200721T183000
DTEND;TZID=America/Phoenix:20200721T190000
DTSTAMP:20260423T205506
CREATED:20200624T212605Z
LAST-MODIFIED:20200624T212605Z
UID:7081-1595356200-1595358000@www.noahwebster.org
SUMMARY:Pima-Virtual New Family Nights
DESCRIPTION:Join Zoom Meeting \nhttps://us04web.zoom.us/j/71082294513?pwd=Y0J1R0F6N1VTVXpmVGhxTTNZaEQvdz09 \nMeeting ID: 710 8229 4513 \nPassword: 7DQUJc
URL:https://www.noahwebster.org/event/pima-virtual-new-family-nights/
LOCATION:AZ
CATEGORIES:New Family Virtual Tours
END:VEVENT
BEGIN:VEVENT
DTSTART;TZID=America/Phoenix:20200722T100000
DTEND;TZID=America/Phoenix:20200722T110000
DTSTAMP:20260423T205506
CREATED:20200624T204451Z
LAST-MODIFIED:20200624T204451Z
UID:7071-1595412000-1595415600@www.noahwebster.org
SUMMARY:Onsite Tour with the Principal
DESCRIPTION:To schedule an onsite tour\, please click one of the two links provided.  Please note\, each tour slot will only consist of one family at a time for the safety of our families and staff. \nMesa Campus Principal Tour– https://www.signupgenius.com/go/60B094DADAF22AAFE3-tour \nPima Campus Principal Tour– https://www.signupgenius.com/go/60B094DADAF22AAFE3-tour1 \nIf you prefer to not have an onsite tour\, please feel free to join the virtual Zoom event on the same day. For virtual times and the Zoom link or if you have any questions\, please email us directly at noahwebsterschools@noahwebster.org
URL:https://www.noahwebster.org/event/onsite-tour-with-the-principal-3/
LOCATION:AZ
CATEGORIES:New Family Onsite Tours
END:VEVENT
BEGIN:VEVENT
DTSTART;TZID=America/Phoenix:20200722T110000
DTEND;TZID=America/Phoenix:20200722T113000
DTSTAMP:20260423T205506
CREATED:20200624T204814Z
LAST-MODIFIED:20200720T192401Z
UID:7074-1595415600-1595417400@www.noahwebster.org
SUMMARY:Virtual Tour with the Principal
DESCRIPTION:Noah Webster Schools would like to invite you to interact with the Principal and receive admission information via online with Zoom. \nPlease click one of the links below to join a virtual tour. \nMESA Campus with Principal Friedermann: Hosted by Mrs. Haas\, Director  \nhttps://us04web.zoom.us/j/74669239097?pwd=cGtTeDJnRUJDVHE1czltK04vSDRoQT09 \nMeeting ID: 746 6923 9097\nPasscode: 4L3Ayt \nPIMA Campus with Principal Rodenbaugh: Hosted by Mrs. Pena\, Director \nhttps://us04web.zoom.us/j/79212644842?pwd=S1I3dnQ4TXpZZjdIR2FkRmk5cWRPZz09 \nMeeting ID: 792 1264 4842 \nPasscode: PfWj3E
URL:https://www.noahwebster.org/event/virtual-tour-with-the-principal-3/
LOCATION:AZ
CATEGORIES:New Family Virtual Tours
END:VEVENT
BEGIN:VEVENT
DTSTART;TZID=America/Phoenix:20200722T183000
DTEND;TZID=America/Phoenix:20200722T190000
DTSTAMP:20260423T205506
CREATED:20200625T223441Z
LAST-MODIFIED:20200625T223441Z
UID:7102-1595442600-1595444400@www.noahwebster.org
SUMMARY:Kindergarten Virtual Information Night
DESCRIPTION:Join our principals to learn more about full day Kindergarten program! \nJoin Zoom Meeting\nhttps://us04web.zoom.us/j/78915567664?pwd=N3ZnWGtDZzlmSzk2bkppWkRxSkxJUT09 \nMeeting ID: 789 1556 7664\nPassword: 1BHBKq
URL:https://www.noahwebster.org/event/kindergarten-virtual-information-night-3/
LOCATION:AZ
CATEGORIES:New Family Virtual Tours
END:VEVENT
BEGIN:VEVENT
DTSTART;TZID=America/Phoenix:20200723T163000
DTEND;TZID=America/Phoenix:20200723T180000
DTSTAMP:20260423T205506
CREATED:20200625T214124Z
LAST-MODIFIED:20200625T214124Z
UID:7093-1595521800-1595527200@www.noahwebster.org
SUMMARY:Mesa-Onsite New Family Night Tours
DESCRIPTION:To sign up for an onsite tour\, please click the link provided.  Please note\, each tour slot will only consist of one family at a time for the safety of our families and staff. \nhttps://www.signupgenius.com/go/60B094DADAF22AAFE3-newfamily10 \nIf you prefer to not have an onsite tour\, please feel free to join the virtual Zoom event on the same day. For virtual times and the Zoom link or if you have any questions\, please email us directly at noahwebsterschools@noahwebster.org
URL:https://www.noahwebster.org/event/mesa-onsite-new-family-night-tours-3/
LOCATION:AZ
CATEGORIES:New Family Onsite Tours
END:VEVENT
BEGIN:VEVENT
DTSTART;TZID=America/Phoenix:20200723T183000
DTEND;TZID=America/Phoenix:20200723T190000
DTSTAMP:20260423T205506
CREATED:20200624T212706Z
LAST-MODIFIED:20200624T212706Z
UID:7082-1595529000-1595530800@www.noahwebster.org
SUMMARY:Mesa-Virtual New Family Night
DESCRIPTION:Join Zoom Meeting \nhttps://us04web.zoom.us/j/77159899996?pwd=T0lBWit3ZGh0OStaREt0Y1FuZkJHQT09 \nMeeting ID: 771 5989 9996 \nPassword: 4GKT7V
URL:https://www.noahwebster.org/event/mesa-virtual-new-family-night-7/
LOCATION:AZ
CATEGORIES:New Family Virtual Tours
END:VEVENT
BEGIN:VEVENT
DTSTART;TZID=America/Phoenix:20200728T043000
DTEND;TZID=America/Phoenix:20200728T180000
DTSTAMP:20260423T205506
CREATED:20200723T235131Z
LAST-MODIFIED:20200723T235332Z
UID:7135-1595910600-1595959200@www.noahwebster.org
SUMMARY:Mesa-Onsite New Family Night Tours
DESCRIPTION:To sign up for an onsite tour\, please click the link provided.  Please note\, each tour slot will only consist of one family at a time for the safety of our families and staff. \nClick here to schedule your private tour time \nIf you prefer to not have an onsite tour\, please feel free to join the virtual Zoom event on the same day. For virtual times and the Zoom link or if you have any questions\, please email us directly at noahwebsterschools@noahwebster.org
URL:https://www.noahwebster.org/event/mesa-onsite-new-family-night-tours-5/
LOCATION:AZ
CATEGORIES:New Family Onsite Tours
END:VEVENT
BEGIN:VEVENT
DTSTART;TZID=America/Phoenix:20200728T163000
DTEND;TZID=America/Phoenix:20200728T180000
DTSTAMP:20260423T205506
CREATED:20200723T235303Z
LAST-MODIFIED:20200723T235303Z
UID:7136-1595953800-1595959200@www.noahwebster.org
SUMMARY:Pima-Onsite New Family Night Tours
DESCRIPTION:To sign up for an onsite tour\, please click the link provided.  Please note\, each tour slot will only consist of one family at a time for the safety of our families and staff. \nClick here to schedule your private tour time \nIf you prefer to not have an onsite tour\, please feel free to join the virtual Zoom event on the same day. For virtual times and the Zoom link or if you have any questions\, please email us directly at noahwebsterschools@noahwebster.org
URL:https://www.noahwebster.org/event/pima-onsite-new-family-night-tours-5/
LOCATION:AZ
CATEGORIES:New Family Onsite Tours
END:VEVENT
BEGIN:VEVENT
DTSTART;TZID=America/Phoenix:20200729T110000
DTEND;TZID=America/Phoenix:20200729T113000
DTSTAMP:20260423T205506
CREATED:20200624T204904Z
LAST-MODIFIED:20200720T202726Z
UID:7075-1596020400-1596022200@www.noahwebster.org
SUMMARY:Virtual Tour with the Principal
DESCRIPTION:Noah Webster Schools would like to invite you to interact with the Principal and receive admission information via online with Zoom. \nPlease click one of the links below to join a virtual tour. \nMESA Campus with Principal Friedermann: https://us04web.zoom.us/j/909050545?pwd=ell0R2ZMaitmejRCamIyYkc3Rlppdz09 \nPIMA Campus with Principal Rodenbaugh:  https://us04web.zoom.us/j/72896354123?pwd=SVJJWmdrZUZZaUFmQjQ4bDFEV2pOdz09 \nMeeting ID: 728 9635 4123\nPasscode: 0XXFni
URL:https://www.noahwebster.org/event/virtual-tour-with-the-principal-4/
LOCATION:AZ
CATEGORIES:New Family Virtual Tours
END:VEVENT
BEGIN:VEVENT
DTSTART;TZID=America/Phoenix:20200729T183000
DTEND;TZID=America/Phoenix:20200729T190000
DTSTAMP:20260423T205506
CREATED:20200625T223526Z
LAST-MODIFIED:20200625T223526Z
UID:7103-1596047400-1596049200@www.noahwebster.org
SUMMARY:Kindergarten Virtual Information Night
DESCRIPTION:Join our principals to learn more about full day Kindergarten program! \nJoin Zoom Meeting\nhttps://us04web.zoom.us/j/78915567664?pwd=N3ZnWGtDZzlmSzk2bkppWkRxSkxJUT09 \nMeeting ID: 789 1556 7664\nPassword: 1BHBKq
URL:https://www.noahwebster.org/event/kindergarten-virtual-information-night-4/
LOCATION:AZ
CATEGORIES:New Family Virtual Tours
END:VEVENT
BEGIN:VEVENT
DTSTART;TZID=America/Phoenix:20200730T183000
DTEND;TZID=America/Phoenix:20200730T193000
DTSTAMP:20260423T205506
CREATED:20200729T004254Z
LAST-MODIFIED:20200730T020309Z
UID:7165-1596133800-1596137400@www.noahwebster.org
SUMMARY:Noah Webster Schools Family Forum
DESCRIPTION:Please join us for our Family Forum on Thursday\, July 30th at 6:30 pm.  Please note\, the webinar will accommodate the first 1\,000 attendees.  If you are unable to join\, we will be providing a link to view a recorded option. \nPlease click the link below to join the webinar: \nNoah Webster Schools Family Forum \nIf prompted\, the passcode is NWS730 \nTo protect the privacy of our families\, the live chat function will be disabled.  We will be addressing most frequently asked questions that have been sent to our principals and submitted through our website.    If after the Forum you still have questions\, please feel free to reach out to your site principal. \n 
URL:https://www.noahwebster.org/event/noah-webster-schools-family-forum/
LOCATION:AZ
CATEGORIES:School Activity
END:VEVENT
BEGIN:VEVENT
DTSTART;TZID=America/Phoenix:20200805T100000
DTEND;TZID=America/Phoenix:20200805T110000
DTSTAMP:20260423T205506
CREATED:20200624T204539Z
LAST-MODIFIED:20200805T000858Z
UID:7072-1596621600-1596625200@www.noahwebster.org
SUMMARY:Onsite Tour with the Principal
DESCRIPTION:To schedule an onsite tour\, please click one of the two links provided.  Please note\, each tour slot will only consist of one family at a time for the safety of our families and staff. \nMesa Campus Principal Tour– Click HERE \nPima Campus Principal Tour– Click HERE \nIf you prefer to not have an onsite tour\, please feel free to join the virtual Zoom event on the same day. For virtual times and the Zoom link or if you have any questions\, please email us directly at noahwebsterschools@noahwebster.org
URL:https://www.noahwebster.org/event/onsite-tour-with-the-principal-4/
LOCATION:AZ
CATEGORIES:New Family Onsite Tours
END:VEVENT
BEGIN:VEVENT
DTSTART;TZID=America/Phoenix:20200805T110000
DTEND;TZID=America/Phoenix:20200805T113000
DTSTAMP:20260423T205506
CREATED:20200720T190115Z
LAST-MODIFIED:20200720T192130Z
UID:7128-1596625200-1596627000@www.noahwebster.org
SUMMARY:Virtual Tour with the Principal
DESCRIPTION:Noah Webster Schools would like to invite you to interact with the Principal and receive admission information via online with Zoom. \nPlease click one of the links below to join a virtual tour. \nMESA Campus with Principal Friedermann: Hosted by Mrs. Haas\, Director  \nhttps://us04web.zoom.us/j/74669239097?pwd=cGtTeDJnRUJDVHE1czltK04vSDRoQT09 \nMeeting ID: 746 6923 9097\nPasscode: 4L3Ayt \nPIMA Campus with Principal Rodenbaugh: Hosted by Mrs. Pena\, Director \nhttps://us04web.zoom.us/j/79212644842?pwd=S1I3dnQ4TXpZZjdIR2FkRmk5cWRPZz09 \nMeeting ID: 792 1264 4842 \nPasscode: PfWj3E
URL:https://www.noahwebster.org/event/virtual-tour-with-the-principal-5/
LOCATION:AZ
CATEGORIES:New Family Virtual Tours
END:VEVENT
BEGIN:VEVENT
DTSTART;TZID=America/Phoenix:20200811T163000
DTEND;TZID=America/Phoenix:20200811T163000
DTSTAMP:20260423T205506
CREATED:20200805T231441Z
LAST-MODIFIED:20200805T231522Z
UID:7188-1597163400-1597163400@www.noahwebster.org
SUMMARY:NWS-Mesa Board Meeting
DESCRIPTION:Please click HERE to view the Board Meeting Notification and Agenda
URL:https://www.noahwebster.org/event/nws-mesa-board-meeting-35/
LOCATION:Noah Webster Schools Corporate Offices\, 5399 N. Pima Road\, Scottsdale\, AZ\, 85250\, United States
CATEGORIES:General
END:VEVENT
BEGIN:VEVENT
DTSTART;TZID=America/Phoenix:20200811T163000
DTEND;TZID=America/Phoenix:20200811T163000
DTSTAMP:20260423T205506
CREATED:20200805T231641Z
LAST-MODIFIED:20200805T231641Z
UID:7192-1597163400-1597163400@www.noahwebster.org
SUMMARY:NWS-Pima Board Meeting
DESCRIPTION:Please click HERE to view the Board Meeting Notification and Agenda.
URL:https://www.noahwebster.org/event/nws-pima-board-meeting-42/
LOCATION:Noah Webster Schools Corporate Offices\, 5399 N. Pima Road\, Scottsdale\, AZ\, 85250\, United States
CATEGORIES:General
END:VEVENT
BEGIN:VEVENT
DTSTART;TZID=America/Phoenix:20200811T163000
DTEND;TZID=America/Phoenix:20200811T180000
DTSTAMP:20260423T205506
CREATED:20200625T214829Z
LAST-MODIFIED:20200709T202935Z
UID:7098-1597163400-1597168800@www.noahwebster.org
SUMMARY:Pima-Onsite New Family Night Tours
DESCRIPTION:To sign up for an onsite tour\, please click the link provided.  Please note\, each tour slot will only consist of one family at a time for the safety of our families and staff. \nhttps://www.signupgenius.com/go/60B094DADAF22AAFE3-newfamily15 \nIf you prefer to not have an onsite tour\, please feel free to join the virtual Zoom event on the same day. For virtual times and the Zoom link or if you have any questions\, please email us directly at noahwebsterschools@noahwebster.org
URL:https://www.noahwebster.org/event/pima-onsite-new-family-night-tours-4/
LOCATION:AZ
CATEGORIES:New Family Onsite Tours
END:VEVENT
BEGIN:VEVENT
DTSTART;TZID=America/Phoenix:20200811T183000
DTEND;TZID=America/Phoenix:20200811T190000
DTSTAMP:20260423T205506
CREATED:20200624T212807Z
LAST-MODIFIED:20200709T202903Z
UID:7083-1597170600-1597172400@www.noahwebster.org
SUMMARY:Pima-Virtual New Family Night
DESCRIPTION:Join Zoom Meeting \nhttps://us04web.zoom.us/j/71956938121?pwd=S2FYbzFQT1JLZWhyeU55VTJZeExEZz09 \nMeeting ID: 719 5693 8121 \nPassword: 5b6nJp
URL:https://www.noahwebster.org/event/pima-virtual-new-family-night-7/
LOCATION:AZ
CATEGORIES:New Family Virtual Tours
END:VEVENT
END:VCALENDAR