BEGIN:VCALENDAR
VERSION:2.0
PRODID:-//Noah Webster - ECPv6.15.20//NONSGML v1.0//EN
CALSCALE:GREGORIAN
METHOD:PUBLISH
X-WR-CALNAME:Noah Webster
X-ORIGINAL-URL:https://www.noahwebster.org
X-WR-CALDESC:Events for Noah Webster
REFRESH-INTERVAL;VALUE=DURATION:PT1H
X-Robots-Tag:noindex
X-PUBLISHED-TTL:PT1H
BEGIN:VTIMEZONE
TZID:America/Phoenix
BEGIN:STANDARD
TZOFFSETFROM:-0700
TZOFFSETTO:-0700
TZNAME:MST
DTSTART:20220101T000000
END:STANDARD
END:VTIMEZONE
BEGIN:VEVENT
DTSTART;TZID=America/Phoenix:20231214T090000
DTEND;TZID=America/Phoenix:20231214T140000
DTSTAMP:20260423T231117
CREATED:20230928T221254Z
LAST-MODIFIED:20230928T221254Z
UID:9678-1702544400-1702562400@www.noahwebster.org
SUMMARY:PIMA 4th Gr. Field Trip
DESCRIPTION:Jake’s Unlimited
URL:https://www.noahwebster.org/event/pima-4th-gr-field-trip-6/
LOCATION:Jake’s Unlimited
CATEGORIES:Field Trip
END:VEVENT
BEGIN:VEVENT
DTSTART;TZID=America/Phoenix:20231214T091500
DTEND;TZID=America/Phoenix:20231214T140000
DTSTAMP:20260423T231117
CREATED:20230928T221750Z
LAST-MODIFIED:20230928T221750Z
UID:9680-1702545300-1702562400@www.noahwebster.org
SUMMARY:MESA 4th Gr. Field Trip
DESCRIPTION:Jake’s Unlimited
URL:https://www.noahwebster.org/event/mesa-4th-gr-field-trip-6/
LOCATION:Jake’s Unlimited
CATEGORIES:Field Trip
END:VEVENT
BEGIN:VEVENT
DTSTART;TZID=America/Phoenix:20231215T083000
DTEND;TZID=America/Phoenix:20231215T090000
DTSTAMP:20260423T231117
CREATED:20231103T184240Z
LAST-MODIFIED:20231103T184240Z
UID:9775-1702629000-1702630800@www.noahwebster.org
SUMMARY:MESA PK-2nd Gr. Pep Assembly
DESCRIPTION:
URL:https://www.noahwebster.org/event/mesa-pk-2nd-gr-pep-assembly-3/
LOCATION:Mesa Campus\, 7301 E. Baseline Road\, Mesa\, AZ\, 85209\, United States
CATEGORIES:General
END:VEVENT
BEGIN:VEVENT
DTSTART;VALUE=DATE:20231220
DTEND;VALUE=DATE:20231221
DTSTAMP:20260423T231117
CREATED:20230606T212155Z
LAST-MODIFIED:20230606T212155Z
UID:9326-1703030400-1703116799@www.noahwebster.org
SUMMARY:MESA Professional Development Day (Early Dismissal)
DESCRIPTION:
URL:https://www.noahwebster.org/event/mesa-professional-development-day-early-dismissal-80/
LOCATION:Mesa Campus\, 7301 E. Baseline Road\, Mesa\, AZ\, 85209\, United States
CATEGORIES:Early Dismissal
END:VEVENT
BEGIN:VEVENT
DTSTART;VALUE=DATE:20231220
DTEND;VALUE=DATE:20231221
DTSTAMP:20260423T231117
CREATED:20230606T212415Z
LAST-MODIFIED:20230606T212415Z
UID:9328-1703030400-1703116799@www.noahwebster.org
SUMMARY:PIMA Professional Development Day (Early Dismissal)
DESCRIPTION:
URL:https://www.noahwebster.org/event/pima-professional-development-day-early-dismissal-89/
LOCATION:Pima Campus\, 5399 N. Pima Road\, Scottsdale\, AZ\, 85250\, United States
CATEGORIES:Early Dismissal
END:VEVENT
BEGIN:VEVENT
DTSTART;VALUE=DATE:20231221
DTEND;VALUE=DATE:20240106
DTSTAMP:20260423T231117
CREATED:20230606T212453Z
LAST-MODIFIED:20230606T212453Z
UID:9329-1703116800-1704499199@www.noahwebster.org
SUMMARY:Winter Break (No School)
DESCRIPTION:
URL:https://www.noahwebster.org/event/winter-break-no-school-3/
LOCATION:AZ
CATEGORIES:Holiday
END:VEVENT
BEGIN:VEVENT
DTSTART;VALUE=DATE:20240108
DTEND;VALUE=DATE:20240109
DTSTAMP:20260423T231117
CREATED:20230606T213125Z
LAST-MODIFIED:20230606T213242Z
UID:9330-1704672000-1704758399@www.noahwebster.org
SUMMARY:MESA Winter Semester Begins
DESCRIPTION:
URL:https://www.noahwebster.org/event/mesa-school-resumes-6/
LOCATION:Mesa Campus\, 7301 E. Baseline Road\, Mesa\, AZ\, 85209\, United States
CATEGORIES:General
END:VEVENT
BEGIN:VEVENT
DTSTART;VALUE=DATE:20240108
DTEND;VALUE=DATE:20240109
DTSTAMP:20260423T231117
CREATED:20230606T213218Z
LAST-MODIFIED:20230606T213218Z
UID:9331-1704672000-1704758399@www.noahwebster.org
SUMMARY:PIMA Winter Semester Begins
DESCRIPTION:
URL:https://www.noahwebster.org/event/pima-winter-semester-begins-2/
LOCATION:Pima Campus\, 5399 N. Pima Road\, Scottsdale\, AZ\, 85250\, United States
CATEGORIES:General
END:VEVENT
BEGIN:VEVENT
DTSTART;VALUE=DATE:20240108
DTEND;VALUE=DATE:20240109
DTSTAMP:20260423T231117
CREATED:20230920T222657Z
LAST-MODIFIED:20230920T222657Z
UID:9600-1704672000-1704758399@www.noahwebster.org
SUMMARY:After School Programs: Session 4 Begins
DESCRIPTION:
URL:https://www.noahwebster.org/event/after-school-programs-session-4-begins-2/
LOCATION:AZ
CATEGORIES:After School Program
END:VEVENT
BEGIN:VEVENT
DTSTART;TZID=America/Phoenix:20240112T083000
DTEND;TZID=America/Phoenix:20240112T090000
DTSTAMP:20260423T231117
CREATED:20231103T183721Z
LAST-MODIFIED:20231103T183721Z
UID:9767-1705048200-1705050000@www.noahwebster.org
SUMMARY:MESA 3rd-6th Gr. Pep Assembly
DESCRIPTION:
URL:https://www.noahwebster.org/event/mesa-3rd-6th-gr-pep-assembly-3/
LOCATION:Mesa Campus\, 7301 E. Baseline Road\, Mesa\, AZ\, 85209\, United States
CATEGORIES:General
END:VEVENT
BEGIN:VEVENT
DTSTART;TZID=America/Phoenix:20240112T083000
DTEND;TZID=America/Phoenix:20240112T090000
DTSTAMP:20260423T231117
CREATED:20231103T185843Z
LAST-MODIFIED:20231103T185843Z
UID:9792-1705048200-1705050000@www.noahwebster.org
SUMMARY:PIMA 3rd-6th Gr. Pep Assembly
DESCRIPTION:
URL:https://www.noahwebster.org/event/pima-3rd-6th-gr-pep-assembly-4/
LOCATION:Pima Campus\, 5399 N. Pima Road\, Scottsdale\, AZ\, 85250\, United States
CATEGORIES:General
END:VEVENT
BEGIN:VEVENT
DTSTART;VALUE=DATE:20240115
DTEND;VALUE=DATE:20240116
DTSTAMP:20260423T231117
CREATED:20230606T213319Z
LAST-MODIFIED:20230606T215421Z
UID:9332-1705276800-1705363199@www.noahwebster.org
SUMMARY:Civil Rights Day (No School)
DESCRIPTION:
URL:https://www.noahwebster.org/event/civil-rights-days-no-school/
LOCATION:AZ
CATEGORIES:Holiday
END:VEVENT
BEGIN:VEVENT
DTSTART;VALUE=DATE:20240116
DTEND;VALUE=DATE:20240120
DTSTAMP:20260423T231117
CREATED:20230920T222743Z
LAST-MODIFIED:20230920T223729Z
UID:9601-1705363200-1705708799@www.noahwebster.org
SUMMARY:MESA Spirit Week
DESCRIPTION:
URL:https://www.noahwebster.org/event/mesa-spirit-week-22/
LOCATION:Mesa Campus\, 7301 E. Baseline Road\, Mesa\, AZ\, 85209\, United States
CATEGORIES:School Activity
END:VEVENT
BEGIN:VEVENT
DTSTART;VALUE=DATE:20240116
DTEND;VALUE=DATE:20240120
DTSTAMP:20260423T231117
CREATED:20230920T222809Z
LAST-MODIFIED:20230920T223810Z
UID:9602-1705363200-1705708799@www.noahwebster.org
SUMMARY:PIMA Spirit Week
DESCRIPTION:
URL:https://www.noahwebster.org/event/pima-spirit-week-24/
LOCATION:Pima Campus\, 5399 N. Pima Road\, Scottsdale\, AZ\, 85250\, United States
CATEGORIES:School Activity
END:VEVENT
BEGIN:VEVENT
DTSTART;TZID=America/Phoenix:20240119T083000
DTEND;TZID=America/Phoenix:20240119T090000
DTSTAMP:20260423T231117
CREATED:20231103T184315Z
LAST-MODIFIED:20231103T184315Z
UID:9776-1705653000-1705654800@www.noahwebster.org
SUMMARY:MESA PK-2nd Gr. Pep Assembly
DESCRIPTION:
URL:https://www.noahwebster.org/event/mesa-pk-2nd-gr-pep-assembly-4/
LOCATION:Mesa Campus\, 7301 E. Baseline Road\, Mesa\, AZ\, 85209\, United States
CATEGORIES:General
END:VEVENT
BEGIN:VEVENT
DTSTART;TZID=America/Phoenix:20240119T083000
DTEND;TZID=America/Phoenix:20240119T090000
DTSTAMP:20260423T231117
CREATED:20231103T185353Z
LAST-MODIFIED:20231103T185353Z
UID:9784-1705653000-1705654800@www.noahwebster.org
SUMMARY:PIMA PK-2nd Gr. Pep Assembly
DESCRIPTION:
URL:https://www.noahwebster.org/event/pima-pk-2nd-gr-pep-assembly-4/
LOCATION:Pima Campus\, 5399 N. Pima Road\, Scottsdale\, AZ\, 85250\, United States
CATEGORIES:General
END:VEVENT
BEGIN:VEVENT
DTSTART;VALUE=DATE:20240123
DTEND;VALUE=DATE:20240124
DTSTAMP:20260423T231117
CREATED:20230920T223449Z
LAST-MODIFIED:20230920T223449Z
UID:9603-1705968000-1706054399@www.noahwebster.org
SUMMARY:MESA Spring Picture Day
DESCRIPTION:
URL:https://www.noahwebster.org/event/mesa-spring-picture-day-2/
LOCATION:Mesa Campus\, 7301 E. Baseline Road\, Mesa\, AZ\, 85209\, United States
CATEGORIES:General
END:VEVENT
BEGIN:VEVENT
DTSTART;TZID=America/Phoenix:20240123T163000
DTEND;TZID=America/Phoenix:20240123T163000
DTSTAMP:20260423T231117
CREATED:20240119T193009Z
LAST-MODIFIED:20240119T193635Z
UID:9923-1706027400-1706027400@www.noahwebster.org
SUMMARY:NWS-Mesa Board Meeting
DESCRIPTION:Please click HERE to view the Board Meeting Notification and Agenda.  This meeting will be held virtually.
URL:https://www.noahwebster.org/event/nws-mesa-board-meeting-66/
LOCATION:AZ
CATEGORIES:General
END:VEVENT
BEGIN:VEVENT
DTSTART;TZID=America/Phoenix:20240123T163000
DTEND;TZID=America/Phoenix:20240123T163000
DTSTAMP:20260423T231117
CREATED:20240119T193118Z
LAST-MODIFIED:20240119T193157Z
UID:9924-1706027400-1706027400@www.noahwebster.org
SUMMARY:NWS-Pima Board Meeting
DESCRIPTION:Please click HERE to view the Board Meeting Notification and Agenda.  This meeting will be held virtually.
URL:https://www.noahwebster.org/event/nws-pima-board-meeting-73/
LOCATION:AZ
CATEGORIES:General
END:VEVENT
BEGIN:VEVENT
DTSTART;VALUE=DATE:20240124
DTEND;VALUE=DATE:20240125
DTSTAMP:20260423T231117
CREATED:20230606T213353Z
LAST-MODIFIED:20230606T213353Z
UID:9333-1706054400-1706140799@www.noahwebster.org
SUMMARY:MESA Professional Development Day (Early Dismissal)
DESCRIPTION:
URL:https://www.noahwebster.org/event/mesa-professional-development-day-early-dismissal-81/
LOCATION:Mesa Campus\, 7301 E. Baseline Road\, Mesa\, AZ\, 85209\, United States
CATEGORIES:Early Dismissal
END:VEVENT
BEGIN:VEVENT
DTSTART;VALUE=DATE:20240124
DTEND;VALUE=DATE:20240125
DTSTAMP:20260423T231117
CREATED:20230606T213423Z
LAST-MODIFIED:20230606T213423Z
UID:9334-1706054400-1706140799@www.noahwebster.org
SUMMARY:PIMA Professional Development Day (Early Dismissal)
DESCRIPTION:
URL:https://www.noahwebster.org/event/pima-professional-development-day-early-dismissal-90/
LOCATION:Pima Campus\, 5399 N. Pima Road\, Scottsdale\, AZ\, 85250\, United States
CATEGORIES:Early Dismissal
END:VEVENT
BEGIN:VEVENT
DTSTART;TZID=America/Phoenix:20240125T183000
DTEND;TZID=America/Phoenix:20240125T193000
DTSTAMP:20260423T231117
CREATED:20230920T224129Z
LAST-MODIFIED:20230920T224155Z
UID:9606-1706207400-1706211000@www.noahwebster.org
SUMMARY:PIMA 4th Grade Showcase Night
DESCRIPTION:
URL:https://www.noahwebster.org/event/pima-4th-gr-showcase-night/
LOCATION:Pima Campus\, 5399 N. Pima Road\, Scottsdale\, AZ\, 85250\, United States
CATEGORIES:School Activity
END:VEVENT
BEGIN:VEVENT
DTSTART;TZID=America/Phoenix:20240126T090000
DTEND;TZID=America/Phoenix:20240126T130000
DTSTAMP:20260423T231117
CREATED:20231213T182334Z
LAST-MODIFIED:20231213T182334Z
UID:9856-1706259600-1706274000@www.noahwebster.org
SUMMARY:PIMA 6th Gr. Field Trip
DESCRIPTION:Chandler Center for the Arts
URL:https://www.noahwebster.org/event/pima-6th-gr-field-trip-7/
LOCATION:Chandler Arts Center
CATEGORIES:Field Trip
END:VEVENT
BEGIN:VEVENT
DTSTART;TZID=America/Phoenix:20240129T183000
DTEND;TZID=America/Phoenix:20240129T193000
DTSTAMP:20260423T231117
CREATED:20230920T224239Z
LAST-MODIFIED:20230920T224239Z
UID:9607-1706553000-1706556600@www.noahwebster.org
SUMMARY:MESA 2nd Grade Musical
DESCRIPTION:
URL:https://www.noahwebster.org/event/mesa-2nd-grade-musical/
LOCATION:Mesa Campus\, 7301 E. Baseline Road\, Mesa\, AZ\, 85209\, United States
CATEGORIES:Music
END:VEVENT
BEGIN:VEVENT
DTSTART;TZID=America/Phoenix:20240129T183000
DTEND;TZID=America/Phoenix:20240129T193000
DTSTAMP:20260423T231117
CREATED:20230920T224313Z
LAST-MODIFIED:20230920T224313Z
UID:9608-1706553000-1706556600@www.noahwebster.org
SUMMARY:PIMA 2nd Grade Musical
DESCRIPTION:
URL:https://www.noahwebster.org/event/pima-2nd-grade-musical-3/
LOCATION:Pima Campus\, 5399 N. Pima Road\, Scottsdale\, AZ\, 85250\, United States
CATEGORIES:Music
END:VEVENT
BEGIN:VEVENT
DTSTART;TZID=America/Phoenix:20240131T183000
DTEND;TZID=America/Phoenix:20240131T193000
DTSTAMP:20260423T231117
CREATED:20230920T224358Z
LAST-MODIFIED:20230920T224358Z
UID:9609-1706725800-1706729400@www.noahwebster.org
SUMMARY:MESA 1st Grade Showcase Night
DESCRIPTION:
URL:https://www.noahwebster.org/event/mesa-1st-grade-showcase-night-5/
LOCATION:Mesa Campus\, 7301 E. Baseline Road\, Mesa\, AZ\, 85209\, United States
CATEGORIES:School Activity
END:VEVENT
BEGIN:VEVENT
DTSTART;VALUE=DATE:20240202
DTEND;VALUE=DATE:20240203
DTSTAMP:20260423T231117
CREATED:20231215T230911Z
LAST-MODIFIED:20231215T230911Z
UID:9860-1706832000-1706918399@www.noahwebster.org
SUMMARY:MESA NAEP Assessment (4th Grade)
DESCRIPTION:
URL:https://www.noahwebster.org/event/mesa-naep-assessment-4th-grade-2/
LOCATION:Mesa Campus\, 7301 E. Baseline Road\, Mesa\, AZ\, 85209\, United States
CATEGORIES:General
END:VEVENT
BEGIN:VEVENT
DTSTART;TZID=America/Phoenix:20240202T083000
DTEND;TZID=America/Phoenix:20240202T090000
DTSTAMP:20260423T231117
CREATED:20231103T183753Z
LAST-MODIFIED:20231103T183753Z
UID:9768-1706862600-1706864400@www.noahwebster.org
SUMMARY:MESA 3rd-6th Gr. Pep Assembly
DESCRIPTION:
URL:https://www.noahwebster.org/event/mesa-3rd-6th-gr-pep-assembly-4/
LOCATION:Mesa Campus\, 7301 E. Baseline Road\, Mesa\, AZ\, 85209\, United States
CATEGORIES:General
END:VEVENT
BEGIN:VEVENT
DTSTART;TZID=America/Phoenix:20240202T083000
DTEND;TZID=America/Phoenix:20240202T090000
DTSTAMP:20260423T231117
CREATED:20231103T185953Z
LAST-MODIFIED:20231103T185953Z
UID:9793-1706862600-1706864400@www.noahwebster.org
SUMMARY:PIMA 3rd-6th Gr. Pep Assembly
DESCRIPTION:
URL:https://www.noahwebster.org/event/pima-3rd-6th-gr-pep-assembly-5/
LOCATION:Pima Campus\, 5399 N. Pima Road\, Scottsdale\, AZ\, 85250\, United States
CATEGORIES:General
END:VEVENT
BEGIN:VEVENT
DTSTART;TZID=America/Phoenix:20240202T090000
DTEND;TZID=America/Phoenix:20240202T140000
DTSTAMP:20260423T231117
CREATED:20231213T182244Z
LAST-MODIFIED:20231213T182244Z
UID:9855-1706864400-1706882400@www.noahwebster.org
SUMMARY:MESA 1st Gr. Field Trip
DESCRIPTION:Phoenix Zoo
URL:https://www.noahwebster.org/event/mesa-1st-gr-field-trip-7/
LOCATION:Phoenix Zoo
CATEGORIES:Field Trip
END:VEVENT
END:VCALENDAR