BEGIN:VCALENDAR
VERSION:2.0
PRODID:-//Noah Webster - ECPv6.15.20//NONSGML v1.0//EN
CALSCALE:GREGORIAN
METHOD:PUBLISH
X-WR-CALNAME:Noah Webster
X-ORIGINAL-URL:https://www.noahwebster.org
X-WR-CALDESC:Events for Noah Webster
REFRESH-INTERVAL;VALUE=DURATION:PT1H
X-Robots-Tag:noindex
X-PUBLISHED-TTL:PT1H
BEGIN:VTIMEZONE
TZID:America/Phoenix
BEGIN:STANDARD
TZOFFSETFROM:-0700
TZOFFSETTO:-0700
TZNAME:MST
DTSTART:20240101T000000
END:STANDARD
END:VTIMEZONE
BEGIN:VEVENT
DTSTART;TZID=America/Phoenix:20250731T083000
DTEND;TZID=America/Phoenix:20250731T083000
DTSTAMP:20260423T082631
CREATED:20250618T203323Z
LAST-MODIFIED:20250618T203323Z
UID:10851-1753950600-1753950600@www.noahwebster.org
SUMMARY:PIMA First Day of School
DESCRIPTION:School begins promptly at 8:30 a.m.
URL:https://www.noahwebster.org/event/pima-first-day-of-school-7/
LOCATION:Pima Campus\, 5399 N. Pima Road\, Scottsdale\, AZ\, 85250\, United States
CATEGORIES:General
END:VEVENT
BEGIN:VEVENT
DTSTART;TZID=America/Phoenix:20250731T083000
DTEND;TZID=America/Phoenix:20250731T083000
DTSTAMP:20260423T082631
CREATED:20250618T203105Z
LAST-MODIFIED:20250618T203105Z
UID:10850-1753950600-1753950600@www.noahwebster.org
SUMMARY:MESA First Day of School
DESCRIPTION:School begins promptly at 8:30 a.m.
URL:https://www.noahwebster.org/event/mesa-first-day-of-school-6/
LOCATION:Mesa Campus\, 7301 E. Baseline Road\, Mesa\, AZ\, 85209\, United States
CATEGORIES:General
END:VEVENT
BEGIN:VEVENT
DTSTART;VALUE=DATE:20250731
DTEND;VALUE=DATE:20250801
DTSTAMP:20260423T082631
CREATED:20250806T223734Z
LAST-MODIFIED:20250806T223734Z
UID:11013-1753920000-1754006399@www.noahwebster.org
SUMMARY:After School Programs: Session 1 Begins
DESCRIPTION:
URL:https://www.noahwebster.org/event/after-school-programs-session-1-begins-3/
CATEGORIES:After School Program
END:VEVENT
BEGIN:VEVENT
DTSTART;TZID=America/Phoenix:20250729T170000
DTEND;TZID=America/Phoenix:20250729T183000
DTSTAMP:20260423T082631
CREATED:20250618T202902Z
LAST-MODIFIED:20250701T190928Z
UID:10848-1753808400-1753813800@www.noahwebster.org
SUMMARY:PIMA Open House
DESCRIPTION:
URL:https://www.noahwebster.org/event/pima-open-house-8/
LOCATION:Pima Campus\, 5399 N. Pima Road\, Scottsdale\, AZ\, 85250\, United States
CATEGORIES:General
END:VEVENT
BEGIN:VEVENT
DTSTART;TZID=America/Phoenix:20250728T170000
DTEND;TZID=America/Phoenix:20250728T183000
DTSTAMP:20260423T082631
CREATED:20250618T202816Z
LAST-MODIFIED:20250701T190859Z
UID:10847-1753722000-1753727400@www.noahwebster.org
SUMMARY:MESA Open House
DESCRIPTION:
URL:https://www.noahwebster.org/event/mesa-open-house-8/
LOCATION:Mesa Campus\, 7301 E. Baseline Road\, Mesa\, AZ\, 85209\, United States
CATEGORIES:General
END:VEVENT
BEGIN:VEVENT
DTSTART;TZID=America/Phoenix:20250716T163000
DTEND;TZID=America/Phoenix:20250716T163000
DTSTAMP:20260423T082631
CREATED:20250714T200334Z
LAST-MODIFIED:20250714T200334Z
UID:10973-1752683400-1752683400@www.noahwebster.org
SUMMARY:NWS-Pima Board Meeting
DESCRIPTION:Please click HERE to view the Board Meeting Notification and Agenda.
URL:https://www.noahwebster.org/event/nws-pima-board-meeting-91/
LOCATION:Noah Webster Schools Corporate Offices\, 5399 N. Pima Road\, Scottsdale\, AZ\, 85250\, United States
CATEGORIES:General
END:VEVENT
BEGIN:VEVENT
DTSTART;TZID=America/Phoenix:20250716T163000
DTEND;TZID=America/Phoenix:20250716T163000
DTSTAMP:20260423T082631
CREATED:20250714T195304Z
LAST-MODIFIED:20250714T195320Z
UID:10972-1752683400-1752683400@www.noahwebster.org
SUMMARY:NWS-Mesa Board Meeting
DESCRIPTION:Please click HERE to view the Board Meeting Notification and Agenda.
URL:https://www.noahwebster.org/event/nws-mesa-board-meeting-84/
LOCATION:Noah Webster Schools Corporate Offices\, 5399 N. Pima Road\, Scottsdale\, AZ\, 85250\, United States
CATEGORIES:General
END:VEVENT
BEGIN:VEVENT
DTSTART;TZID=America/Phoenix:20250710T163000
DTEND;TZID=America/Phoenix:20250710T163000
DTSTAMP:20260423T082631
CREATED:20250626T194209Z
LAST-MODIFIED:20250708T051805Z
UID:10944-1752165000-1752165000@www.noahwebster.org
SUMMARY:NWS-Pima Board Meeting
DESCRIPTION:Please click HERE to view the Board Meeting Notification and Agenda. This meeting will be held virtually.
URL:https://www.noahwebster.org/event/nws-pima-board-meeting-90/
LOCATION:Noah Webster Schools Corporate Offices\, 5399 N. Pima Road\, Scottsdale\, AZ\, 85250\, United States
CATEGORIES:General
END:VEVENT
BEGIN:VEVENT
DTSTART;TZID=America/Phoenix:20250710T163000
DTEND;TZID=America/Phoenix:20250710T163000
DTSTAMP:20260423T082631
CREATED:20250626T193905Z
LAST-MODIFIED:20250708T051647Z
UID:10943-1752165000-1752165000@www.noahwebster.org
SUMMARY:NWS-Mesa Board Meeting
DESCRIPTION:Please click HERE to view the Board Meeting Notification and Agenda. This meeting will be held virtually.
URL:https://www.noahwebster.org/event/nws-mesa-board-meeting-83/
CATEGORIES:General
END:VEVENT
BEGIN:VEVENT
DTSTART;TZID=America/Phoenix:20250624T163000
DTEND;TZID=America/Phoenix:20250624T163000
DTSTAMP:20260423T082631
CREATED:20250623T214309Z
LAST-MODIFIED:20250623T214309Z
UID:10855-1750782600-1750782600@www.noahwebster.org
SUMMARY:NWS-Pima Board Meeting
DESCRIPTION:Please click HERE to view the Board Meeting Notification and Agenda.  This meeting will be held virtually.
URL:https://www.noahwebster.org/event/nws-pima-board-meeting-89/
CATEGORIES:General
END:VEVENT
BEGIN:VEVENT
DTSTART;TZID=America/Phoenix:20250624T163000
DTEND;TZID=America/Phoenix:20250624T163000
DTSTAMP:20260423T082631
CREATED:20250623T214054Z
LAST-MODIFIED:20250623T214054Z
UID:10854-1750782600-1750782600@www.noahwebster.org
SUMMARY:NWS-Mesa Board Meeting
DESCRIPTION:Please click HERE to view the Board Meeting Notification and Agenda.  This meeting will be held virtually.
URL:https://www.noahwebster.org/event/nws-mesa-board-meeting-82/
CATEGORIES:General
END:VEVENT
BEGIN:VEVENT
DTSTART;VALUE=DATE:20250523
DTEND;VALUE=DATE:20250524
DTSTAMP:20260423T082631
CREATED:20240816T211230Z
LAST-MODIFIED:20240816T211410Z
UID:10271-1747958400-1748044799@www.noahwebster.org
SUMMARY:PIMA Last Day of School (Early Dismissal)
DESCRIPTION:
URL:https://www.noahwebster.org/event/pima-last-day-of-school-early-dismissal-6/
LOCATION:Pima Campus\, 5399 N. Pima Road\, Scottsdale\, AZ\, 85250\, United States
CATEGORIES:Early Dismissal
END:VEVENT
BEGIN:VEVENT
DTSTART;VALUE=DATE:20250523
DTEND;VALUE=DATE:20250524
DTSTAMP:20260423T082631
CREATED:20240816T211153Z
LAST-MODIFIED:20240816T211153Z
UID:10270-1747958400-1748044799@www.noahwebster.org
SUMMARY:MESA Last Day of School (Early Dismissal)
DESCRIPTION:
URL:https://www.noahwebster.org/event/mesa-last-day-of-school-early-dismissal-6/
LOCATION:Mesa Campus\, 7301 E. Baseline Road\, Mesa\, AZ\, 85209\, United States
CATEGORIES:Early Dismissal
END:VEVENT
BEGIN:VEVENT
DTSTART;VALUE=DATE:20250522
DTEND;VALUE=DATE:20250523
DTSTAMP:20260423T082631
CREATED:20240830T193947Z
LAST-MODIFIED:20240830T193947Z
UID:10439-1747872000-1747958399@www.noahwebster.org
SUMMARY:PIMA Water Day
DESCRIPTION:
URL:https://www.noahwebster.org/event/pima-water-day-7/
LOCATION:Pima Campus\, 5399 N. Pima Road\, Scottsdale\, AZ\, 85250\, United States
CATEGORIES:School Activity
END:VEVENT
BEGIN:VEVENT
DTSTART;VALUE=DATE:20250522
DTEND;VALUE=DATE:20250523
DTSTAMP:20260423T082631
CREATED:20240830T193914Z
LAST-MODIFIED:20240830T193914Z
UID:10438-1747872000-1747958399@www.noahwebster.org
SUMMARY:MESA Water Day
DESCRIPTION:
URL:https://www.noahwebster.org/event/mesa-water-day-9/
LOCATION:Mesa Campus\, 7301 E. Baseline Road\, Mesa\, AZ\, 85209\, United States
CATEGORIES:School Activity
END:VEVENT
BEGIN:VEVENT
DTSTART;TZID=America/Phoenix:20250521T163000
DTEND;TZID=America/Phoenix:20250521T163000
DTSTAMP:20260423T082631
CREATED:20250519T210833Z
LAST-MODIFIED:20250519T210833Z
UID:10833-1747845000-1747845000@www.noahwebster.org
SUMMARY:NWS-Pima Board Meeting
DESCRIPTION:Please click HERE to view the Board Meeting Notification and Agenda.
URL:https://www.noahwebster.org/event/nws-pima-board-meeting-88/
LOCATION:Noah Webster Schools Corporate Offices\, 5399 N. Pima Road\, Scottsdale\, AZ\, 85250\, United States
CATEGORIES:General
END:VEVENT
BEGIN:VEVENT
DTSTART;TZID=America/Phoenix:20250521T163000
DTEND;TZID=America/Phoenix:20250521T163000
DTSTAMP:20260423T082631
CREATED:20250519T210742Z
LAST-MODIFIED:20250519T210856Z
UID:10832-1747845000-1747845000@www.noahwebster.org
SUMMARY:NWS-Mesa Board Meeting
DESCRIPTION:Please click HERE to view the Board Meeting Notification and Agenda.
URL:https://www.noahwebster.org/event/nws-mesa-board-meeting-81/
LOCATION:Noah Webster Schools Corporate Offices\, 5399 N. Pima Road\, Scottsdale\, AZ\, 85250\, United States
CATEGORIES:General
END:VEVENT
BEGIN:VEVENT
DTSTART;TZID=America/Phoenix:20250521T131500
DTEND;TZID=America/Phoenix:20250521T140000
DTSTAMP:20260423T082631
CREATED:20240830T193822Z
LAST-MODIFIED:20250509T182639Z
UID:10437-1747833300-1747836000@www.noahwebster.org
SUMMARY:PIMA 6th & 7th Gr. Recognition Assembly
DESCRIPTION:
URL:https://www.noahwebster.org/event/pima-6th-7th-gr-recognition-assembly/
LOCATION:Pima Campus\, 5399 N. Pima Road\, Scottsdale\, AZ\, 85250\, United States
CATEGORIES:General
END:VEVENT
BEGIN:VEVENT
DTSTART;TZID=America/Phoenix:20250521T131500
DTEND;TZID=America/Phoenix:20250521T140000
DTSTAMP:20260423T082631
CREATED:20240830T193645Z
LAST-MODIFIED:20240830T205255Z
UID:10435-1747833300-1747836000@www.noahwebster.org
SUMMARY:MESA 6th/7th Gr. Recognition Assembly
DESCRIPTION:
URL:https://www.noahwebster.org/event/mesa-6th-7th-gr-recognition-assembly/
LOCATION:Mesa Campus\, 7301 E. Baseline Road\, Mesa\, AZ\, 85209\, United States
CATEGORIES:General
END:VEVENT
BEGIN:VEVENT
DTSTART;TZID=America/Phoenix:20250521T084500
DTEND;TZID=America/Phoenix:20250521T093000
DTSTAMP:20260423T082631
CREATED:20240830T193735Z
LAST-MODIFIED:20240830T205304Z
UID:10436-1747817100-1747819800@www.noahwebster.org
SUMMARY:PIMA 3rd Gr. Recognition Assembly
DESCRIPTION:
URL:https://www.noahwebster.org/event/pima-3rd-gr-recognition-assembly-2/
LOCATION:Pima Campus\, 5399 N. Pima Road\, Scottsdale\, AZ\, 85250\, United States
CATEGORIES:General
END:VEVENT
BEGIN:VEVENT
DTSTART;TZID=America/Phoenix:20250521T084500
DTEND;TZID=America/Phoenix:20250521T093000
DTSTAMP:20260423T082631
CREATED:20240830T193558Z
LAST-MODIFIED:20240830T205249Z
UID:10434-1747817100-1747819800@www.noahwebster.org
SUMMARY:MESA 3rd Gr. Recognition Assembly
DESCRIPTION:
URL:https://www.noahwebster.org/event/mesa-3rd-gr-recognition-assembly-2/
LOCATION:Mesa Campus\, 7301 E. Baseline Road\, Mesa\, AZ\, 85209\, United States
CATEGORIES:General
END:VEVENT
BEGIN:VEVENT
DTSTART;TZID=America/Phoenix:20250520T183000
DTEND;TZID=America/Phoenix:20250520T193000
DTSTAMP:20260423T082631
CREATED:20240830T194121Z
LAST-MODIFIED:20240830T194121Z
UID:10441-1747765800-1747769400@www.noahwebster.org
SUMMARY:PIMA Pre-Kindergarten Graduation
DESCRIPTION:
URL:https://www.noahwebster.org/event/pima-pre-kindergarten-graduation-8/
LOCATION:Pima Campus\, 5399 N. Pima Road\, Scottsdale\, AZ\, 85250\, United States
CATEGORIES:School Activity
END:VEVENT
BEGIN:VEVENT
DTSTART;TZID=America/Phoenix:20250520T183000
DTEND;TZID=America/Phoenix:20250520T193000
DTSTAMP:20260423T082631
CREATED:20240830T194034Z
LAST-MODIFIED:20240830T194034Z
UID:10440-1747765800-1747769400@www.noahwebster.org
SUMMARY:MESA Pre-Kindergarten Graduation
DESCRIPTION:
URL:https://www.noahwebster.org/event/mesa-pre-kindergarten-graduation-8/
LOCATION:Mesa Campus\, 7301 E. Baseline Road\, Mesa\, AZ\, 85209\, United States
CATEGORIES:School Activity
END:VEVENT
BEGIN:VEVENT
DTSTART;TZID=America/Phoenix:20250520T131500
DTEND;TZID=America/Phoenix:20250520T140000
DTSTAMP:20260423T082631
CREATED:20250509T182811Z
LAST-MODIFIED:20250509T182811Z
UID:10821-1747746900-1747749600@www.noahwebster.org
SUMMARY:PIMA 5th Gr. Recognition Assembly
DESCRIPTION:
URL:https://www.noahwebster.org/event/pima-5th-gr-recognition-assembly-2/
LOCATION:Pima Campus\, 5399 N. Pima Road\, Scottsdale\, AZ\, 85250\, United States
CATEGORIES:General
END:VEVENT
BEGIN:VEVENT
DTSTART;TZID=America/Phoenix:20250520T131500
DTEND;TZID=America/Phoenix:20250520T140000
DTSTAMP:20260423T082631
CREATED:20240830T193326Z
LAST-MODIFIED:20240830T205230Z
UID:10431-1747746900-1747749600@www.noahwebster.org
SUMMARY:MESA 5th Gr. Recognition Assembly
DESCRIPTION:
URL:https://www.noahwebster.org/event/mesa-5th-gr-recognition-assembly-2/
LOCATION:Mesa Campus\, 7301 E. Baseline Road\, Mesa\, AZ\, 85209\, United States
CATEGORIES:General
END:VEVENT
BEGIN:VEVENT
DTSTART;TZID=America/Phoenix:20250520T101500
DTEND;TZID=America/Phoenix:20250520T123000
DTSTAMP:20260423T082631
CREATED:20250415T232338Z
LAST-MODIFIED:20250415T232338Z
UID:10778-1747736100-1747744200@www.noahwebster.org
SUMMARY:MESA 6th/7th Gr. Field Trip
DESCRIPTION:Organ Stop Pizza
URL:https://www.noahwebster.org/event/mesa-6th-7th-gr-field-trip-4/
LOCATION:Organ Stop Pizza
CATEGORIES:Field Trip
END:VEVENT
BEGIN:VEVENT
DTSTART;TZID=America/Phoenix:20250520T084500
DTEND;TZID=America/Phoenix:20250520T093000
DTSTAMP:20260423T082631
CREATED:20240830T193415Z
LAST-MODIFIED:20240830T205238Z
UID:10432-1747730700-1747733400@www.noahwebster.org
SUMMARY:PIMA 2nd Gr. Recognition Assembly
DESCRIPTION:
URL:https://www.noahwebster.org/event/pima-2nd-gr-recognition-assembly-2/
LOCATION:Pima Campus\, 5399 N. Pima Road\, Scottsdale\, AZ\, 85250\, United States
CATEGORIES:General
END:VEVENT
BEGIN:VEVENT
DTSTART;TZID=America/Phoenix:20250520T084500
DTEND;TZID=America/Phoenix:20250520T093000
DTSTAMP:20260423T082631
CREATED:20240830T193238Z
LAST-MODIFIED:20240830T205223Z
UID:10430-1747730700-1747733400@www.noahwebster.org
SUMMARY:MESA 2nd Gr. Recognition Assembly
DESCRIPTION:
URL:https://www.noahwebster.org/event/mesa-2nd-gr-recognition-assembly-2/
LOCATION:Mesa Campus\, 7301 E. Baseline Road\, Mesa\, AZ\, 85209\, United States
CATEGORIES:General
END:VEVENT
BEGIN:VEVENT
DTSTART;TZID=America/Phoenix:20250519T131500
DTEND;TZID=America/Phoenix:20250519T140000
DTSTAMP:20260423T082631
CREATED:20240830T192502Z
LAST-MODIFIED:20240830T205217Z
UID:10429-1747660500-1747663200@www.noahwebster.org
SUMMARY:PIMA 4th Gr. Recognition Assembly
DESCRIPTION:
URL:https://www.noahwebster.org/event/pima-4th-gr-recognition-assembly-2/
LOCATION:Pima Campus\, 5399 N. Pima Road\, Scottsdale\, AZ\, 85250\, United States
CATEGORIES:General
END:VEVENT
BEGIN:VEVENT
DTSTART;TZID=America/Phoenix:20250519T131500
DTEND;TZID=America/Phoenix:20250519T140000
DTSTAMP:20260423T082631
CREATED:20240830T192336Z
LAST-MODIFIED:20240830T205204Z
UID:10427-1747660500-1747663200@www.noahwebster.org
SUMMARY:MESA 4th Gr. Recognition Assembly
DESCRIPTION:
URL:https://www.noahwebster.org/event/mesa-4th-gr-recognition-assembly-2/
LOCATION:Mesa Campus\, 7301 E. Baseline Road\, Mesa\, AZ\, 85209\, United States
CATEGORIES:General
END:VEVENT
END:VCALENDAR