BEGIN:VCALENDAR
VERSION:2.0
PRODID:-//Noah Webster - ECPv6.15.20//NONSGML v1.0//EN
CALSCALE:GREGORIAN
METHOD:PUBLISH
X-ORIGINAL-URL:https://www.noahwebster.org
X-WR-CALDESC:Events for Noah Webster
REFRESH-INTERVAL;VALUE=DURATION:PT1H
X-Robots-Tag:noindex
X-PUBLISHED-TTL:PT1H
BEGIN:VTIMEZONE
TZID:America/Phoenix
BEGIN:STANDARD
TZOFFSETFROM:-0700
TZOFFSETTO:-0700
TZNAME:MST
DTSTART:20210101T000000
END:STANDARD
END:VTIMEZONE
BEGIN:VTIMEZONE
TZID:UTC
BEGIN:STANDARD
TZOFFSETFROM:+0000
TZOFFSETTO:+0000
TZNAME:UTC
DTSTART:20210101T000000
END:STANDARD
END:VTIMEZONE
BEGIN:VEVENT
DTSTART;TZID=America/Phoenix:20221018T070000
DTEND;TZID=America/Phoenix:20221018T080000
DTSTAMP:20260423T042602
CREATED:20220819T060729Z
LAST-MODIFIED:20220819T063816Z
UID:8705-1666076400-1666080000@www.noahwebster.org
SUMMARY:PIMA Breakfast with Grandparents
DESCRIPTION:This event required pre-ordered tickets.
URL:https://www.noahwebster.org/event/pima-breakfast-with-grandparents/
LOCATION:Pima Campus\, 5399 N. Pima Road\, Scottsdale\, AZ\, 85250\, United States
CATEGORIES:School Activity
END:VEVENT
BEGIN:VEVENT
DTSTART;VALUE=DATE:20221017
DTEND;VALUE=DATE:20221022
DTSTAMP:20260423T042602
CREATED:20220819T060610Z
LAST-MODIFIED:20220819T060610Z
UID:8704-1665964800-1666396799@www.noahwebster.org
SUMMARY:PIMA Scholastic Book Fair
DESCRIPTION:
URL:https://www.noahwebster.org/event/pima-scholastic-book-fair-11/
LOCATION:Pima Campus\, 5399 N. Pima Road\, Scottsdale\, AZ\, 85250\, United States
CATEGORIES:School Activity
END:VEVENT
BEGIN:VEVENT
DTSTART;TZID=America/Phoenix:20221012T183000
DTEND;TZID=America/Phoenix:20221012T193000
DTSTAMP:20260423T042602
CREATED:20220819T060452Z
LAST-MODIFIED:20220819T060452Z
UID:8703-1665599400-1665603000@www.noahwebster.org
SUMMARY:MESA Reading Under the Stars
DESCRIPTION:
URL:https://www.noahwebster.org/event/mesa-reading-under-the-stars-2/
LOCATION:Mesa Campus\, 7301 E. Baseline Road\, Mesa\, AZ\, 85209\, United States
CATEGORIES:School Activity
END:VEVENT
BEGIN:VEVENT
DTSTART;TZID=America/Phoenix:20221011T070000
DTEND;TZID=America/Phoenix:20221011T080000
DTSTAMP:20260423T042602
CREATED:20220819T055950Z
LAST-MODIFIED:20220819T063653Z
UID:8702-1665471600-1665475200@www.noahwebster.org
SUMMARY:MESA Breakfast with Grandparents
DESCRIPTION:This event requires pre-ordered tickets.
URL:https://www.noahwebster.org/event/mesa-breakfast-with-grandparents/
LOCATION:Mesa Campus\, 7301 E. Baseline Road\, Mesa\, AZ\, 85209\, United States
CATEGORIES:School Activity
END:VEVENT
BEGIN:VEVENT
DTSTART;VALUE=DATE:20221010
DTEND;VALUE=DATE:20221015
DTSTAMP:20260423T042602
CREATED:20220819T055811Z
LAST-MODIFIED:20220819T055811Z
UID:8701-1665360000-1665791999@www.noahwebster.org
SUMMARY:MESA Scholastic Book Fair
DESCRIPTION:
URL:https://www.noahwebster.org/event/mesa-scholastic-book-fair-11/
LOCATION:Mesa Campus\, 7301 E. Baseline Road\, Mesa\, AZ\, 85209\, United States
CATEGORIES:School Activity
END:VEVENT
BEGIN:VEVENT
DTSTART;VALUE=DATE:20220822
DTEND;VALUE=DATE:20220827
DTSTAMP:20260423T042602
CREATED:20220816T220641Z
LAST-MODIFIED:20220816T220641Z
UID:8637-1661126400-1661558399@www.noahwebster.org
SUMMARY:PIMA Spirit Week
DESCRIPTION:
URL:https://www.noahwebster.org/event/pima-spirit-week-18/
LOCATION:Pima Campus\, 5399 N. Pima Road\, Scottsdale\, AZ\, 85250\, United States
CATEGORIES:School Activity
END:VEVENT
BEGIN:VEVENT
DTSTART;VALUE=DATE:20220822
DTEND;VALUE=DATE:20220827
DTSTAMP:20260423T042602
CREATED:20220816T220540Z
LAST-MODIFIED:20220816T220540Z
UID:8635-1661126400-1661558399@www.noahwebster.org
SUMMARY:MESA Spirit Week
DESCRIPTION:
URL:https://www.noahwebster.org/event/mesa-spirit-week-16/
LOCATION:Mesa Campus\, 7301 E. Baseline Road\, Mesa\, AZ\, 85209\, United States
CATEGORIES:School Activity
END:VEVENT
BEGIN:VEVENT
DTSTART;VALUE=DATE:20220518
DTEND;VALUE=DATE:20220519
DTSTAMP:20260423T042602
CREATED:20220408T204116Z
LAST-MODIFIED:20220408T204116Z
UID:8464-1652832000-1652918399@www.noahwebster.org
SUMMARY:PIMA Water Day
DESCRIPTION:
URL:https://www.noahwebster.org/event/pima-water-day-4/
LOCATION:Pima Campus\, 5399 N. Pima Road\, Scottsdale\, AZ\, 85250\, United States
CATEGORIES:School Activity
END:VEVENT
BEGIN:VEVENT
DTSTART;VALUE=DATE:20220518
DTEND;VALUE=DATE:20220519
DTSTAMP:20260423T042602
CREATED:20220408T204041Z
LAST-MODIFIED:20220408T204041Z
UID:8463-1652832000-1652918399@www.noahwebster.org
SUMMARY:MESA Water Day
DESCRIPTION:
URL:https://www.noahwebster.org/event/mesa-water-day-6/
LOCATION:Mesa Campus\, 7301 E. Baseline Road\, Mesa\, AZ\, 85209\, United States
CATEGORIES:School Activity
END:VEVENT
BEGIN:VEVENT
DTSTART;TZID=UTC:20220517T183000
DTEND;TZID=UTC:20220517T193000
DTSTAMP:20260423T042602
CREATED:20220408T203954Z
LAST-MODIFIED:20220408T203954Z
UID:8462-1652812200-1652815800@www.noahwebster.org
SUMMARY:PIMA Pre-Kindergarten Graduation
DESCRIPTION:
URL:https://www.noahwebster.org/event/pima-pre-kindergarten-graduation-6/
LOCATION:Pima Campus\, 5399 N. Pima Road\, Scottsdale\, AZ\, 85250\, United States
CATEGORIES:School Activity
END:VEVENT
BEGIN:VEVENT
DTSTART;TZID=UTC:20220517T183000
DTEND;TZID=UTC:20220517T193000
DTSTAMP:20260423T042602
CREATED:20220408T203851Z
LAST-MODIFIED:20220408T203851Z
UID:8461-1652812200-1652815800@www.noahwebster.org
SUMMARY:MESA Pre-Kindergarten Graduation
DESCRIPTION:
URL:https://www.noahwebster.org/event/mesa-pre-kindergarten-graduation-6/
LOCATION:Mesa Campus\, 7301 E. Baseline Road\, Mesa\, AZ\, 85209\, United States
CATEGORIES:School Activity
END:VEVENT
BEGIN:VEVENT
DTSTART;TZID=UTC:20220517T131500
DTEND;TZID=UTC:20220517T140000
DTSTAMP:20260423T042602
CREATED:20220408T203659Z
LAST-MODIFIED:20220408T203659Z
UID:8460-1652793300-1652796000@www.noahwebster.org
SUMMARY:PIMA 3rd Grade Awards Assembly
DESCRIPTION:
URL:https://www.noahwebster.org/event/pima-3rd-grade-awards-assembly-3/
LOCATION:Pima Campus\, 5399 N. Pima Road\, Scottsdale\, AZ\, 85250\, United States
CATEGORIES:School Activity
END:VEVENT
BEGIN:VEVENT
DTSTART;TZID=UTC:20220517T131500
DTEND;TZID=UTC:20220517T140000
DTSTAMP:20260423T042602
CREATED:20220408T203418Z
LAST-MODIFIED:20220408T203418Z
UID:8457-1652793300-1652796000@www.noahwebster.org
SUMMARY:MESA 3rd Grade Awards Assembly
DESCRIPTION:
URL:https://www.noahwebster.org/event/mesa-3rd-grade-awards-assembly-3/
LOCATION:Mesa Campus\, 7301 E. Baseline Road\, Mesa\, AZ\, 85209\, United States
CATEGORIES:School Activity
END:VEVENT
BEGIN:VEVENT
DTSTART;TZID=UTC:20220517T094500
DTEND;TZID=UTC:20220517T103000
DTSTAMP:20260423T042602
CREATED:20220408T203559Z
LAST-MODIFIED:20220408T203559Z
UID:8459-1652780700-1652783400@www.noahwebster.org
SUMMARY:PIMA 5th Grade Awards Assembly
DESCRIPTION:
URL:https://www.noahwebster.org/event/pima-5th-grade-awards-assembly-3/
LOCATION:Pima Campus\, 5399 N. Pima Road\, Scottsdale\, AZ\, 85250\, United States
CATEGORIES:School Activity
END:VEVENT
BEGIN:VEVENT
DTSTART;TZID=UTC:20220517T094500
DTEND;TZID=UTC:20220517T103000
DTSTAMP:20260423T042602
CREATED:20220408T203304Z
LAST-MODIFIED:20220408T203304Z
UID:8456-1652780700-1652783400@www.noahwebster.org
SUMMARY:MESA 5th Grade Awards Assembly
DESCRIPTION:
URL:https://www.noahwebster.org/event/mesa-5th-grade-awards-assembly-3/
LOCATION:Mesa Campus\, 7301 E. Baseline Road\, Mesa\, AZ\, 85209\, United States
CATEGORIES:School Activity
END:VEVENT
BEGIN:VEVENT
DTSTART;TZID=UTC:20220517T084500
DTEND;TZID=UTC:20220517T093000
DTSTAMP:20260423T042602
CREATED:20220408T203508Z
LAST-MODIFIED:20220408T203508Z
UID:8458-1652777100-1652779800@www.noahwebster.org
SUMMARY:PIMA 2nd Grade Awards Assembly
DESCRIPTION:
URL:https://www.noahwebster.org/event/pima-2nd-grade-awards-assembly-3/
LOCATION:Pima Campus\, 5399 N. Pima Road\, Scottsdale\, AZ\, 85250\, United States
CATEGORIES:School Activity
END:VEVENT
BEGIN:VEVENT
DTSTART;TZID=UTC:20220517T084500
DTEND;TZID=UTC:20220517T093000
DTSTAMP:20260423T042602
CREATED:20220408T203219Z
LAST-MODIFIED:20220408T203219Z
UID:8455-1652777100-1652779800@www.noahwebster.org
SUMMARY:MESA 2nd Grade Awards Assembly
DESCRIPTION:
URL:https://www.noahwebster.org/event/mesa-2nd-grade-awards-assembly-3/
LOCATION:Mesa Campus\, 7301 E. Baseline Road\, Mesa\, AZ\, 85209\, United States
CATEGORIES:School Activity
END:VEVENT
BEGIN:VEVENT
DTSTART;TZID=UTC:20220516T183000
DTEND;TZID=UTC:20220516T193000
DTSTAMP:20260423T042602
CREATED:20220408T203117Z
LAST-MODIFIED:20220408T203117Z
UID:8454-1652725800-1652729400@www.noahwebster.org
SUMMARY:PIMA 6th Grade Graduation
DESCRIPTION:
URL:https://www.noahwebster.org/event/pima-6th-grade-graduation-5/
LOCATION:Pima Campus\, 5399 N. Pima Road\, Scottsdale\, AZ\, 85250\, United States
CATEGORIES:School Activity
END:VEVENT
BEGIN:VEVENT
DTSTART;TZID=UTC:20220516T130000
DTEND;TZID=UTC:20220516T140000
DTSTAMP:20260423T042602
CREATED:20220408T202921Z
LAST-MODIFIED:20220408T202921Z
UID:8453-1652706000-1652709600@www.noahwebster.org
SUMMARY:PIMA Pre-K Water Day
DESCRIPTION:
URL:https://www.noahwebster.org/event/pima-pre-k-water-day-2/
LOCATION:Pima Campus\, 5399 N. Pima Road\, Scottsdale\, AZ\, 85250\, United States
CATEGORIES:School Activity
END:VEVENT
BEGIN:VEVENT
DTSTART;TZID=UTC:20220516T130000
DTEND;TZID=UTC:20220516T140000
DTSTAMP:20260423T042602
CREATED:20220408T202821Z
LAST-MODIFIED:20220408T202821Z
UID:8452-1652706000-1652709600@www.noahwebster.org
SUMMARY:MESA Pre-K Water Day
DESCRIPTION:
URL:https://www.noahwebster.org/event/mesa-pre-k-water-day-2/
LOCATION:Mesa Campus\, 7301 E. Baseline Road\, Mesa\, AZ\, 85209\, United States
CATEGORIES:School Activity
END:VEVENT
BEGIN:VEVENT
DTSTART;TZID=UTC:20220516T094500
DTEND;TZID=UTC:20220516T103000
DTSTAMP:20260423T042602
CREATED:20220408T202726Z
LAST-MODIFIED:20220408T202726Z
UID:8451-1652694300-1652697000@www.noahwebster.org
SUMMARY:PIMA 4th Grade Awards Assembly
DESCRIPTION:
URL:https://www.noahwebster.org/event/pima-4th-grade-awards-assembly-3/
LOCATION:Pima Campus\, 5399 N. Pima Road\, Scottsdale\, AZ\, 85250\, United States
CATEGORIES:School Activity
END:VEVENT
BEGIN:VEVENT
DTSTART;TZID=UTC:20220516T094500
DTEND;TZID=UTC:20220516T103000
DTSTAMP:20260423T042602
CREATED:20220408T202533Z
LAST-MODIFIED:20220408T202533Z
UID:8449-1652694300-1652697000@www.noahwebster.org
SUMMARY:MESA 4th Grade Awards Assembly
DESCRIPTION:
URL:https://www.noahwebster.org/event/mesa-4th-grade-awards-assembly-3/
LOCATION:Mesa Campus\, 7301 E. Baseline Road\, Mesa\, AZ\, 85209\, United States
CATEGORIES:School Activity
END:VEVENT
BEGIN:VEVENT
DTSTART;TZID=UTC:20220516T084500
DTEND;TZID=UTC:20220516T093000
DTSTAMP:20260423T042602
CREATED:20220408T202629Z
LAST-MODIFIED:20220408T202629Z
UID:8450-1652690700-1652693400@www.noahwebster.org
SUMMARY:PIMA 1st Grade Awards Assembly
DESCRIPTION:
URL:https://www.noahwebster.org/event/pima-1st-grade-awards-assembly-3/
LOCATION:Pima Campus\, 5399 N. Pima Road\, Scottsdale\, AZ\, 85250\, United States
CATEGORIES:School Activity
END:VEVENT
BEGIN:VEVENT
DTSTART;TZID=UTC:20220516T084500
DTEND;TZID=UTC:20220516T093000
DTSTAMP:20260423T042602
CREATED:20220408T202350Z
LAST-MODIFIED:20220408T202350Z
UID:8448-1652690700-1652693400@www.noahwebster.org
SUMMARY:MESA 1st Grade Awards Assembly
DESCRIPTION:
URL:https://www.noahwebster.org/event/mesa-1st-grade-awards-assembly-3/
LOCATION:Mesa Campus\, 7301 E. Baseline Road\, Mesa\, AZ\, 85209\, United States
CATEGORIES:School Activity
END:VEVENT
BEGIN:VEVENT
DTSTART;TZID=UTC:20220513T131500
DTEND;TZID=UTC:20220513T141500
DTSTAMP:20260423T042602
CREATED:20220408T201910Z
LAST-MODIFIED:20220408T201910Z
UID:8447-1652447700-1652451300@www.noahwebster.org
SUMMARY:PIMA Kindergarten Graduation
DESCRIPTION:
URL:https://www.noahwebster.org/event/pima-kindergarten-graduation-4/
LOCATION:Pima Campus\, 5399 N. Pima Road\, Scottsdale\, AZ\, 85250\, United States
CATEGORIES:School Activity
END:VEVENT
BEGIN:VEVENT
DTSTART;TZID=UTC:20220512T183000
DTEND;TZID=UTC:20220512T193000
DTSTAMP:20260423T042602
CREATED:20220408T200933Z
LAST-MODIFIED:20220408T200933Z
UID:8446-1652380200-1652383800@www.noahwebster.org
SUMMARY:MESA 6th Grade Graduation
DESCRIPTION:
URL:https://www.noahwebster.org/event/mesa-6th-grade-graduation-7/
LOCATION:Mesa Campus\, 7301 E. Baseline Road\, Mesa\, AZ\, 85209\, United States
CATEGORIES:School Activity
END:VEVENT
BEGIN:VEVENT
DTSTART;TZID=UTC:20220510T131500
DTEND;TZID=UTC:20220510T141500
DTSTAMP:20260423T042602
CREATED:20220408T200712Z
LAST-MODIFIED:20220408T200712Z
UID:8445-1652188500-1652192100@www.noahwebster.org
SUMMARY:MESA Kindergarten Graduation
DESCRIPTION:
URL:https://www.noahwebster.org/event/mesa-kindergarten-graduation-4/
LOCATION:Mesa Campus\, 7301 E. Baseline Road\, Mesa\, AZ\, 85209\, United States
CATEGORIES:School Activity
END:VEVENT
BEGIN:VEVENT
DTSTART;TZID=America/Phoenix:20220505T070000
DTEND;TZID=America/Phoenix:20220505T080000
DTSTAMP:20260423T042602
CREATED:20220408T200513Z
LAST-MODIFIED:20220408T200513Z
UID:8443-1651734000-1651737600@www.noahwebster.org
SUMMARY:PIMA Breakfast with Parents (M-Z)
DESCRIPTION:This event requires pre-ordered tickets.  To help accommodate all who would like to attend\, the event is divided by last name: M-Z
URL:https://www.noahwebster.org/event/pima-breakfast-with-parents-m-z/
LOCATION:Pima Campus\, 5399 N. Pima Road\, Scottsdale\, AZ\, 85250\, United States
CATEGORIES:School Activity
END:VEVENT
BEGIN:VEVENT
DTSTART;TZID=UTC:20220504T070000
DTEND;TZID=UTC:20220504T080000
DTSTAMP:20260423T042602
CREATED:20220408T200359Z
LAST-MODIFIED:20220408T200359Z
UID:8444-1651647600-1651651200@www.noahwebster.org
SUMMARY:PIMA Breakfast with Parents (A-L)
DESCRIPTION:This event requires pre-ordered tickets.  To help accommodate all who would like to attend\, the event is divided by last name: A-L
URL:https://www.noahwebster.org/event/pima-breakfast-with-parents-a-l/
LOCATION:Pima Campus\, 5399 N. Pima Road\, Scottsdale\, AZ\, 85250\, United States
CATEGORIES:School Activity
END:VEVENT
BEGIN:VEVENT
DTSTART;VALUE=DATE:20220503
DTEND;VALUE=DATE:20220507
DTSTAMP:20260423T042602
CREATED:20220408T200201Z
LAST-MODIFIED:20220408T200201Z
UID:8442-1651536000-1651881599@www.noahwebster.org
SUMMARY:PIMA Scholastic Book Fair
DESCRIPTION:
URL:https://www.noahwebster.org/event/pima-scholastic-book-fair-10/
LOCATION:Pima Campus\, 5399 N. Pima Road\, Scottsdale\, AZ\, 85250\, United States
CATEGORIES:School Activity
END:VEVENT
END:VCALENDAR