BEGIN:VCALENDAR
VERSION:2.0
PRODID:-//Noah Webster - ECPv6.15.20//NONSGML v1.0//EN
CALSCALE:GREGORIAN
METHOD:PUBLISH
X-WR-CALNAME:Noah Webster
X-ORIGINAL-URL:https://www.noahwebster.org
X-WR-CALDESC:Events for Noah Webster
REFRESH-INTERVAL;VALUE=DURATION:PT1H
X-Robots-Tag:noindex
X-PUBLISHED-TTL:PT1H
BEGIN:VTIMEZONE
TZID:America/Phoenix
BEGIN:STANDARD
TZOFFSETFROM:-0700
TZOFFSETTO:-0700
TZNAME:MST
DTSTART:20250101T000000
END:STANDARD
END:VTIMEZONE
BEGIN:VEVENT
DTSTART;VALUE=DATE:20260302
DTEND;VALUE=DATE:20260307
DTSTAMP:20260421T092554
CREATED:20250916T212350Z
LAST-MODIFIED:20250916T212350Z
UID:11163-1772409600-1772841599@www.noahwebster.org
SUMMARY:MESA Spirit Week
DESCRIPTION:
URL:https://www.noahwebster.org/event/mesa-spirit-week-31/
LOCATION:Mesa Campus\, 7301 E. Baseline Road\, Mesa\, AZ\, 85209\, United States
CATEGORIES:School Activity
END:VEVENT
BEGIN:VEVENT
DTSTART;VALUE=DATE:20260302
DTEND;VALUE=DATE:20260307
DTSTAMP:20260421T092554
CREATED:20250916T212446Z
LAST-MODIFIED:20250916T212446Z
UID:11164-1772409600-1772841599@www.noahwebster.org
SUMMARY:PIMA Spirit Week
DESCRIPTION:
URL:https://www.noahwebster.org/event/pima-spirit-week-33/
LOCATION:Pima Campus\, 5399 N. Pima Road\, Scottsdale\, AZ\, 85250\, United States
CATEGORIES:School Activity
END:VEVENT
BEGIN:VEVENT
DTSTART;VALUE=DATE:20260303
DTEND;VALUE=DATE:20260304
DTSTAMP:20260421T092554
CREATED:20250916T212601Z
LAST-MODIFIED:20260224T214939Z
UID:11166-1772496000-1772582399@www.noahwebster.org
SUMMARY:MESA Field Days
DESCRIPTION:Grades:\n\n1st Grade\n3rd Grade\n5th Grade\nPre-Kindergarten
URL:https://www.noahwebster.org/event/mesa-field-days-8/
LOCATION:Mesa Campus\, 7301 E. Baseline Road\, Mesa\, AZ\, 85209\, United States
CATEGORIES:School Activity
END:VEVENT
BEGIN:VEVENT
DTSTART;TZID=America/Phoenix:20260303T180000
DTEND;TZID=America/Phoenix:20260303T190000
DTSTAMP:20260421T092554
CREATED:20250916T212758Z
LAST-MODIFIED:20251027T223037Z
UID:11169-1772560800-1772564400@www.noahwebster.org
SUMMARY:MESA KG Showcase Night
DESCRIPTION:
URL:https://www.noahwebster.org/event/mesa-kg-showcase-night-2/
LOCATION:Mesa Campus\, 7301 E. Baseline Road\, Mesa\, AZ\, 85209\, United States
CATEGORIES:School Activity
END:VEVENT
BEGIN:VEVENT
DTSTART;VALUE=DATE:20260304
DTEND;VALUE=DATE:20260305
DTSTAMP:20260421T092554
CREATED:20250916T212640Z
LAST-MODIFIED:20250916T212640Z
UID:11167-1772582400-1772668799@www.noahwebster.org
SUMMARY:PIMA Field Days
DESCRIPTION:
URL:https://www.noahwebster.org/event/pima-field-days-7/
LOCATION:Pima Campus\, 5399 N. Pima Road\, Scottsdale\, AZ\, 85250\, United States
CATEGORIES:School Activity
END:VEVENT
BEGIN:VEVENT
DTSTART;VALUE=DATE:20260305
DTEND;VALUE=DATE:20260306
DTSTAMP:20260421T092554
CREATED:20250916T212526Z
LAST-MODIFIED:20260224T215219Z
UID:11165-1772668800-1772755199@www.noahwebster.org
SUMMARY:MESA Field Days
DESCRIPTION:Grades:\n\n2nd Grade\n4th Grade\n6th-8th Grade\nKindergarten
URL:https://www.noahwebster.org/event/mesa-field-days-7/
LOCATION:Mesa Campus\, 7301 E. Baseline Road\, Mesa\, AZ\, 85209\, United States
CATEGORIES:School Activity
END:VEVENT
BEGIN:VEVENT
DTSTART;VALUE=DATE:20260305
DTEND;VALUE=DATE:20260306
DTSTAMP:20260421T092554
CREATED:20250916T212707Z
LAST-MODIFIED:20250916T212707Z
UID:11168-1772668800-1772755199@www.noahwebster.org
SUMMARY:PIMA Field Days
DESCRIPTION:
URL:https://www.noahwebster.org/event/pima-field-days-8/
LOCATION:Pima Campus\, 5399 N. Pima Road\, Scottsdale\, AZ\, 85250\, United States
CATEGORIES:School Activity
END:VEVENT
END:VCALENDAR