BEGIN:VCALENDAR
VERSION:2.0
PRODID:-//Noah Webster - ECPv6.15.20//NONSGML v1.0//EN
CALSCALE:GREGORIAN
METHOD:PUBLISH
X-ORIGINAL-URL:https://www.noahwebster.org
X-WR-CALDESC:Events for Noah Webster
REFRESH-INTERVAL;VALUE=DURATION:PT1H
X-Robots-Tag:noindex
X-PUBLISHED-TTL:PT1H
BEGIN:VTIMEZONE
TZID:America/Phoenix
BEGIN:STANDARD
TZOFFSETFROM:-0700
TZOFFSETTO:-0700
TZNAME:MST
DTSTART:20250101T000000
END:STANDARD
END:VTIMEZONE
BEGIN:VEVENT
DTSTART;VALUE=DATE:20260112
DTEND;VALUE=DATE:20260117
DTSTAMP:20260423T022159
CREATED:20250916T204525Z
LAST-MODIFIED:20250918T205433Z
UID:11141-1768176000-1768607999@www.noahwebster.org
SUMMARY:MESA Spirit Week
DESCRIPTION:
URL:https://www.noahwebster.org/event/mesa-spirit-week-30/
LOCATION:Mesa Campus\, 7301 E. Baseline Road\, Mesa\, AZ\, 85209\, United States
CATEGORIES:School Activity
END:VEVENT
BEGIN:VEVENT
DTSTART;VALUE=DATE:20260112
DTEND;VALUE=DATE:20260117
DTSTAMP:20260423T022159
CREATED:20250916T204559Z
LAST-MODIFIED:20250918T205436Z
UID:11142-1768176000-1768607999@www.noahwebster.org
SUMMARY:PIMA Spirit Week
DESCRIPTION:
URL:https://www.noahwebster.org/event/pima-spirit-week-32/
LOCATION:Pima Campus\, 5399 N. Pima Road\, Scottsdale\, AZ\, 85250\, United States
CATEGORIES:School Activity
END:VEVENT
BEGIN:VEVENT
DTSTART;TZID=America/Phoenix:20260113T180000
DTEND;TZID=America/Phoenix:20260113T190000
DTSTAMP:20260423T022159
CREATED:20250916T200913Z
LAST-MODIFIED:20251028T174517Z
UID:11120-1768327200-1768330800@www.noahwebster.org
SUMMARY:MESA Spelling Bee: Semi-Finals
DESCRIPTION:
URL:https://www.noahwebster.org/event/mesa-semi-finals-spelling-bee/
LOCATION:Mesa Campus\, 7301 E. Baseline Road\, Mesa\, AZ\, 85209\, United States
CATEGORIES:School Activity
END:VEVENT
BEGIN:VEVENT
DTSTART;TZID=America/Phoenix:20260113T180000
DTEND;TZID=America/Phoenix:20260113T190000
DTSTAMP:20260423T022159
CREATED:20250916T201048Z
LAST-MODIFIED:20251028T174610Z
UID:11121-1768327200-1768330800@www.noahwebster.org
SUMMARY:PIMA Spelling Bee: Semi-Finals
DESCRIPTION:
URL:https://www.noahwebster.org/event/pima-spelling-bee-semi-finals-8/
LOCATION:Pima Campus\, 5399 N. Pima Road\, Scottsdale\, AZ\, 85250\, United States
CATEGORIES:School Activity
END:VEVENT
BEGIN:VEVENT
DTSTART;TZID=America/Phoenix:20260115T180000
DTEND;TZID=America/Phoenix:20260115T190000
DTSTAMP:20260423T022159
CREATED:20250916T201153Z
LAST-MODIFIED:20251028T174639Z
UID:11122-1768500000-1768503600@www.noahwebster.org
SUMMARY:NWS Spelling Bee: Finals
DESCRIPTION:The Spelling Bee Finals will take place at Noah Webster Schools-Pima.
URL:https://www.noahwebster.org/event/nws-spelling-bee-finals/
LOCATION:Pima Campus\, 5399 N. Pima Road\, Scottsdale\, AZ\, 85250\, United States
CATEGORIES:School Activity
END:VEVENT
BEGIN:VEVENT
DTSTART;TZID=America/Phoenix:20260121T173000
DTEND;TZID=America/Phoenix:20260121T193000
DTSTAMP:20260423T022159
CREATED:20250916T205248Z
LAST-MODIFIED:20250918T205524Z
UID:11149-1769016600-1769023800@www.noahwebster.org
SUMMARY:PIMA Showcase Night (KG-8th Grades)
DESCRIPTION:
URL:https://www.noahwebster.org/event/pima-showcase-night-kg-8th-grades/
LOCATION:Pima Campus\, 5399 N. Pima Road\, Scottsdale\, AZ\, 85250\, United States
CATEGORIES:School Activity
END:VEVENT
END:VCALENDAR